BEGIN:VCALENDAR
VERSION:2.0
PRODID:-//PalmValleyCommunityAssociation - ECPv6.15.20//NONSGML v1.0//EN
CALSCALE:GREGORIAN
METHOD:PUBLISH
X-ORIGINAL-URL:https://palmvalleycommunity.org
X-WR-CALDESC:Events for PalmValleyCommunityAssociation
REFRESH-INTERVAL;VALUE=DURATION:PT1H
X-Robots-Tag:noindex
X-PUBLISHED-TTL:PT1H
BEGIN:VTIMEZONE
TZID:America/New_York
BEGIN:DAYLIGHT
TZOFFSETFROM:-0500
TZOFFSETTO:-0400
TZNAME:EDT
DTSTART:20250309T070000
END:DAYLIGHT
BEGIN:STANDARD
TZOFFSETFROM:-0400
TZOFFSETTO:-0500
TZNAME:EST
DTSTART:20251102T060000
END:STANDARD
BEGIN:DAYLIGHT
TZOFFSETFROM:-0500
TZOFFSETTO:-0400
TZNAME:EDT
DTSTART:20260308T070000
END:DAYLIGHT
BEGIN:STANDARD
TZOFFSETFROM:-0400
TZOFFSETTO:-0500
TZNAME:EST
DTSTART:20261101T060000
END:STANDARD
BEGIN:DAYLIGHT
TZOFFSETFROM:-0500
TZOFFSETTO:-0400
TZNAME:EDT
DTSTART:20270314T070000
END:DAYLIGHT
BEGIN:STANDARD
TZOFFSETFROM:-0400
TZOFFSETTO:-0500
TZNAME:EST
DTSTART:20271107T060000
END:STANDARD
END:VTIMEZONE
BEGIN:VEVENT
DTSTART;TZID=America/New_York:20260802T080000
DTEND;TZID=America/New_York:20260802T130000
DTSTAMP:20260422T190058
CREATED:20251208T142749Z
LAST-MODIFIED:20251208T142749Z
UID:10003842-1785657600-1785675600@palmvalleycommunity.org
SUMMARY:First Babtist Church of Ponte Vedra
DESCRIPTION:
URL:https://palmvalleycommunity.org/event/first-babtist-church-of-ponte-vedra/2026-08-02/
LOCATION:Palm Valley Community Association Center\, 148 Canal Blvd.\, Ponte Vedra Beach\, FL\, 32082\, United States
END:VEVENT
BEGIN:VEVENT
DTSTART;TZID=America/New_York:20260804T100000
DTEND;TZID=America/New_York:20260804T130000
DTSTAMP:20260422T190059
CREATED:20240517T224306Z
LAST-MODIFIED:20240517T224618Z
UID:10002926-1785837600-1785848400@palmvalleycommunity.org
SUMMARY:Palm Valley Farmers Market
DESCRIPTION:Join us each Tuesday from 10 AM – 1 PM (summer hours)\, rain or shine at the Palm Valley Community Center. We will have a variety of vendors to offer fresh produce\, baked goods\, sweet treats\, handcrafted jewelry\, skincare items\, starter plants/veggies and more! Make sure you follow the new Palm Valley Market for updated vendor listings. See you at the Market! \n 
URL:https://palmvalleycommunity.org/event/palm-valley-mini-farmers-market-2-2-2/2026-08-04/
LOCATION:Palm Valley Community Association Center\, 148 Canal Blvd.\, Ponte Vedra Beach\, FL\, 32082\, United States
ATTACH;FMTTYPE=image/jpeg:https://palmvalleycommunity.org/wp-content/uploads/2022/04/Palm-Valley-FM-Veggie-Banner_summer-scaled.jpg
ORGANIZER;CN="Events Committee":MAILTO:palmvalleycommunitycenter@gmail.com
END:VEVENT
BEGIN:VEVENT
DTSTART;TZID=America/New_York:20260804T164500
DTEND;TZID=America/New_York:20260804T181500
DTSTAMP:20260422T190059
CREATED:20250825T201026Z
LAST-MODIFIED:20250825T201026Z
UID:10003623-1785861900-1785867300@palmvalleycommunity.org
SUMMARY:Martial Arts Class
DESCRIPTION:
URL:https://palmvalleycommunity.org/event/martial-arts-class/2026-08-04/
LOCATION:Palm Valley Community Association Center\, 148 Canal Blvd.\, Ponte Vedra Beach\, FL\, 32082\, United States
END:VEVENT
BEGIN:VEVENT
DTSTART;TZID=America/New_York:20260806T164500
DTEND;TZID=America/New_York:20260806T181500
DTSTAMP:20260422T190059
CREATED:20250825T201026Z
LAST-MODIFIED:20250825T201026Z
UID:10003624-1786034700-1786040100@palmvalleycommunity.org
SUMMARY:Martial Arts Class
DESCRIPTION:
URL:https://palmvalleycommunity.org/event/martial-arts-class/2026-08-06/
LOCATION:Palm Valley Community Association Center\, 148 Canal Blvd.\, Ponte Vedra Beach\, FL\, 32082\, United States
END:VEVENT
BEGIN:VEVENT
DTSTART;TZID=America/New_York:20260807T110000
DTEND;TZID=America/New_York:20260807T130000
DTSTAMP:20260422T190059
CREATED:20240102T195150Z
LAST-MODIFIED:20240102T195150Z
UID:10002665-1786100400-1786107600@palmvalleycommunity.org
SUMMARY:AA Event
DESCRIPTION:
URL:https://palmvalleycommunity.org/event/aa-event/2026-08-07/
LOCATION:FL
END:VEVENT
BEGIN:VEVENT
DTSTART;TZID=America/New_York:20260809T080000
DTEND;TZID=America/New_York:20260809T130000
DTSTAMP:20260422T190059
CREATED:20251208T142749Z
LAST-MODIFIED:20251208T142749Z
UID:10003843-1786262400-1786280400@palmvalleycommunity.org
SUMMARY:First Babtist Church of Ponte Vedra
DESCRIPTION:
URL:https://palmvalleycommunity.org/event/first-babtist-church-of-ponte-vedra/2026-08-09/
LOCATION:Palm Valley Community Association Center\, 148 Canal Blvd.\, Ponte Vedra Beach\, FL\, 32082\, United States
END:VEVENT
BEGIN:VEVENT
DTSTART;TZID=America/New_York:20260810T183000
DTEND;TZID=America/New_York:20260810T203000
DTSTAMP:20260422T190059
CREATED:20250215T170616Z
LAST-MODIFIED:20250413T205550Z
UID:10003340-1786386600-1786393800@palmvalleycommunity.org
SUMMARY:PVCA Board Meeting
DESCRIPTION:
URL:https://palmvalleycommunity.org/event/pvca-board-meeting-5/2026-08-10/
LOCATION:Palm Valley Community Association Center\, 148 Canal Blvd.\, Ponte Vedra Beach\, FL\, 32082\, United States
END:VEVENT
BEGIN:VEVENT
DTSTART;TZID=America/New_York:20260811T100000
DTEND;TZID=America/New_York:20260811T130000
DTSTAMP:20260422T190059
CREATED:20240517T224306Z
LAST-MODIFIED:20240517T224618Z
UID:10002927-1786442400-1786453200@palmvalleycommunity.org
SUMMARY:Palm Valley Farmers Market
DESCRIPTION:Join us each Tuesday from 10 AM – 1 PM (summer hours)\, rain or shine at the Palm Valley Community Center. We will have a variety of vendors to offer fresh produce\, baked goods\, sweet treats\, handcrafted jewelry\, skincare items\, starter plants/veggies and more! Make sure you follow the new Palm Valley Market for updated vendor listings. See you at the Market! \n 
URL:https://palmvalleycommunity.org/event/palm-valley-mini-farmers-market-2-2-2/2026-08-11/
LOCATION:Palm Valley Community Association Center\, 148 Canal Blvd.\, Ponte Vedra Beach\, FL\, 32082\, United States
ATTACH;FMTTYPE=image/jpeg:https://palmvalleycommunity.org/wp-content/uploads/2022/04/Palm-Valley-FM-Veggie-Banner_summer-scaled.jpg
ORGANIZER;CN="Events Committee":MAILTO:palmvalleycommunitycenter@gmail.com
END:VEVENT
BEGIN:VEVENT
DTSTART;TZID=America/New_York:20260811T164500
DTEND;TZID=America/New_York:20260811T181500
DTSTAMP:20260422T190059
CREATED:20250825T201026Z
LAST-MODIFIED:20250825T201026Z
UID:10003625-1786466700-1786472100@palmvalleycommunity.org
SUMMARY:Martial Arts Class
DESCRIPTION:
URL:https://palmvalleycommunity.org/event/martial-arts-class/2026-08-11/
LOCATION:Palm Valley Community Association Center\, 148 Canal Blvd.\, Ponte Vedra Beach\, FL\, 32082\, United States
END:VEVENT
BEGIN:VEVENT
DTSTART;TZID=America/New_York:20260813T164500
DTEND;TZID=America/New_York:20260813T181500
DTSTAMP:20260422T190059
CREATED:20250825T201026Z
LAST-MODIFIED:20250825T201026Z
UID:10003626-1786639500-1786644900@palmvalleycommunity.org
SUMMARY:Martial Arts Class
DESCRIPTION:
URL:https://palmvalleycommunity.org/event/martial-arts-class/2026-08-13/
LOCATION:Palm Valley Community Association Center\, 148 Canal Blvd.\, Ponte Vedra Beach\, FL\, 32082\, United States
END:VEVENT
BEGIN:VEVENT
DTSTART;TZID=America/New_York:20260814T110000
DTEND;TZID=America/New_York:20260814T130000
DTSTAMP:20260422T190059
CREATED:20240102T195150Z
LAST-MODIFIED:20240102T195150Z
UID:10002666-1786705200-1786712400@palmvalleycommunity.org
SUMMARY:AA Event
DESCRIPTION:
URL:https://palmvalleycommunity.org/event/aa-event/2026-08-14/
LOCATION:FL
END:VEVENT
BEGIN:VEVENT
DTSTART;TZID=America/New_York:20260816T080000
DTEND;TZID=America/New_York:20260816T130000
DTSTAMP:20260422T190059
CREATED:20251208T142749Z
LAST-MODIFIED:20251208T142749Z
UID:10003844-1786867200-1786885200@palmvalleycommunity.org
SUMMARY:First Babtist Church of Ponte Vedra
DESCRIPTION:
URL:https://palmvalleycommunity.org/event/first-babtist-church-of-ponte-vedra/2026-08-16/
LOCATION:Palm Valley Community Association Center\, 148 Canal Blvd.\, Ponte Vedra Beach\, FL\, 32082\, United States
END:VEVENT
BEGIN:VEVENT
DTSTART;TZID=America/New_York:20260816T123000
DTEND;TZID=America/New_York:20260816T153000
DTSTAMP:20260422T190059
CREATED:20260116T210630Z
LAST-MODIFIED:20260116T210630Z
UID:10003893-1786883400-1786894200@palmvalleycommunity.org
SUMMARY:Family Bible event
DESCRIPTION:
URL:https://palmvalleycommunity.org/event/family-bible-event-7/2026-08-16/
LOCATION:Palm Valley Community Association Center\, 148 Canal Blvd.\, Ponte Vedra Beach\, FL\, 32082\, United States
END:VEVENT
BEGIN:VEVENT
DTSTART;TZID=America/New_York:20260818T100000
DTEND;TZID=America/New_York:20260818T130000
DTSTAMP:20260422T190059
CREATED:20240517T224306Z
LAST-MODIFIED:20240517T224618Z
UID:10002928-1787047200-1787058000@palmvalleycommunity.org
SUMMARY:Palm Valley Farmers Market
DESCRIPTION:Join us each Tuesday from 10 AM – 1 PM (summer hours)\, rain or shine at the Palm Valley Community Center. We will have a variety of vendors to offer fresh produce\, baked goods\, sweet treats\, handcrafted jewelry\, skincare items\, starter plants/veggies and more! Make sure you follow the new Palm Valley Market for updated vendor listings. See you at the Market! \n 
URL:https://palmvalleycommunity.org/event/palm-valley-mini-farmers-market-2-2-2/2026-08-18/
LOCATION:Palm Valley Community Association Center\, 148 Canal Blvd.\, Ponte Vedra Beach\, FL\, 32082\, United States
ATTACH;FMTTYPE=image/jpeg:https://palmvalleycommunity.org/wp-content/uploads/2022/04/Palm-Valley-FM-Veggie-Banner_summer-scaled.jpg
ORGANIZER;CN="Events Committee":MAILTO:palmvalleycommunitycenter@gmail.com
END:VEVENT
BEGIN:VEVENT
DTSTART;TZID=America/New_York:20260818T164500
DTEND;TZID=America/New_York:20260818T181500
DTSTAMP:20260422T190059
CREATED:20250825T201026Z
LAST-MODIFIED:20250825T201026Z
UID:10003627-1787071500-1787076900@palmvalleycommunity.org
SUMMARY:Martial Arts Class
DESCRIPTION:
URL:https://palmvalleycommunity.org/event/martial-arts-class/2026-08-18/
LOCATION:Palm Valley Community Association Center\, 148 Canal Blvd.\, Ponte Vedra Beach\, FL\, 32082\, United States
END:VEVENT
BEGIN:VEVENT
DTSTART;TZID=America/New_York:20260820T164500
DTEND;TZID=America/New_York:20260820T181500
DTSTAMP:20260422T190059
CREATED:20250825T201026Z
LAST-MODIFIED:20250825T201026Z
UID:10003628-1787244300-1787249700@palmvalleycommunity.org
SUMMARY:Martial Arts Class
DESCRIPTION:
URL:https://palmvalleycommunity.org/event/martial-arts-class/2026-08-20/
LOCATION:Palm Valley Community Association Center\, 148 Canal Blvd.\, Ponte Vedra Beach\, FL\, 32082\, United States
END:VEVENT
BEGIN:VEVENT
DTSTART;TZID=America/New_York:20260820T181500
DTEND;TZID=America/New_York:20260820T201500
DTSTAMP:20260422T190059
CREATED:20251216T135642Z
LAST-MODIFIED:20251216T135642Z
UID:10003876-1787249700-1787256900@palmvalleycommunity.org
SUMMARY:Diane Dew District 4 Event
DESCRIPTION:
URL:https://palmvalleycommunity.org/event/diane-dew-district-4-event/2026-08-20/
LOCATION:Palm Valley Community Association Center\, 148 Canal Blvd.\, Ponte Vedra Beach\, FL\, 32082\, United States
END:VEVENT
BEGIN:VEVENT
DTSTART;TZID=America/New_York:20260821T110000
DTEND;TZID=America/New_York:20260821T130000
DTSTAMP:20260422T190059
CREATED:20240102T195150Z
LAST-MODIFIED:20240102T195150Z
UID:10002667-1787310000-1787317200@palmvalleycommunity.org
SUMMARY:AA Event
DESCRIPTION:
URL:https://palmvalleycommunity.org/event/aa-event/2026-08-21/
LOCATION:FL
END:VEVENT
BEGIN:VEVENT
DTSTART;TZID=America/New_York:20260823T080000
DTEND;TZID=America/New_York:20260823T130000
DTSTAMP:20260422T190059
CREATED:20251208T142749Z
LAST-MODIFIED:20251208T142749Z
UID:10003845-1787472000-1787490000@palmvalleycommunity.org
SUMMARY:First Babtist Church of Ponte Vedra
DESCRIPTION:
URL:https://palmvalleycommunity.org/event/first-babtist-church-of-ponte-vedra/2026-08-23/
LOCATION:Palm Valley Community Association Center\, 148 Canal Blvd.\, Ponte Vedra Beach\, FL\, 32082\, United States
END:VEVENT
BEGIN:VEVENT
DTSTART;TZID=America/New_York:20260825T100000
DTEND;TZID=America/New_York:20260825T130000
DTSTAMP:20260422T190059
CREATED:20240517T224306Z
LAST-MODIFIED:20240517T224618Z
UID:10002929-1787652000-1787662800@palmvalleycommunity.org
SUMMARY:Palm Valley Farmers Market
DESCRIPTION:Join us each Tuesday from 10 AM – 1 PM (summer hours)\, rain or shine at the Palm Valley Community Center. We will have a variety of vendors to offer fresh produce\, baked goods\, sweet treats\, handcrafted jewelry\, skincare items\, starter plants/veggies and more! Make sure you follow the new Palm Valley Market for updated vendor listings. See you at the Market! \n 
URL:https://palmvalleycommunity.org/event/palm-valley-mini-farmers-market-2-2-2/2026-08-25/
LOCATION:Palm Valley Community Association Center\, 148 Canal Blvd.\, Ponte Vedra Beach\, FL\, 32082\, United States
ATTACH;FMTTYPE=image/jpeg:https://palmvalleycommunity.org/wp-content/uploads/2022/04/Palm-Valley-FM-Veggie-Banner_summer-scaled.jpg
ORGANIZER;CN="Events Committee":MAILTO:palmvalleycommunitycenter@gmail.com
END:VEVENT
BEGIN:VEVENT
DTSTART;TZID=America/New_York:20260825T164500
DTEND;TZID=America/New_York:20260825T181500
DTSTAMP:20260422T190059
CREATED:20250825T201026Z
LAST-MODIFIED:20250825T201026Z
UID:10003629-1787676300-1787681700@palmvalleycommunity.org
SUMMARY:Martial Arts Class
DESCRIPTION:
URL:https://palmvalleycommunity.org/event/martial-arts-class/2026-08-25/
LOCATION:Palm Valley Community Association Center\, 148 Canal Blvd.\, Ponte Vedra Beach\, FL\, 32082\, United States
END:VEVENT
BEGIN:VEVENT
DTSTART;TZID=America/New_York:20260827T164500
DTEND;TZID=America/New_York:20260827T181500
DTSTAMP:20260422T190059
CREATED:20250825T201026Z
LAST-MODIFIED:20250825T201026Z
UID:10003630-1787849100-1787854500@palmvalleycommunity.org
SUMMARY:Martial Arts Class
DESCRIPTION:
URL:https://palmvalleycommunity.org/event/martial-arts-class/2026-08-27/
LOCATION:Palm Valley Community Association Center\, 148 Canal Blvd.\, Ponte Vedra Beach\, FL\, 32082\, United States
END:VEVENT
BEGIN:VEVENT
DTSTART;TZID=America/New_York:20260828T110000
DTEND;TZID=America/New_York:20260828T130000
DTSTAMP:20260422T190059
CREATED:20240102T195150Z
LAST-MODIFIED:20240102T195150Z
UID:10002668-1787914800-1787922000@palmvalleycommunity.org
SUMMARY:AA Event
DESCRIPTION:
URL:https://palmvalleycommunity.org/event/aa-event/2026-08-28/
LOCATION:FL
END:VEVENT
BEGIN:VEVENT
DTSTART;TZID=America/New_York:20260830T080000
DTEND;TZID=America/New_York:20260830T130000
DTSTAMP:20260422T190059
CREATED:20251208T142749Z
LAST-MODIFIED:20251208T142749Z
UID:10003846-1788076800-1788094800@palmvalleycommunity.org
SUMMARY:First Babtist Church of Ponte Vedra
DESCRIPTION:
URL:https://palmvalleycommunity.org/event/first-babtist-church-of-ponte-vedra/2026-08-30/
LOCATION:Palm Valley Community Association Center\, 148 Canal Blvd.\, Ponte Vedra Beach\, FL\, 32082\, United States
END:VEVENT
END:VCALENDAR