BEGIN:VCALENDAR
VERSION:2.0
PRODID:-//PalmValleyCommunityAssociation - ECPv6.15.20//NONSGML v1.0//EN
CALSCALE:GREGORIAN
METHOD:PUBLISH
X-WR-CALNAME:PalmValleyCommunityAssociation
X-ORIGINAL-URL:https://palmvalleycommunity.org
X-WR-CALDESC:Events for PalmValleyCommunityAssociation
REFRESH-INTERVAL;VALUE=DURATION:PT1H
X-Robots-Tag:noindex
X-PUBLISHED-TTL:PT1H
BEGIN:VTIMEZONE
TZID:America/New_York
BEGIN:DAYLIGHT
TZOFFSETFROM:-0500
TZOFFSETTO:-0400
TZNAME:EDT
DTSTART:20250309T070000
END:DAYLIGHT
BEGIN:STANDARD
TZOFFSETFROM:-0400
TZOFFSETTO:-0500
TZNAME:EST
DTSTART:20251102T060000
END:STANDARD
BEGIN:DAYLIGHT
TZOFFSETFROM:-0500
TZOFFSETTO:-0400
TZNAME:EDT
DTSTART:20260308T070000
END:DAYLIGHT
BEGIN:STANDARD
TZOFFSETFROM:-0400
TZOFFSETTO:-0500
TZNAME:EST
DTSTART:20261101T060000
END:STANDARD
BEGIN:DAYLIGHT
TZOFFSETFROM:-0500
TZOFFSETTO:-0400
TZNAME:EDT
DTSTART:20270314T070000
END:DAYLIGHT
BEGIN:STANDARD
TZOFFSETFROM:-0400
TZOFFSETTO:-0500
TZNAME:EST
DTSTART:20271107T060000
END:STANDARD
END:VTIMEZONE
BEGIN:VEVENT
DTSTART;TZID=America/New_York:20260219T093000
DTEND;TZID=America/New_York:20260219T113000
DTSTAMP:20260423T002745
CREATED:20251201T014310Z
LAST-MODIFIED:20251201T014310Z
UID:10003796-1771493400-1771500600@palmvalleycommunity.org
SUMMARY:Home School Music Classes by Studio L
DESCRIPTION:
URL:https://palmvalleycommunity.org/event/home-school-music-classes-by-studio-l-2/2026-02-19/
LOCATION:Palm Valley Community Association Center\, 148 Canal Blvd.\, Ponte Vedra Beach\, FL\, 32082\, United States
END:VEVENT
BEGIN:VEVENT
DTSTART;TZID=America/New_York:20260218T173000
DTEND;TZID=America/New_York:20260218T203000
DTSTAMP:20260423T002745
CREATED:20251004T163908Z
LAST-MODIFIED:20251004T163908Z
UID:10003688-1771435800-1771446600@palmvalleycommunity.org
SUMMARY:Mumford Academy of Irish Dance
DESCRIPTION:
URL:https://palmvalleycommunity.org/event/mumford-academy-of-irish-dance-2/2026-02-18/
LOCATION:Palm Valley Community Association Center\, 148 Canal Blvd.\, Ponte Vedra Beach\, FL\, 32082\, United States
END:VEVENT
BEGIN:VEVENT
DTSTART;TZID=America/New_York:20260217T164500
DTEND;TZID=America/New_York:20260217T181500
DTSTAMP:20260423T002745
CREATED:20250825T201026Z
LAST-MODIFIED:20250825T201026Z
UID:10003575-1771346700-1771352100@palmvalleycommunity.org
SUMMARY:Martial Arts Class
DESCRIPTION:
URL:https://palmvalleycommunity.org/event/martial-arts-class/2026-02-17/
LOCATION:Palm Valley Community Association Center\, 148 Canal Blvd.\, Ponte Vedra Beach\, FL\, 32082\, United States
END:VEVENT
BEGIN:VEVENT
DTSTART;TZID=America/New_York:20260217T100000
DTEND;TZID=America/New_York:20260217T130000
DTSTAMP:20260423T002745
CREATED:20240517T224306Z
LAST-MODIFIED:20240517T224618Z
UID:10002902-1771322400-1771333200@palmvalleycommunity.org
SUMMARY:Palm Valley Farmers Market
DESCRIPTION:Join us each Tuesday from 10 AM – 1 PM (summer hours)\, rain or shine at the Palm Valley Community Center. We will have a variety of vendors to offer fresh produce\, baked goods\, sweet treats\, handcrafted jewelry\, skincare items\, starter plants/veggies and more! Make sure you follow the new Palm Valley Market for updated vendor listings. See you at the Market! \n 
URL:https://palmvalleycommunity.org/event/palm-valley-mini-farmers-market-2-2-2/2026-02-17/
LOCATION:Palm Valley Community Association Center\, 148 Canal Blvd.\, Ponte Vedra Beach\, FL\, 32082\, United States
ATTACH;FMTTYPE=image/jpeg:https://palmvalleycommunity.org/wp-content/uploads/2022/04/Palm-Valley-FM-Veggie-Banner_summer-scaled.jpg
ORGANIZER;CN="Events Committee":MAILTO:palmvalleycommunitycenter@gmail.com
END:VEVENT
BEGIN:VEVENT
DTSTART;TZID=America/New_York:20260216T080000
DTEND;TZID=America/New_York:20260216T170000
DTSTAMP:20260423T002745
CREATED:20251009T140339Z
LAST-MODIFIED:20251009T140339Z
UID:10003762-1771228800-1771261200@palmvalleycommunity.org
SUMMARY:Branches of Christ Church
DESCRIPTION:
URL:https://palmvalleycommunity.org/event/branches-of-christ-church-34/2026-02-16/
LOCATION:Palm Valley Community Association Center\, 148 Canal Blvd.\, Ponte Vedra Beach\, FL\, 32082\, United States
END:VEVENT
BEGIN:VEVENT
DTSTART;TZID=America/New_York:20260215T130000
DTEND;TZID=America/New_York:20260215T153000
DTSTAMP:20260423T002745
CREATED:20251208T143241Z
LAST-MODIFIED:20251208T143241Z
UID:10003867-1771160400-1771169400@palmvalleycommunity.org
SUMMARY:Wedding Reception
DESCRIPTION:
URL:https://palmvalleycommunity.org/event/wedding-reception/
LOCATION:Palm Valley Community Association Center\, 148 Canal Blvd.\, Ponte Vedra Beach\, FL\, 32082\, United States
END:VEVENT
BEGIN:VEVENT
DTSTART;TZID=America/New_York:20260215T080000
DTEND;TZID=America/New_York:20260215T130000
DTSTAMP:20260423T002745
CREATED:20251208T142749Z
LAST-MODIFIED:20251208T142749Z
UID:10003818-1771142400-1771160400@palmvalleycommunity.org
SUMMARY:First Babtist Church of Ponte Vedra
DESCRIPTION:
URL:https://palmvalleycommunity.org/event/first-babtist-church-of-ponte-vedra/2026-02-15/
LOCATION:Palm Valley Community Association Center\, 148 Canal Blvd.\, Ponte Vedra Beach\, FL\, 32082\, United States
END:VEVENT
BEGIN:VEVENT
DTSTART;TZID=America/New_York:20260214T140000
DTEND;TZID=America/New_York:20260214T170000
DTSTAMP:20260423T002745
CREATED:20240916T184434Z
LAST-MODIFIED:20240916T184434Z
UID:10003164-1771077600-1771088400@palmvalleycommunity.org
SUMMARY:Branches of Christ Church
DESCRIPTION:
URL:https://palmvalleycommunity.org/event/branches-of-christ-church-30/2026-02-14/
LOCATION:Palm Valley Community Association Center\, 148 Canal Blvd.\, Ponte Vedra Beach\, FL\, 32082\, United States
END:VEVENT
BEGIN:VEVENT
DTSTART;TZID=America/New_York:20260213T110000
DTEND;TZID=America/New_York:20260213T130000
DTSTAMP:20260423T002745
CREATED:20240102T195150Z
LAST-MODIFIED:20240102T195150Z
UID:10002640-1770980400-1770987600@palmvalleycommunity.org
SUMMARY:AA Event
DESCRIPTION:
URL:https://palmvalleycommunity.org/event/aa-event/2026-02-13/
LOCATION:FL
END:VEVENT
BEGIN:VEVENT
DTSTART;TZID=America/New_York:20260212T164500
DTEND;TZID=America/New_York:20260212T181500
DTSTAMP:20260423T002745
CREATED:20250825T201026Z
LAST-MODIFIED:20250825T201026Z
UID:10003574-1770914700-1770920100@palmvalleycommunity.org
SUMMARY:Martial Arts Class
DESCRIPTION:
URL:https://palmvalleycommunity.org/event/martial-arts-class/2026-02-12/
LOCATION:Palm Valley Community Association Center\, 148 Canal Blvd.\, Ponte Vedra Beach\, FL\, 32082\, United States
END:VEVENT
BEGIN:VEVENT
DTSTART;TZID=America/New_York:20260212T093000
DTEND;TZID=America/New_York:20260212T113000
DTSTAMP:20260423T002745
CREATED:20251201T014310Z
LAST-MODIFIED:20251201T014310Z
UID:10003795-1770888600-1770895800@palmvalleycommunity.org
SUMMARY:Home School Music Classes by Studio L
DESCRIPTION:
URL:https://palmvalleycommunity.org/event/home-school-music-classes-by-studio-l-2/2026-02-12/
LOCATION:Palm Valley Community Association Center\, 148 Canal Blvd.\, Ponte Vedra Beach\, FL\, 32082\, United States
END:VEVENT
BEGIN:VEVENT
DTSTART;TZID=America/New_York:20260211T173000
DTEND;TZID=America/New_York:20260211T203000
DTSTAMP:20260423T002745
CREATED:20251004T163908Z
LAST-MODIFIED:20251004T163908Z
UID:10003687-1770831000-1770841800@palmvalleycommunity.org
SUMMARY:Mumford Academy of Irish Dance
DESCRIPTION:
URL:https://palmvalleycommunity.org/event/mumford-academy-of-irish-dance-2/2026-02-11/
LOCATION:Palm Valley Community Association Center\, 148 Canal Blvd.\, Ponte Vedra Beach\, FL\, 32082\, United States
END:VEVENT
BEGIN:VEVENT
DTSTART;TZID=America/New_York:20260210T164500
DTEND;TZID=America/New_York:20260210T181500
DTSTAMP:20260423T002745
CREATED:20250825T201026Z
LAST-MODIFIED:20250825T201026Z
UID:10003573-1770741900-1770747300@palmvalleycommunity.org
SUMMARY:Martial Arts Class
DESCRIPTION:
URL:https://palmvalleycommunity.org/event/martial-arts-class/2026-02-10/
LOCATION:Palm Valley Community Association Center\, 148 Canal Blvd.\, Ponte Vedra Beach\, FL\, 32082\, United States
END:VEVENT
BEGIN:VEVENT
DTSTART;TZID=America/New_York:20260210T100000
DTEND;TZID=America/New_York:20260210T130000
DTSTAMP:20260423T002745
CREATED:20240517T224306Z
LAST-MODIFIED:20240517T224618Z
UID:10002901-1770717600-1770728400@palmvalleycommunity.org
SUMMARY:Palm Valley Farmers Market
DESCRIPTION:Join us each Tuesday from 10 AM – 1 PM (summer hours)\, rain or shine at the Palm Valley Community Center. We will have a variety of vendors to offer fresh produce\, baked goods\, sweet treats\, handcrafted jewelry\, skincare items\, starter plants/veggies and more! Make sure you follow the new Palm Valley Market for updated vendor listings. See you at the Market! \n 
URL:https://palmvalleycommunity.org/event/palm-valley-mini-farmers-market-2-2-2/2026-02-10/
LOCATION:Palm Valley Community Association Center\, 148 Canal Blvd.\, Ponte Vedra Beach\, FL\, 32082\, United States
ATTACH;FMTTYPE=image/jpeg:https://palmvalleycommunity.org/wp-content/uploads/2022/04/Palm-Valley-FM-Veggie-Banner_summer-scaled.jpg
ORGANIZER;CN="Events Committee":MAILTO:palmvalleycommunitycenter@gmail.com
END:VEVENT
BEGIN:VEVENT
DTSTART;TZID=America/New_York:20260209T183000
DTEND;TZID=America/New_York:20260209T203000
DTSTAMP:20260423T002745
CREATED:20250215T170616Z
LAST-MODIFIED:20250413T205550Z
UID:10003334-1770661800-1770669000@palmvalleycommunity.org
SUMMARY:PVCA Board Meeting
DESCRIPTION:
URL:https://palmvalleycommunity.org/event/pvca-board-meeting-5/2026-02-09/
LOCATION:Palm Valley Community Association Center\, 148 Canal Blvd.\, Ponte Vedra Beach\, FL\, 32082\, United States
END:VEVENT
BEGIN:VEVENT
DTSTART;TZID=America/New_York:20260208T080000
DTEND;TZID=America/New_York:20260208T130000
DTSTAMP:20260423T002745
CREATED:20251208T142749Z
LAST-MODIFIED:20251208T142749Z
UID:10003817-1770537600-1770555600@palmvalleycommunity.org
SUMMARY:First Babtist Church of Ponte Vedra
DESCRIPTION:
URL:https://palmvalleycommunity.org/event/first-babtist-church-of-ponte-vedra/2026-02-08/
LOCATION:Palm Valley Community Association Center\, 148 Canal Blvd.\, Ponte Vedra Beach\, FL\, 32082\, United States
END:VEVENT
BEGIN:VEVENT
DTSTART;TZID=America/New_York:20260207T140000
DTEND;TZID=America/New_York:20260207T170000
DTSTAMP:20260423T002745
CREATED:20240916T184434Z
LAST-MODIFIED:20240916T184434Z
UID:10003163-1770472800-1770483600@palmvalleycommunity.org
SUMMARY:Branches of Christ Church
DESCRIPTION:
URL:https://palmvalleycommunity.org/event/branches-of-christ-church-30/2026-02-07/
LOCATION:Palm Valley Community Association Center\, 148 Canal Blvd.\, Ponte Vedra Beach\, FL\, 32082\, United States
END:VEVENT
BEGIN:VEVENT
DTSTART;TZID=America/New_York:20260206T110000
DTEND;TZID=America/New_York:20260206T130000
DTSTAMP:20260423T002745
CREATED:20240102T195150Z
LAST-MODIFIED:20240102T195150Z
UID:10002639-1770375600-1770382800@palmvalleycommunity.org
SUMMARY:AA Event
DESCRIPTION:
URL:https://palmvalleycommunity.org/event/aa-event/2026-02-06/
LOCATION:FL
END:VEVENT
BEGIN:VEVENT
DTSTART;TZID=America/New_York:20260205T164500
DTEND;TZID=America/New_York:20260205T181500
DTSTAMP:20260423T002745
CREATED:20250825T201026Z
LAST-MODIFIED:20250825T201026Z
UID:10003572-1770309900-1770315300@palmvalleycommunity.org
SUMMARY:Martial Arts Class
DESCRIPTION:
URL:https://palmvalleycommunity.org/event/martial-arts-class/2026-02-05/
LOCATION:Palm Valley Community Association Center\, 148 Canal Blvd.\, Ponte Vedra Beach\, FL\, 32082\, United States
END:VEVENT
BEGIN:VEVENT
DTSTART;TZID=America/New_York:20260205T093000
DTEND;TZID=America/New_York:20260205T113000
DTSTAMP:20260423T002745
CREATED:20251201T014310Z
LAST-MODIFIED:20251201T014310Z
UID:10003794-1770283800-1770291000@palmvalleycommunity.org
SUMMARY:Home School Music Classes by Studio L
DESCRIPTION:
URL:https://palmvalleycommunity.org/event/home-school-music-classes-by-studio-l-2/2026-02-05/
LOCATION:Palm Valley Community Association Center\, 148 Canal Blvd.\, Ponte Vedra Beach\, FL\, 32082\, United States
END:VEVENT
BEGIN:VEVENT
DTSTART;TZID=America/New_York:20260204T173000
DTEND;TZID=America/New_York:20260204T203000
DTSTAMP:20260423T002745
CREATED:20251004T163908Z
LAST-MODIFIED:20251004T163908Z
UID:10003686-1770226200-1770237000@palmvalleycommunity.org
SUMMARY:Mumford Academy of Irish Dance
DESCRIPTION:
URL:https://palmvalleycommunity.org/event/mumford-academy-of-irish-dance-2/2026-02-04/
LOCATION:Palm Valley Community Association Center\, 148 Canal Blvd.\, Ponte Vedra Beach\, FL\, 32082\, United States
END:VEVENT
BEGIN:VEVENT
DTSTART;TZID=America/New_York:20260203T164500
DTEND;TZID=America/New_York:20260203T181500
DTSTAMP:20260423T002746
CREATED:20250825T201026Z
LAST-MODIFIED:20250825T201026Z
UID:10003571-1770137100-1770142500@palmvalleycommunity.org
SUMMARY:Martial Arts Class
DESCRIPTION:
URL:https://palmvalleycommunity.org/event/martial-arts-class/2026-02-03/
LOCATION:Palm Valley Community Association Center\, 148 Canal Blvd.\, Ponte Vedra Beach\, FL\, 32082\, United States
END:VEVENT
BEGIN:VEVENT
DTSTART;TZID=America/New_York:20260203T100000
DTEND;TZID=America/New_York:20260203T130000
DTSTAMP:20260423T002746
CREATED:20240517T224306Z
LAST-MODIFIED:20240517T224618Z
UID:10002900-1770112800-1770123600@palmvalleycommunity.org
SUMMARY:Palm Valley Farmers Market
DESCRIPTION:Join us each Tuesday from 10 AM – 1 PM (summer hours)\, rain or shine at the Palm Valley Community Center. We will have a variety of vendors to offer fresh produce\, baked goods\, sweet treats\, handcrafted jewelry\, skincare items\, starter plants/veggies and more! Make sure you follow the new Palm Valley Market for updated vendor listings. See you at the Market! \n 
URL:https://palmvalleycommunity.org/event/palm-valley-mini-farmers-market-2-2-2/2026-02-03/
LOCATION:Palm Valley Community Association Center\, 148 Canal Blvd.\, Ponte Vedra Beach\, FL\, 32082\, United States
ATTACH;FMTTYPE=image/jpeg:https://palmvalleycommunity.org/wp-content/uploads/2022/04/Palm-Valley-FM-Veggie-Banner_summer-scaled.jpg
ORGANIZER;CN="Events Committee":MAILTO:palmvalleycommunitycenter@gmail.com
END:VEVENT
BEGIN:VEVENT
DTSTART;TZID=America/New_York:20260201T080000
DTEND;TZID=America/New_York:20260201T130000
DTSTAMP:20260423T002746
CREATED:20251208T142749Z
LAST-MODIFIED:20251208T142749Z
UID:10003816-1769932800-1769950800@palmvalleycommunity.org
SUMMARY:First Babtist Church of Ponte Vedra
DESCRIPTION:
URL:https://palmvalleycommunity.org/event/first-babtist-church-of-ponte-vedra/2026-02-01/
LOCATION:Palm Valley Community Association Center\, 148 Canal Blvd.\, Ponte Vedra Beach\, FL\, 32082\, United States
END:VEVENT
BEGIN:VEVENT
DTSTART;TZID=America/New_York:20260131T140000
DTEND;TZID=America/New_York:20260131T170000
DTSTAMP:20260423T002746
CREATED:20240916T184434Z
LAST-MODIFIED:20240916T184434Z
UID:10003162-1769868000-1769878800@palmvalleycommunity.org
SUMMARY:Branches of Christ Church
DESCRIPTION:
URL:https://palmvalleycommunity.org/event/branches-of-christ-church-30/2026-01-31/
LOCATION:Palm Valley Community Association Center\, 148 Canal Blvd.\, Ponte Vedra Beach\, FL\, 32082\, United States
END:VEVENT
BEGIN:VEVENT
DTSTART;TZID=America/New_York:20260130T110000
DTEND;TZID=America/New_York:20260130T130000
DTSTAMP:20260423T002746
CREATED:20240102T195150Z
LAST-MODIFIED:20240102T195150Z
UID:10002638-1769770800-1769778000@palmvalleycommunity.org
SUMMARY:AA Event
DESCRIPTION:
URL:https://palmvalleycommunity.org/event/aa-event/2026-01-30/
LOCATION:FL
END:VEVENT
BEGIN:VEVENT
DTSTART;TZID=America/New_York:20260129T164500
DTEND;TZID=America/New_York:20260129T181500
DTSTAMP:20260423T002746
CREATED:20250825T201026Z
LAST-MODIFIED:20250825T201026Z
UID:10003570-1769705100-1769710500@palmvalleycommunity.org
SUMMARY:Martial Arts Class
DESCRIPTION:
URL:https://palmvalleycommunity.org/event/martial-arts-class/2026-01-29/
LOCATION:Palm Valley Community Association Center\, 148 Canal Blvd.\, Ponte Vedra Beach\, FL\, 32082\, United States
END:VEVENT
BEGIN:VEVENT
DTSTART;TZID=America/New_York:20260129T093000
DTEND;TZID=America/New_York:20260129T113000
DTSTAMP:20260423T002746
CREATED:20251201T014310Z
LAST-MODIFIED:20251201T014310Z
UID:10003793-1769679000-1769686200@palmvalleycommunity.org
SUMMARY:Home School Music Classes by Studio L
DESCRIPTION:
URL:https://palmvalleycommunity.org/event/home-school-music-classes-by-studio-l-2/2026-01-29/
LOCATION:Palm Valley Community Association Center\, 148 Canal Blvd.\, Ponte Vedra Beach\, FL\, 32082\, United States
END:VEVENT
BEGIN:VEVENT
DTSTART;TZID=America/New_York:20260128T173000
DTEND;TZID=America/New_York:20260128T203000
DTSTAMP:20260423T002746
CREATED:20251004T163908Z
LAST-MODIFIED:20251004T163908Z
UID:10003685-1769621400-1769632200@palmvalleycommunity.org
SUMMARY:Mumford Academy of Irish Dance
DESCRIPTION:
URL:https://palmvalleycommunity.org/event/mumford-academy-of-irish-dance-2/2026-01-28/
LOCATION:Palm Valley Community Association Center\, 148 Canal Blvd.\, Ponte Vedra Beach\, FL\, 32082\, United States
END:VEVENT
BEGIN:VEVENT
DTSTART;TZID=America/New_York:20260127T164500
DTEND;TZID=America/New_York:20260127T181500
DTSTAMP:20260423T002746
CREATED:20250825T201026Z
LAST-MODIFIED:20250825T201026Z
UID:10003569-1769532300-1769537700@palmvalleycommunity.org
SUMMARY:Martial Arts Class
DESCRIPTION:
URL:https://palmvalleycommunity.org/event/martial-arts-class/2026-01-27/
LOCATION:Palm Valley Community Association Center\, 148 Canal Blvd.\, Ponte Vedra Beach\, FL\, 32082\, United States
END:VEVENT
END:VCALENDAR