BEGIN:VCALENDAR
VERSION:2.0
PRODID:-//PalmValleyCommunityAssociation - ECPv6.15.20//NONSGML v1.0//EN
CALSCALE:GREGORIAN
METHOD:PUBLISH
X-WR-CALNAME:PalmValleyCommunityAssociation
X-ORIGINAL-URL:https://palmvalleycommunity.org
X-WR-CALDESC:Events for PalmValleyCommunityAssociation
REFRESH-INTERVAL;VALUE=DURATION:PT1H
X-Robots-Tag:noindex
X-PUBLISHED-TTL:PT1H
BEGIN:VTIMEZONE
TZID:America/New_York
BEGIN:DAYLIGHT
TZOFFSETFROM:-0500
TZOFFSETTO:-0400
TZNAME:EDT
DTSTART:20250309T070000
END:DAYLIGHT
BEGIN:STANDARD
TZOFFSETFROM:-0400
TZOFFSETTO:-0500
TZNAME:EST
DTSTART:20251102T060000
END:STANDARD
BEGIN:DAYLIGHT
TZOFFSETFROM:-0500
TZOFFSETTO:-0400
TZNAME:EDT
DTSTART:20260308T070000
END:DAYLIGHT
BEGIN:STANDARD
TZOFFSETFROM:-0400
TZOFFSETTO:-0500
TZNAME:EST
DTSTART:20261101T060000
END:STANDARD
BEGIN:DAYLIGHT
TZOFFSETFROM:-0500
TZOFFSETTO:-0400
TZNAME:EDT
DTSTART:20270314T070000
END:DAYLIGHT
BEGIN:STANDARD
TZOFFSETFROM:-0400
TZOFFSETTO:-0500
TZNAME:EST
DTSTART:20271107T060000
END:STANDARD
END:VTIMEZONE
BEGIN:VEVENT
DTSTART;TZID=America/New_York:20260207T140000
DTEND;TZID=America/New_York:20260207T170000
DTSTAMP:20260422T183932
CREATED:20240916T184434Z
LAST-MODIFIED:20240916T184434Z
UID:10003163-1770472800-1770483600@palmvalleycommunity.org
SUMMARY:Branches of Christ Church
DESCRIPTION:
URL:https://palmvalleycommunity.org/event/branches-of-christ-church-30/2026-02-07/
LOCATION:Palm Valley Community Association Center\, 148 Canal Blvd.\, Ponte Vedra Beach\, FL\, 32082\, United States
END:VEVENT
BEGIN:VEVENT
DTSTART;TZID=America/New_York:20260206T110000
DTEND;TZID=America/New_York:20260206T130000
DTSTAMP:20260422T183932
CREATED:20240102T195150Z
LAST-MODIFIED:20240102T195150Z
UID:10002639-1770375600-1770382800@palmvalleycommunity.org
SUMMARY:AA Event
DESCRIPTION:
URL:https://palmvalleycommunity.org/event/aa-event/2026-02-06/
LOCATION:FL
END:VEVENT
BEGIN:VEVENT
DTSTART;TZID=America/New_York:20260205T164500
DTEND;TZID=America/New_York:20260205T181500
DTSTAMP:20260422T183932
CREATED:20250825T201026Z
LAST-MODIFIED:20250825T201026Z
UID:10003572-1770309900-1770315300@palmvalleycommunity.org
SUMMARY:Martial Arts Class
DESCRIPTION:
URL:https://palmvalleycommunity.org/event/martial-arts-class/2026-02-05/
LOCATION:Palm Valley Community Association Center\, 148 Canal Blvd.\, Ponte Vedra Beach\, FL\, 32082\, United States
END:VEVENT
BEGIN:VEVENT
DTSTART;TZID=America/New_York:20260205T093000
DTEND;TZID=America/New_York:20260205T113000
DTSTAMP:20260422T183932
CREATED:20251201T014310Z
LAST-MODIFIED:20251201T014310Z
UID:10003794-1770283800-1770291000@palmvalleycommunity.org
SUMMARY:Home School Music Classes by Studio L
DESCRIPTION:
URL:https://palmvalleycommunity.org/event/home-school-music-classes-by-studio-l-2/2026-02-05/
LOCATION:Palm Valley Community Association Center\, 148 Canal Blvd.\, Ponte Vedra Beach\, FL\, 32082\, United States
END:VEVENT
BEGIN:VEVENT
DTSTART;TZID=America/New_York:20260204T173000
DTEND;TZID=America/New_York:20260204T203000
DTSTAMP:20260422T183932
CREATED:20251004T163908Z
LAST-MODIFIED:20251004T163908Z
UID:10003686-1770226200-1770237000@palmvalleycommunity.org
SUMMARY:Mumford Academy of Irish Dance
DESCRIPTION:
URL:https://palmvalleycommunity.org/event/mumford-academy-of-irish-dance-2/2026-02-04/
LOCATION:Palm Valley Community Association Center\, 148 Canal Blvd.\, Ponte Vedra Beach\, FL\, 32082\, United States
END:VEVENT
BEGIN:VEVENT
DTSTART;TZID=America/New_York:20260203T164500
DTEND;TZID=America/New_York:20260203T181500
DTSTAMP:20260422T183932
CREATED:20250825T201026Z
LAST-MODIFIED:20250825T201026Z
UID:10003571-1770137100-1770142500@palmvalleycommunity.org
SUMMARY:Martial Arts Class
DESCRIPTION:
URL:https://palmvalleycommunity.org/event/martial-arts-class/2026-02-03/
LOCATION:Palm Valley Community Association Center\, 148 Canal Blvd.\, Ponte Vedra Beach\, FL\, 32082\, United States
END:VEVENT
BEGIN:VEVENT
DTSTART;TZID=America/New_York:20260203T100000
DTEND;TZID=America/New_York:20260203T130000
DTSTAMP:20260422T183932
CREATED:20240517T224306Z
LAST-MODIFIED:20240517T224618Z
UID:10002900-1770112800-1770123600@palmvalleycommunity.org
SUMMARY:Palm Valley Farmers Market
DESCRIPTION:Join us each Tuesday from 10 AM – 1 PM (summer hours)\, rain or shine at the Palm Valley Community Center. We will have a variety of vendors to offer fresh produce\, baked goods\, sweet treats\, handcrafted jewelry\, skincare items\, starter plants/veggies and more! Make sure you follow the new Palm Valley Market for updated vendor listings. See you at the Market! \n 
URL:https://palmvalleycommunity.org/event/palm-valley-mini-farmers-market-2-2-2/2026-02-03/
LOCATION:Palm Valley Community Association Center\, 148 Canal Blvd.\, Ponte Vedra Beach\, FL\, 32082\, United States
ATTACH;FMTTYPE=image/jpeg:https://palmvalleycommunity.org/wp-content/uploads/2022/04/Palm-Valley-FM-Veggie-Banner_summer-scaled.jpg
ORGANIZER;CN="Events Committee":MAILTO:palmvalleycommunitycenter@gmail.com
END:VEVENT
BEGIN:VEVENT
DTSTART;TZID=America/New_York:20260201T080000
DTEND;TZID=America/New_York:20260201T130000
DTSTAMP:20260422T183933
CREATED:20251208T142749Z
LAST-MODIFIED:20251208T142749Z
UID:10003816-1769932800-1769950800@palmvalleycommunity.org
SUMMARY:First Babtist Church of Ponte Vedra
DESCRIPTION:
URL:https://palmvalleycommunity.org/event/first-babtist-church-of-ponte-vedra/2026-02-01/
LOCATION:Palm Valley Community Association Center\, 148 Canal Blvd.\, Ponte Vedra Beach\, FL\, 32082\, United States
END:VEVENT
BEGIN:VEVENT
DTSTART;TZID=America/New_York:20260131T140000
DTEND;TZID=America/New_York:20260131T170000
DTSTAMP:20260422T183933
CREATED:20240916T184434Z
LAST-MODIFIED:20240916T184434Z
UID:10003162-1769868000-1769878800@palmvalleycommunity.org
SUMMARY:Branches of Christ Church
DESCRIPTION:
URL:https://palmvalleycommunity.org/event/branches-of-christ-church-30/2026-01-31/
LOCATION:Palm Valley Community Association Center\, 148 Canal Blvd.\, Ponte Vedra Beach\, FL\, 32082\, United States
END:VEVENT
BEGIN:VEVENT
DTSTART;TZID=America/New_York:20260130T110000
DTEND;TZID=America/New_York:20260130T130000
DTSTAMP:20260422T183933
CREATED:20240102T195150Z
LAST-MODIFIED:20240102T195150Z
UID:10002638-1769770800-1769778000@palmvalleycommunity.org
SUMMARY:AA Event
DESCRIPTION:
URL:https://palmvalleycommunity.org/event/aa-event/2026-01-30/
LOCATION:FL
END:VEVENT
BEGIN:VEVENT
DTSTART;TZID=America/New_York:20260129T164500
DTEND;TZID=America/New_York:20260129T181500
DTSTAMP:20260422T183933
CREATED:20250825T201026Z
LAST-MODIFIED:20250825T201026Z
UID:10003570-1769705100-1769710500@palmvalleycommunity.org
SUMMARY:Martial Arts Class
DESCRIPTION:
URL:https://palmvalleycommunity.org/event/martial-arts-class/2026-01-29/
LOCATION:Palm Valley Community Association Center\, 148 Canal Blvd.\, Ponte Vedra Beach\, FL\, 32082\, United States
END:VEVENT
BEGIN:VEVENT
DTSTART;TZID=America/New_York:20260129T093000
DTEND;TZID=America/New_York:20260129T113000
DTSTAMP:20260422T183933
CREATED:20251201T014310Z
LAST-MODIFIED:20251201T014310Z
UID:10003793-1769679000-1769686200@palmvalleycommunity.org
SUMMARY:Home School Music Classes by Studio L
DESCRIPTION:
URL:https://palmvalleycommunity.org/event/home-school-music-classes-by-studio-l-2/2026-01-29/
LOCATION:Palm Valley Community Association Center\, 148 Canal Blvd.\, Ponte Vedra Beach\, FL\, 32082\, United States
END:VEVENT
BEGIN:VEVENT
DTSTART;TZID=America/New_York:20260128T173000
DTEND;TZID=America/New_York:20260128T203000
DTSTAMP:20260422T183933
CREATED:20251004T163908Z
LAST-MODIFIED:20251004T163908Z
UID:10003685-1769621400-1769632200@palmvalleycommunity.org
SUMMARY:Mumford Academy of Irish Dance
DESCRIPTION:
URL:https://palmvalleycommunity.org/event/mumford-academy-of-irish-dance-2/2026-01-28/
LOCATION:Palm Valley Community Association Center\, 148 Canal Blvd.\, Ponte Vedra Beach\, FL\, 32082\, United States
END:VEVENT
BEGIN:VEVENT
DTSTART;TZID=America/New_York:20260127T164500
DTEND;TZID=America/New_York:20260127T181500
DTSTAMP:20260422T183933
CREATED:20250825T201026Z
LAST-MODIFIED:20250825T201026Z
UID:10003569-1769532300-1769537700@palmvalleycommunity.org
SUMMARY:Martial Arts Class
DESCRIPTION:
URL:https://palmvalleycommunity.org/event/martial-arts-class/2026-01-27/
LOCATION:Palm Valley Community Association Center\, 148 Canal Blvd.\, Ponte Vedra Beach\, FL\, 32082\, United States
END:VEVENT
BEGIN:VEVENT
DTSTART;TZID=America/New_York:20260127T100000
DTEND;TZID=America/New_York:20260127T130000
DTSTAMP:20260422T183933
CREATED:20240517T224306Z
LAST-MODIFIED:20240517T224618Z
UID:10002899-1769508000-1769518800@palmvalleycommunity.org
SUMMARY:Palm Valley Farmers Market
DESCRIPTION:Join us each Tuesday from 10 AM – 1 PM (summer hours)\, rain or shine at the Palm Valley Community Center. We will have a variety of vendors to offer fresh produce\, baked goods\, sweet treats\, handcrafted jewelry\, skincare items\, starter plants/veggies and more! Make sure you follow the new Palm Valley Market for updated vendor listings. See you at the Market! \n 
URL:https://palmvalleycommunity.org/event/palm-valley-mini-farmers-market-2-2-2/2026-01-27/
LOCATION:Palm Valley Community Association Center\, 148 Canal Blvd.\, Ponte Vedra Beach\, FL\, 32082\, United States
ATTACH;FMTTYPE=image/jpeg:https://palmvalleycommunity.org/wp-content/uploads/2022/04/Palm-Valley-FM-Veggie-Banner_summer-scaled.jpg
ORGANIZER;CN="Events Committee":MAILTO:palmvalleycommunitycenter@gmail.com
END:VEVENT
BEGIN:VEVENT
DTSTART;TZID=America/New_York:20260125T080000
DTEND;TZID=America/New_York:20260125T130000
DTSTAMP:20260422T183933
CREATED:20251208T142749Z
LAST-MODIFIED:20251208T142749Z
UID:10003815-1769328000-1769346000@palmvalleycommunity.org
SUMMARY:First Babtist Church of Ponte Vedra
DESCRIPTION:
URL:https://palmvalleycommunity.org/event/first-babtist-church-of-ponte-vedra/2026-01-25/
LOCATION:Palm Valley Community Association Center\, 148 Canal Blvd.\, Ponte Vedra Beach\, FL\, 32082\, United States
END:VEVENT
BEGIN:VEVENT
DTSTART;TZID=America/New_York:20260124T140000
DTEND;TZID=America/New_York:20260124T170000
DTSTAMP:20260422T183933
CREATED:20240916T184434Z
LAST-MODIFIED:20240916T184434Z
UID:10003161-1769263200-1769274000@palmvalleycommunity.org
SUMMARY:Branches of Christ Church
DESCRIPTION:
URL:https://palmvalleycommunity.org/event/branches-of-christ-church-30/2026-01-24/
LOCATION:Palm Valley Community Association Center\, 148 Canal Blvd.\, Ponte Vedra Beach\, FL\, 32082\, United States
END:VEVENT
BEGIN:VEVENT
DTSTART;TZID=America/New_York:20260123T110000
DTEND;TZID=America/New_York:20260123T130000
DTSTAMP:20260422T183933
CREATED:20240102T195150Z
LAST-MODIFIED:20240102T195150Z
UID:10002637-1769166000-1769173200@palmvalleycommunity.org
SUMMARY:AA Event
DESCRIPTION:
URL:https://palmvalleycommunity.org/event/aa-event/2026-01-23/
LOCATION:FL
END:VEVENT
BEGIN:VEVENT
DTSTART;TZID=America/New_York:20260122T181500
DTEND;TZID=America/New_York:20260122T201500
DTSTAMP:20260422T183933
CREATED:20251216T141256Z
LAST-MODIFIED:20251216T141256Z
UID:10003880-1769105700-1769112900@palmvalleycommunity.org
SUMMARY:Tammy McGee event
DESCRIPTION:
URL:https://palmvalleycommunity.org/event/tammy-mcgee-event-2/
LOCATION:Palm Valley Community Association Center\, 148 Canal Blvd.\, Ponte Vedra Beach\, FL\, 32082\, United States
END:VEVENT
BEGIN:VEVENT
DTSTART;TZID=America/New_York:20260122T164500
DTEND;TZID=America/New_York:20260122T181500
DTSTAMP:20260422T183933
CREATED:20250825T201026Z
LAST-MODIFIED:20250825T201026Z
UID:10003568-1769100300-1769105700@palmvalleycommunity.org
SUMMARY:Martial Arts Class
DESCRIPTION:
URL:https://palmvalleycommunity.org/event/martial-arts-class/2026-01-22/
LOCATION:Palm Valley Community Association Center\, 148 Canal Blvd.\, Ponte Vedra Beach\, FL\, 32082\, United States
END:VEVENT
BEGIN:VEVENT
DTSTART;TZID=America/New_York:20260122T093000
DTEND;TZID=America/New_York:20260122T113000
DTSTAMP:20260422T183933
CREATED:20251201T014310Z
LAST-MODIFIED:20251201T014310Z
UID:10003792-1769074200-1769081400@palmvalleycommunity.org
SUMMARY:Home School Music Classes by Studio L
DESCRIPTION:
URL:https://palmvalleycommunity.org/event/home-school-music-classes-by-studio-l-2/2026-01-22/
LOCATION:Palm Valley Community Association Center\, 148 Canal Blvd.\, Ponte Vedra Beach\, FL\, 32082\, United States
END:VEVENT
BEGIN:VEVENT
DTSTART;TZID=America/New_York:20260121T173000
DTEND;TZID=America/New_York:20260121T203000
DTSTAMP:20260422T183933
CREATED:20251004T163908Z
LAST-MODIFIED:20251004T163908Z
UID:10003684-1769016600-1769027400@palmvalleycommunity.org
SUMMARY:Mumford Academy of Irish Dance
DESCRIPTION:
URL:https://palmvalleycommunity.org/event/mumford-academy-of-irish-dance-2/2026-01-21/
LOCATION:Palm Valley Community Association Center\, 148 Canal Blvd.\, Ponte Vedra Beach\, FL\, 32082\, United States
END:VEVENT
BEGIN:VEVENT
DTSTART;TZID=America/New_York:20260120T164500
DTEND;TZID=America/New_York:20260120T181500
DTSTAMP:20260422T183933
CREATED:20250825T201026Z
LAST-MODIFIED:20250825T201026Z
UID:10003567-1768927500-1768932900@palmvalleycommunity.org
SUMMARY:Martial Arts Class
DESCRIPTION:
URL:https://palmvalleycommunity.org/event/martial-arts-class/2026-01-20/
LOCATION:Palm Valley Community Association Center\, 148 Canal Blvd.\, Ponte Vedra Beach\, FL\, 32082\, United States
END:VEVENT
BEGIN:VEVENT
DTSTART;TZID=America/New_York:20260120T100000
DTEND;TZID=America/New_York:20260120T130000
DTSTAMP:20260422T183933
CREATED:20240517T224306Z
LAST-MODIFIED:20240517T224618Z
UID:10002898-1768903200-1768914000@palmvalleycommunity.org
SUMMARY:Palm Valley Farmers Market
DESCRIPTION:Join us each Tuesday from 10 AM – 1 PM (summer hours)\, rain or shine at the Palm Valley Community Center. We will have a variety of vendors to offer fresh produce\, baked goods\, sweet treats\, handcrafted jewelry\, skincare items\, starter plants/veggies and more! Make sure you follow the new Palm Valley Market for updated vendor listings. See you at the Market! \n 
URL:https://palmvalleycommunity.org/event/palm-valley-mini-farmers-market-2-2-2/2026-01-20/
LOCATION:Palm Valley Community Association Center\, 148 Canal Blvd.\, Ponte Vedra Beach\, FL\, 32082\, United States
ATTACH;FMTTYPE=image/jpeg:https://palmvalleycommunity.org/wp-content/uploads/2022/04/Palm-Valley-FM-Veggie-Banner_summer-scaled.jpg
ORGANIZER;CN="Events Committee":MAILTO:palmvalleycommunitycenter@gmail.com
END:VEVENT
BEGIN:VEVENT
DTSTART;TZID=America/New_York:20260118T190000
DTEND;TZID=America/New_York:20260118T220000
DTSTAMP:20260422T183933
CREATED:20251009T140339Z
LAST-MODIFIED:20251009T140339Z
UID:10003761-1768762800-1768773600@palmvalleycommunity.org
SUMMARY:Branches of Christ Church
DESCRIPTION:
URL:https://palmvalleycommunity.org/event/branches-of-christ-church-34/2026-01-18/
LOCATION:Palm Valley Community Association Center\, 148 Canal Blvd.\, Ponte Vedra Beach\, FL\, 32082\, United States
END:VEVENT
BEGIN:VEVENT
DTSTART;TZID=America/New_York:20260118T130000
DTEND;TZID=America/New_York:20260118T153000
DTSTAMP:20260422T183933
CREATED:20251208T143357Z
LAST-MODIFIED:20251208T143357Z
UID:10003868-1768741200-1768750200@palmvalleycommunity.org
SUMMARY:First Babtist Church Luncheon
DESCRIPTION:
URL:https://palmvalleycommunity.org/event/first-babtist-church-luncheon/
LOCATION:Palm Valley Community Association Center\, 148 Canal Blvd.\, Ponte Vedra Beach\, FL\, 32082\, United States
END:VEVENT
BEGIN:VEVENT
DTSTART;TZID=America/New_York:20260118T080000
DTEND;TZID=America/New_York:20260118T130000
DTSTAMP:20260422T183933
CREATED:20250122T210443Z
LAST-MODIFIED:20250122T210443Z
UID:10003258-1768723200-1768741200@palmvalleycommunity.org
SUMMARY:First Baptist Church of Ponte Vedra
DESCRIPTION:
URL:https://palmvalleycommunity.org/event/first-baptist-church-of-ponte-vedra-4/2026-01-18/
LOCATION:Palm Valley Community Association Center\, 148 Canal Blvd.\, Ponte Vedra Beach\, FL\, 32082\, United States
END:VEVENT
BEGIN:VEVENT
DTSTART;TZID=America/New_York:20260117T140000
DTEND;TZID=America/New_York:20260117T170000
DTSTAMP:20260422T183933
CREATED:20240916T184434Z
LAST-MODIFIED:20240916T184434Z
UID:10003160-1768658400-1768669200@palmvalleycommunity.org
SUMMARY:Branches of Christ Church
DESCRIPTION:
URL:https://palmvalleycommunity.org/event/branches-of-christ-church-30/2026-01-17/
LOCATION:Palm Valley Community Association Center\, 148 Canal Blvd.\, Ponte Vedra Beach\, FL\, 32082\, United States
END:VEVENT
BEGIN:VEVENT
DTSTART;TZID=America/New_York:20260116T110000
DTEND;TZID=America/New_York:20260116T130000
DTSTAMP:20260422T183933
CREATED:20240102T195150Z
LAST-MODIFIED:20240102T195150Z
UID:10002636-1768561200-1768568400@palmvalleycommunity.org
SUMMARY:AA Event
DESCRIPTION:
URL:https://palmvalleycommunity.org/event/aa-event/2026-01-16/
LOCATION:FL
END:VEVENT
BEGIN:VEVENT
DTSTART;TZID=America/New_York:20260115T181500
DTEND;TZID=America/New_York:20260115T201500
DTSTAMP:20260422T183933
CREATED:20251216T135642Z
LAST-MODIFIED:20251216T135642Z
UID:10003869-1768500900-1768508100@palmvalleycommunity.org
SUMMARY:Diane Dew District 4 Event
DESCRIPTION:
URL:https://palmvalleycommunity.org/event/diane-dew-district-4-event/2026-01-15/
LOCATION:Palm Valley Community Association Center\, 148 Canal Blvd.\, Ponte Vedra Beach\, FL\, 32082\, United States
END:VEVENT
END:VCALENDAR