BEGIN:VCALENDAR
VERSION:2.0
PRODID:-//PalmValleyCommunityAssociation - ECPv6.15.20//NONSGML v1.0//EN
CALSCALE:GREGORIAN
METHOD:PUBLISH
X-ORIGINAL-URL:https://palmvalleycommunity.org
X-WR-CALDESC:Events for PalmValleyCommunityAssociation
REFRESH-INTERVAL;VALUE=DURATION:PT1H
X-Robots-Tag:noindex
X-PUBLISHED-TTL:PT1H
BEGIN:VTIMEZONE
TZID:America/New_York
BEGIN:DAYLIGHT
TZOFFSETFROM:-0500
TZOFFSETTO:-0400
TZNAME:EDT
DTSTART:20250309T070000
END:DAYLIGHT
BEGIN:STANDARD
TZOFFSETFROM:-0400
TZOFFSETTO:-0500
TZNAME:EST
DTSTART:20251102T060000
END:STANDARD
BEGIN:DAYLIGHT
TZOFFSETFROM:-0500
TZOFFSETTO:-0400
TZNAME:EDT
DTSTART:20260308T070000
END:DAYLIGHT
BEGIN:STANDARD
TZOFFSETFROM:-0400
TZOFFSETTO:-0500
TZNAME:EST
DTSTART:20261101T060000
END:STANDARD
BEGIN:DAYLIGHT
TZOFFSETFROM:-0500
TZOFFSETTO:-0400
TZNAME:EDT
DTSTART:20270314T070000
END:DAYLIGHT
BEGIN:STANDARD
TZOFFSETFROM:-0400
TZOFFSETTO:-0500
TZNAME:EST
DTSTART:20271107T060000
END:STANDARD
END:VTIMEZONE
BEGIN:VEVENT
DTSTART;TZID=America/New_York:20260929T100000
DTEND;TZID=America/New_York:20260929T130000
DTSTAMP:20260423T012440
CREATED:20240517T224306Z
LAST-MODIFIED:20240517T224618Z
UID:10002934-1790676000-1790686800@palmvalleycommunity.org
SUMMARY:Palm Valley Farmers Market
DESCRIPTION:Join us each Tuesday from 10 AM – 1 PM (summer hours)\, rain or shine at the Palm Valley Community Center. We will have a variety of vendors to offer fresh produce\, baked goods\, sweet treats\, handcrafted jewelry\, skincare items\, starter plants/veggies and more! Make sure you follow the new Palm Valley Market for updated vendor listings. See you at the Market! \n 
URL:https://palmvalleycommunity.org/event/palm-valley-mini-farmers-market-2-2-2/2026-09-29/
LOCATION:Palm Valley Community Association Center\, 148 Canal Blvd.\, Ponte Vedra Beach\, FL\, 32082\, United States
ATTACH;FMTTYPE=image/jpeg:https://palmvalleycommunity.org/wp-content/uploads/2022/04/Palm-Valley-FM-Veggie-Banner_summer-scaled.jpg
ORGANIZER;CN="Events Committee":MAILTO:palmvalleycommunitycenter@gmail.com
END:VEVENT
BEGIN:VEVENT
DTSTART;TZID=America/New_York:20260929T164500
DTEND;TZID=America/New_York:20260929T181500
DTSTAMP:20260423T012440
CREATED:20250825T201026Z
LAST-MODIFIED:20250825T201026Z
UID:10003639-1790700300-1790705700@palmvalleycommunity.org
SUMMARY:Martial Arts Class
DESCRIPTION:
URL:https://palmvalleycommunity.org/event/martial-arts-class/2026-09-29/
LOCATION:Palm Valley Community Association Center\, 148 Canal Blvd.\, Ponte Vedra Beach\, FL\, 32082\, United States
END:VEVENT
BEGIN:VEVENT
DTSTART;TZID=America/New_York:20261001T164500
DTEND;TZID=America/New_York:20261001T181500
DTSTAMP:20260423T012440
CREATED:20250825T201026Z
LAST-MODIFIED:20250825T201026Z
UID:10003640-1790873100-1790878500@palmvalleycommunity.org
SUMMARY:Martial Arts Class
DESCRIPTION:
URL:https://palmvalleycommunity.org/event/martial-arts-class/2026-10-01/
LOCATION:Palm Valley Community Association Center\, 148 Canal Blvd.\, Ponte Vedra Beach\, FL\, 32082\, United States
END:VEVENT
BEGIN:VEVENT
DTSTART;TZID=America/New_York:20261002T110000
DTEND;TZID=America/New_York:20261002T130000
DTSTAMP:20260423T012440
CREATED:20240102T195150Z
LAST-MODIFIED:20240102T195150Z
UID:10002673-1790938800-1790946000@palmvalleycommunity.org
SUMMARY:AA Event
DESCRIPTION:
URL:https://palmvalleycommunity.org/event/aa-event/2026-10-02/
LOCATION:FL
END:VEVENT
BEGIN:VEVENT
DTSTART;TZID=America/New_York:20261004T080000
DTEND;TZID=America/New_York:20261004T130000
DTSTAMP:20260423T012440
CREATED:20251208T142749Z
LAST-MODIFIED:20251208T142749Z
UID:10003851-1791100800-1791118800@palmvalleycommunity.org
SUMMARY:First Babtist Church of Ponte Vedra
DESCRIPTION:
URL:https://palmvalleycommunity.org/event/first-babtist-church-of-ponte-vedra/2026-10-04/
LOCATION:Palm Valley Community Association Center\, 148 Canal Blvd.\, Ponte Vedra Beach\, FL\, 32082\, United States
END:VEVENT
BEGIN:VEVENT
DTSTART;TZID=America/New_York:20261006T100000
DTEND;TZID=America/New_York:20261006T130000
DTSTAMP:20260423T012440
CREATED:20240517T224306Z
LAST-MODIFIED:20240517T224618Z
UID:10002935-1791280800-1791291600@palmvalleycommunity.org
SUMMARY:Palm Valley Farmers Market
DESCRIPTION:Join us each Tuesday from 10 AM – 1 PM (summer hours)\, rain or shine at the Palm Valley Community Center. We will have a variety of vendors to offer fresh produce\, baked goods\, sweet treats\, handcrafted jewelry\, skincare items\, starter plants/veggies and more! Make sure you follow the new Palm Valley Market for updated vendor listings. See you at the Market! \n 
URL:https://palmvalleycommunity.org/event/palm-valley-mini-farmers-market-2-2-2/2026-10-06/
LOCATION:Palm Valley Community Association Center\, 148 Canal Blvd.\, Ponte Vedra Beach\, FL\, 32082\, United States
ATTACH;FMTTYPE=image/jpeg:https://palmvalleycommunity.org/wp-content/uploads/2022/04/Palm-Valley-FM-Veggie-Banner_summer-scaled.jpg
ORGANIZER;CN="Events Committee":MAILTO:palmvalleycommunitycenter@gmail.com
END:VEVENT
BEGIN:VEVENT
DTSTART;TZID=America/New_York:20261006T164500
DTEND;TZID=America/New_York:20261006T181500
DTSTAMP:20260423T012440
CREATED:20250825T201026Z
LAST-MODIFIED:20250825T201026Z
UID:10003641-1791305100-1791310500@palmvalleycommunity.org
SUMMARY:Martial Arts Class
DESCRIPTION:
URL:https://palmvalleycommunity.org/event/martial-arts-class/2026-10-06/
LOCATION:Palm Valley Community Association Center\, 148 Canal Blvd.\, Ponte Vedra Beach\, FL\, 32082\, United States
END:VEVENT
BEGIN:VEVENT
DTSTART;TZID=America/New_York:20261008T164500
DTEND;TZID=America/New_York:20261008T181500
DTSTAMP:20260423T012440
CREATED:20250825T201026Z
LAST-MODIFIED:20250825T201026Z
UID:10003642-1791477900-1791483300@palmvalleycommunity.org
SUMMARY:Martial Arts Class
DESCRIPTION:
URL:https://palmvalleycommunity.org/event/martial-arts-class/2026-10-08/
LOCATION:Palm Valley Community Association Center\, 148 Canal Blvd.\, Ponte Vedra Beach\, FL\, 32082\, United States
END:VEVENT
BEGIN:VEVENT
DTSTART;TZID=America/New_York:20261009T110000
DTEND;TZID=America/New_York:20261009T130000
DTSTAMP:20260423T012440
CREATED:20240102T195150Z
LAST-MODIFIED:20240102T195150Z
UID:10002674-1791543600-1791550800@palmvalleycommunity.org
SUMMARY:AA Event
DESCRIPTION:
URL:https://palmvalleycommunity.org/event/aa-event/2026-10-09/
LOCATION:FL
END:VEVENT
BEGIN:VEVENT
DTSTART;TZID=America/New_York:20261011T080000
DTEND;TZID=America/New_York:20261011T130000
DTSTAMP:20260423T012440
CREATED:20251208T142749Z
LAST-MODIFIED:20251208T142749Z
UID:10003852-1791705600-1791723600@palmvalleycommunity.org
SUMMARY:First Babtist Church of Ponte Vedra
DESCRIPTION:
URL:https://palmvalleycommunity.org/event/first-babtist-church-of-ponte-vedra/2026-10-11/
LOCATION:Palm Valley Community Association Center\, 148 Canal Blvd.\, Ponte Vedra Beach\, FL\, 32082\, United States
END:VEVENT
BEGIN:VEVENT
DTSTART;TZID=America/New_York:20261012T183000
DTEND;TZID=America/New_York:20261012T203000
DTSTAMP:20260423T012440
CREATED:20250215T170616Z
LAST-MODIFIED:20250413T205550Z
UID:10003342-1791829800-1791837000@palmvalleycommunity.org
SUMMARY:PVCA Board Meeting
DESCRIPTION:
URL:https://palmvalleycommunity.org/event/pvca-board-meeting-5/2026-10-12/
LOCATION:Palm Valley Community Association Center\, 148 Canal Blvd.\, Ponte Vedra Beach\, FL\, 32082\, United States
END:VEVENT
BEGIN:VEVENT
DTSTART;TZID=America/New_York:20261013T100000
DTEND;TZID=America/New_York:20261013T130000
DTSTAMP:20260423T012440
CREATED:20240517T224306Z
LAST-MODIFIED:20240517T224618Z
UID:10002936-1791885600-1791896400@palmvalleycommunity.org
SUMMARY:Palm Valley Farmers Market
DESCRIPTION:Join us each Tuesday from 10 AM – 1 PM (summer hours)\, rain or shine at the Palm Valley Community Center. We will have a variety of vendors to offer fresh produce\, baked goods\, sweet treats\, handcrafted jewelry\, skincare items\, starter plants/veggies and more! Make sure you follow the new Palm Valley Market for updated vendor listings. See you at the Market! \n 
URL:https://palmvalleycommunity.org/event/palm-valley-mini-farmers-market-2-2-2/2026-10-13/
LOCATION:Palm Valley Community Association Center\, 148 Canal Blvd.\, Ponte Vedra Beach\, FL\, 32082\, United States
ATTACH;FMTTYPE=image/jpeg:https://palmvalleycommunity.org/wp-content/uploads/2022/04/Palm-Valley-FM-Veggie-Banner_summer-scaled.jpg
ORGANIZER;CN="Events Committee":MAILTO:palmvalleycommunitycenter@gmail.com
END:VEVENT
BEGIN:VEVENT
DTSTART;TZID=America/New_York:20261013T164500
DTEND;TZID=America/New_York:20261013T181500
DTSTAMP:20260423T012440
CREATED:20250825T201026Z
LAST-MODIFIED:20250825T201026Z
UID:10003643-1791909900-1791915300@palmvalleycommunity.org
SUMMARY:Martial Arts Class
DESCRIPTION:
URL:https://palmvalleycommunity.org/event/martial-arts-class/2026-10-13/
LOCATION:Palm Valley Community Association Center\, 148 Canal Blvd.\, Ponte Vedra Beach\, FL\, 32082\, United States
END:VEVENT
BEGIN:VEVENT
DTSTART;TZID=America/New_York:20261015T164500
DTEND;TZID=America/New_York:20261015T181500
DTSTAMP:20260423T012440
CREATED:20250825T201026Z
LAST-MODIFIED:20250825T201026Z
UID:10003644-1792082700-1792088100@palmvalleycommunity.org
SUMMARY:Martial Arts Class
DESCRIPTION:
URL:https://palmvalleycommunity.org/event/martial-arts-class/2026-10-15/
LOCATION:Palm Valley Community Association Center\, 148 Canal Blvd.\, Ponte Vedra Beach\, FL\, 32082\, United States
END:VEVENT
BEGIN:VEVENT
DTSTART;TZID=America/New_York:20261015T181500
DTEND;TZID=America/New_York:20261015T201500
DTSTAMP:20260423T012440
CREATED:20251216T135642Z
LAST-MODIFIED:20251216T135642Z
UID:10003878-1792088100-1792095300@palmvalleycommunity.org
SUMMARY:Diane Dew District 4 Event
DESCRIPTION:
URL:https://palmvalleycommunity.org/event/diane-dew-district-4-event/2026-10-15/
LOCATION:Palm Valley Community Association Center\, 148 Canal Blvd.\, Ponte Vedra Beach\, FL\, 32082\, United States
END:VEVENT
BEGIN:VEVENT
DTSTART;TZID=America/New_York:20261016T110000
DTEND;TZID=America/New_York:20261016T130000
DTSTAMP:20260423T012440
CREATED:20240102T195150Z
LAST-MODIFIED:20240102T195150Z
UID:10002675-1792148400-1792155600@palmvalleycommunity.org
SUMMARY:AA Event
DESCRIPTION:
URL:https://palmvalleycommunity.org/event/aa-event/2026-10-16/
LOCATION:FL
END:VEVENT
BEGIN:VEVENT
DTSTART;TZID=America/New_York:20261018T080000
DTEND;TZID=America/New_York:20261018T130000
DTSTAMP:20260423T012440
CREATED:20251208T142749Z
LAST-MODIFIED:20251208T142749Z
UID:10003853-1792310400-1792328400@palmvalleycommunity.org
SUMMARY:First Babtist Church of Ponte Vedra
DESCRIPTION:
URL:https://palmvalleycommunity.org/event/first-babtist-church-of-ponte-vedra/2026-10-18/
LOCATION:Palm Valley Community Association Center\, 148 Canal Blvd.\, Ponte Vedra Beach\, FL\, 32082\, United States
END:VEVENT
BEGIN:VEVENT
DTSTART;TZID=America/New_York:20261020T100000
DTEND;TZID=America/New_York:20261020T130000
DTSTAMP:20260423T012440
CREATED:20240517T224306Z
LAST-MODIFIED:20240517T224618Z
UID:10002937-1792490400-1792501200@palmvalleycommunity.org
SUMMARY:Palm Valley Farmers Market
DESCRIPTION:Join us each Tuesday from 10 AM – 1 PM (summer hours)\, rain or shine at the Palm Valley Community Center. We will have a variety of vendors to offer fresh produce\, baked goods\, sweet treats\, handcrafted jewelry\, skincare items\, starter plants/veggies and more! Make sure you follow the new Palm Valley Market for updated vendor listings. See you at the Market! \n 
URL:https://palmvalleycommunity.org/event/palm-valley-mini-farmers-market-2-2-2/2026-10-20/
LOCATION:Palm Valley Community Association Center\, 148 Canal Blvd.\, Ponte Vedra Beach\, FL\, 32082\, United States
ATTACH;FMTTYPE=image/jpeg:https://palmvalleycommunity.org/wp-content/uploads/2022/04/Palm-Valley-FM-Veggie-Banner_summer-scaled.jpg
ORGANIZER;CN="Events Committee":MAILTO:palmvalleycommunitycenter@gmail.com
END:VEVENT
BEGIN:VEVENT
DTSTART;TZID=America/New_York:20261020T164500
DTEND;TZID=America/New_York:20261020T181500
DTSTAMP:20260423T012440
CREATED:20250825T201026Z
LAST-MODIFIED:20250825T201026Z
UID:10003645-1792514700-1792520100@palmvalleycommunity.org
SUMMARY:Martial Arts Class
DESCRIPTION:
URL:https://palmvalleycommunity.org/event/martial-arts-class/2026-10-20/
LOCATION:Palm Valley Community Association Center\, 148 Canal Blvd.\, Ponte Vedra Beach\, FL\, 32082\, United States
END:VEVENT
BEGIN:VEVENT
DTSTART;TZID=America/New_York:20261022T164500
DTEND;TZID=America/New_York:20261022T181500
DTSTAMP:20260423T012440
CREATED:20250825T201026Z
LAST-MODIFIED:20250825T201026Z
UID:10003646-1792687500-1792692900@palmvalleycommunity.org
SUMMARY:Martial Arts Class
DESCRIPTION:
URL:https://palmvalleycommunity.org/event/martial-arts-class/2026-10-22/
LOCATION:Palm Valley Community Association Center\, 148 Canal Blvd.\, Ponte Vedra Beach\, FL\, 32082\, United States
END:VEVENT
BEGIN:VEVENT
DTSTART;TZID=America/New_York:20261023T110000
DTEND;TZID=America/New_York:20261023T130000
DTSTAMP:20260423T012440
CREATED:20240102T195150Z
LAST-MODIFIED:20240102T195150Z
UID:10002676-1792753200-1792760400@palmvalleycommunity.org
SUMMARY:AA Event
DESCRIPTION:
URL:https://palmvalleycommunity.org/event/aa-event/2026-10-23/
LOCATION:FL
END:VEVENT
BEGIN:VEVENT
DTSTART;TZID=America/New_York:20261025T080000
DTEND;TZID=America/New_York:20261025T130000
DTSTAMP:20260423T012440
CREATED:20251208T142749Z
LAST-MODIFIED:20251208T142749Z
UID:10003854-1792915200-1792933200@palmvalleycommunity.org
SUMMARY:First Babtist Church of Ponte Vedra
DESCRIPTION:
URL:https://palmvalleycommunity.org/event/first-babtist-church-of-ponte-vedra/2026-10-25/
LOCATION:Palm Valley Community Association Center\, 148 Canal Blvd.\, Ponte Vedra Beach\, FL\, 32082\, United States
END:VEVENT
BEGIN:VEVENT
DTSTART;TZID=America/New_York:20261027T100000
DTEND;TZID=America/New_York:20261027T130000
DTSTAMP:20260423T012440
CREATED:20240517T224306Z
LAST-MODIFIED:20240517T224618Z
UID:10002938-1793095200-1793106000@palmvalleycommunity.org
SUMMARY:Palm Valley Farmers Market
DESCRIPTION:Join us each Tuesday from 10 AM – 1 PM (summer hours)\, rain or shine at the Palm Valley Community Center. We will have a variety of vendors to offer fresh produce\, baked goods\, sweet treats\, handcrafted jewelry\, skincare items\, starter plants/veggies and more! Make sure you follow the new Palm Valley Market for updated vendor listings. See you at the Market! \n 
URL:https://palmvalleycommunity.org/event/palm-valley-mini-farmers-market-2-2-2/2026-10-27/
LOCATION:Palm Valley Community Association Center\, 148 Canal Blvd.\, Ponte Vedra Beach\, FL\, 32082\, United States
ATTACH;FMTTYPE=image/jpeg:https://palmvalleycommunity.org/wp-content/uploads/2022/04/Palm-Valley-FM-Veggie-Banner_summer-scaled.jpg
ORGANIZER;CN="Events Committee":MAILTO:palmvalleycommunitycenter@gmail.com
END:VEVENT
BEGIN:VEVENT
DTSTART;TZID=America/New_York:20261027T164500
DTEND;TZID=America/New_York:20261027T181500
DTSTAMP:20260423T012440
CREATED:20250825T201026Z
LAST-MODIFIED:20250825T201026Z
UID:10003647-1793119500-1793124900@palmvalleycommunity.org
SUMMARY:Martial Arts Class
DESCRIPTION:
URL:https://palmvalleycommunity.org/event/martial-arts-class/2026-10-27/
LOCATION:Palm Valley Community Association Center\, 148 Canal Blvd.\, Ponte Vedra Beach\, FL\, 32082\, United States
END:VEVENT
BEGIN:VEVENT
DTSTART;TZID=America/New_York:20261029T164500
DTEND;TZID=America/New_York:20261029T181500
DTSTAMP:20260423T012440
CREATED:20250825T201026Z
LAST-MODIFIED:20250825T201026Z
UID:10003648-1793292300-1793297700@palmvalleycommunity.org
SUMMARY:Martial Arts Class
DESCRIPTION:
URL:https://palmvalleycommunity.org/event/martial-arts-class/2026-10-29/
LOCATION:Palm Valley Community Association Center\, 148 Canal Blvd.\, Ponte Vedra Beach\, FL\, 32082\, United States
END:VEVENT
BEGIN:VEVENT
DTSTART;TZID=America/New_York:20261030T110000
DTEND;TZID=America/New_York:20261030T130000
DTSTAMP:20260423T012440
CREATED:20240102T195150Z
LAST-MODIFIED:20240102T195150Z
UID:10002677-1793358000-1793365200@palmvalleycommunity.org
SUMMARY:AA Event
DESCRIPTION:
URL:https://palmvalleycommunity.org/event/aa-event/2026-10-30/
LOCATION:FL
END:VEVENT
BEGIN:VEVENT
DTSTART;TZID=America/New_York:20261101T080000
DTEND;TZID=America/New_York:20261101T130000
DTSTAMP:20260423T012440
CREATED:20251208T142749Z
LAST-MODIFIED:20251208T142749Z
UID:10003855-1793520000-1793538000@palmvalleycommunity.org
SUMMARY:First Babtist Church of Ponte Vedra
DESCRIPTION:
URL:https://palmvalleycommunity.org/event/first-babtist-church-of-ponte-vedra/2026-11-01/
LOCATION:Palm Valley Community Association Center\, 148 Canal Blvd.\, Ponte Vedra Beach\, FL\, 32082\, United States
END:VEVENT
BEGIN:VEVENT
DTSTART;TZID=America/New_York:20261103T100000
DTEND;TZID=America/New_York:20261103T130000
DTSTAMP:20260423T012440
CREATED:20240517T224306Z
LAST-MODIFIED:20240517T224618Z
UID:10002939-1793700000-1793710800@palmvalleycommunity.org
SUMMARY:Palm Valley Farmers Market
DESCRIPTION:Join us each Tuesday from 10 AM – 1 PM (summer hours)\, rain or shine at the Palm Valley Community Center. We will have a variety of vendors to offer fresh produce\, baked goods\, sweet treats\, handcrafted jewelry\, skincare items\, starter plants/veggies and more! Make sure you follow the new Palm Valley Market for updated vendor listings. See you at the Market! \n 
URL:https://palmvalleycommunity.org/event/palm-valley-mini-farmers-market-2-2-2/2026-11-03/
LOCATION:Palm Valley Community Association Center\, 148 Canal Blvd.\, Ponte Vedra Beach\, FL\, 32082\, United States
ATTACH;FMTTYPE=image/jpeg:https://palmvalleycommunity.org/wp-content/uploads/2022/04/Palm-Valley-FM-Veggie-Banner_summer-scaled.jpg
ORGANIZER;CN="Events Committee":MAILTO:palmvalleycommunitycenter@gmail.com
END:VEVENT
BEGIN:VEVENT
DTSTART;TZID=America/New_York:20261103T164500
DTEND;TZID=America/New_York:20261103T181500
DTSTAMP:20260423T012440
CREATED:20250825T201026Z
LAST-MODIFIED:20250825T201026Z
UID:10003649-1793724300-1793729700@palmvalleycommunity.org
SUMMARY:Martial Arts Class
DESCRIPTION:
URL:https://palmvalleycommunity.org/event/martial-arts-class/2026-11-03/
LOCATION:Palm Valley Community Association Center\, 148 Canal Blvd.\, Ponte Vedra Beach\, FL\, 32082\, United States
END:VEVENT
BEGIN:VEVENT
DTSTART;TZID=America/New_York:20261105T164500
DTEND;TZID=America/New_York:20261105T181500
DTSTAMP:20260423T012440
CREATED:20250825T201026Z
LAST-MODIFIED:20250825T201026Z
UID:10003650-1793897100-1793902500@palmvalleycommunity.org
SUMMARY:Martial Arts Class
DESCRIPTION:
URL:https://palmvalleycommunity.org/event/martial-arts-class/2026-11-05/
LOCATION:Palm Valley Community Association Center\, 148 Canal Blvd.\, Ponte Vedra Beach\, FL\, 32082\, United States
END:VEVENT
END:VCALENDAR