BEGIN:VCALENDAR
VERSION:2.0
PRODID:-//PalmValleyCommunityAssociation - ECPv6.15.20//NONSGML v1.0//EN
CALSCALE:GREGORIAN
METHOD:PUBLISH
X-WR-CALNAME:PalmValleyCommunityAssociation
X-ORIGINAL-URL:https://palmvalleycommunity.org
X-WR-CALDESC:Events for PalmValleyCommunityAssociation
REFRESH-INTERVAL;VALUE=DURATION:PT1H
X-Robots-Tag:noindex
X-PUBLISHED-TTL:PT1H
BEGIN:VTIMEZONE
TZID:America/New_York
BEGIN:DAYLIGHT
TZOFFSETFROM:-0500
TZOFFSETTO:-0400
TZNAME:EDT
DTSTART:20250309T070000
END:DAYLIGHT
BEGIN:STANDARD
TZOFFSETFROM:-0400
TZOFFSETTO:-0500
TZNAME:EST
DTSTART:20251102T060000
END:STANDARD
BEGIN:DAYLIGHT
TZOFFSETFROM:-0500
TZOFFSETTO:-0400
TZNAME:EDT
DTSTART:20260308T070000
END:DAYLIGHT
BEGIN:STANDARD
TZOFFSETFROM:-0400
TZOFFSETTO:-0500
TZNAME:EST
DTSTART:20261101T060000
END:STANDARD
BEGIN:DAYLIGHT
TZOFFSETFROM:-0500
TZOFFSETTO:-0400
TZNAME:EDT
DTSTART:20270314T070000
END:DAYLIGHT
BEGIN:STANDARD
TZOFFSETFROM:-0400
TZOFFSETTO:-0500
TZNAME:EST
DTSTART:20271107T060000
END:STANDARD
END:VTIMEZONE
BEGIN:VEVENT
DTSTART;TZID=America/New_York:20260425T140000
DTEND;TZID=America/New_York:20260425T170000
DTSTAMP:20260422T174733
CREATED:20251009T140339Z
LAST-MODIFIED:20251009T140339Z
UID:10003767-1777125600-1777136400@palmvalleycommunity.org
SUMMARY:Branches of Christ Church
DESCRIPTION:
URL:https://palmvalleycommunity.org/event/branches-of-christ-church-34/2026-04-25/
LOCATION:Palm Valley Community Association Center\, 148 Canal Blvd.\, Ponte Vedra Beach\, FL\, 32082\, United States
END:VEVENT
BEGIN:VEVENT
DTSTART;TZID=America/New_York:20260426T080000
DTEND;TZID=America/New_York:20260426T130000
DTSTAMP:20260422T174733
CREATED:20251208T142749Z
LAST-MODIFIED:20251208T142749Z
UID:10003828-1777190400-1777208400@palmvalleycommunity.org
SUMMARY:First Babtist Church of Ponte Vedra
DESCRIPTION:
URL:https://palmvalleycommunity.org/event/first-babtist-church-of-ponte-vedra/2026-04-26/
LOCATION:Palm Valley Community Association Center\, 148 Canal Blvd.\, Ponte Vedra Beach\, FL\, 32082\, United States
END:VEVENT
BEGIN:VEVENT
DTSTART;TZID=America/New_York:20260426T160000
DTEND;TZID=America/New_York:20260426T180000
DTSTAMP:20260422T174733
CREATED:20260202T174148Z
LAST-MODIFIED:20260202T174148Z
UID:10003899-1777219200-1777226400@palmvalleycommunity.org
SUMMARY:Jeremy Prince Event
DESCRIPTION:
URL:https://palmvalleycommunity.org/event/jeremy-prince-event/
LOCATION:Palm Valley Community Association Center\, 148 Canal Blvd.\, Ponte Vedra Beach\, FL\, 32082\, United States
END:VEVENT
BEGIN:VEVENT
DTSTART;TZID=America/New_York:20260428T100000
DTEND;TZID=America/New_York:20260428T130000
DTSTAMP:20260422T174733
CREATED:20240517T224306Z
LAST-MODIFIED:20240517T224618Z
UID:10002912-1777370400-1777381200@palmvalleycommunity.org
SUMMARY:Palm Valley Farmers Market
DESCRIPTION:Join us each Tuesday from 10 AM – 1 PM (summer hours)\, rain or shine at the Palm Valley Community Center. We will have a variety of vendors to offer fresh produce\, baked goods\, sweet treats\, handcrafted jewelry\, skincare items\, starter plants/veggies and more! Make sure you follow the new Palm Valley Market for updated vendor listings. See you at the Market! \n 
URL:https://palmvalleycommunity.org/event/palm-valley-mini-farmers-market-2-2-2/2026-04-28/
LOCATION:Palm Valley Community Association Center\, 148 Canal Blvd.\, Ponte Vedra Beach\, FL\, 32082\, United States
ATTACH;FMTTYPE=image/jpeg:https://palmvalleycommunity.org/wp-content/uploads/2022/04/Palm-Valley-FM-Veggie-Banner_summer-scaled.jpg
ORGANIZER;CN="Events Committee":MAILTO:palmvalleycommunitycenter@gmail.com
END:VEVENT
BEGIN:VEVENT
DTSTART;TZID=America/New_York:20260428T164500
DTEND;TZID=America/New_York:20260428T181500
DTSTAMP:20260422T174733
CREATED:20250825T201026Z
LAST-MODIFIED:20250825T201026Z
UID:10003595-1777394700-1777400100@palmvalleycommunity.org
SUMMARY:Martial Arts Class
DESCRIPTION:
URL:https://palmvalleycommunity.org/event/martial-arts-class/2026-04-28/
LOCATION:Palm Valley Community Association Center\, 148 Canal Blvd.\, Ponte Vedra Beach\, FL\, 32082\, United States
END:VEVENT
BEGIN:VEVENT
DTSTART;TZID=America/New_York:20260429T173000
DTEND;TZID=America/New_York:20260429T203000
DTSTAMP:20260422T174733
CREATED:20260218T222016Z
LAST-MODIFIED:20260311T182913Z
UID:10003904-1777483800-1777494600@palmvalleycommunity.org
SUMMARY:Mumford Academy
DESCRIPTION:
URL:https://palmvalleycommunity.org/event/mumford-academy/2026-04-29/
LOCATION:Palm Valley Community Association Center\, 148 Canal Blvd.\, Ponte Vedra Beach\, FL\, 32082\, United States
END:VEVENT
BEGIN:VEVENT
DTSTART;TZID=America/New_York:20260430T164500
DTEND;TZID=America/New_York:20260430T181500
DTSTAMP:20260422T174733
CREATED:20250825T201026Z
LAST-MODIFIED:20250825T201026Z
UID:10003596-1777567500-1777572900@palmvalleycommunity.org
SUMMARY:Martial Arts Class
DESCRIPTION:
URL:https://palmvalleycommunity.org/event/martial-arts-class/2026-04-30/
LOCATION:Palm Valley Community Association Center\, 148 Canal Blvd.\, Ponte Vedra Beach\, FL\, 32082\, United States
END:VEVENT
BEGIN:VEVENT
DTSTART;TZID=America/New_York:20260501T110000
DTEND;TZID=America/New_York:20260501T130000
DTSTAMP:20260422T174733
CREATED:20240102T195150Z
LAST-MODIFIED:20240102T195150Z
UID:10002651-1777633200-1777640400@palmvalleycommunity.org
SUMMARY:AA Event
DESCRIPTION:
URL:https://palmvalleycommunity.org/event/aa-event/2026-05-01/
LOCATION:FL
END:VEVENT
BEGIN:VEVENT
DTSTART;TZID=America/New_York:20260502T090000
DTEND;TZID=America/New_York:20260502T120000
DTSTAMP:20260422T174733
CREATED:20250719T220747Z
LAST-MODIFIED:20250719T220747Z
UID:10003515-1777712400-1777723200@palmvalleycommunity.org
SUMMARY:Gracelynn Hope Foundation Mothers Day Brunch
DESCRIPTION:
URL:https://palmvalleycommunity.org/event/gracelynn-hope-foundation-mothers-day-brunch/
LOCATION:Palm Valley Community Association Center\, 148 Canal Blvd.\, Ponte Vedra Beach\, FL\, 32082\, United States
END:VEVENT
BEGIN:VEVENT
DTSTART;TZID=America/New_York:20260502T140000
DTEND;TZID=America/New_York:20260502T170000
DTSTAMP:20260422T174733
CREATED:20251009T140339Z
LAST-MODIFIED:20251009T140339Z
UID:10003768-1777730400-1777741200@palmvalleycommunity.org
SUMMARY:Branches of Christ Church
DESCRIPTION:
URL:https://palmvalleycommunity.org/event/branches-of-christ-church-34/2026-05-02/
LOCATION:Palm Valley Community Association Center\, 148 Canal Blvd.\, Ponte Vedra Beach\, FL\, 32082\, United States
END:VEVENT
BEGIN:VEVENT
DTSTART;TZID=America/New_York:20260503T080000
DTEND;TZID=America/New_York:20260503T130000
DTSTAMP:20260422T174733
CREATED:20251208T142749Z
LAST-MODIFIED:20251208T142749Z
UID:10003829-1777795200-1777813200@palmvalleycommunity.org
SUMMARY:First Babtist Church of Ponte Vedra
DESCRIPTION:
URL:https://palmvalleycommunity.org/event/first-babtist-church-of-ponte-vedra/2026-05-03/
LOCATION:Palm Valley Community Association Center\, 148 Canal Blvd.\, Ponte Vedra Beach\, FL\, 32082\, United States
END:VEVENT
BEGIN:VEVENT
DTSTART;TZID=America/New_York:20260505T100000
DTEND;TZID=America/New_York:20260505T130000
DTSTAMP:20260422T174733
CREATED:20240517T224306Z
LAST-MODIFIED:20240517T224618Z
UID:10002913-1777975200-1777986000@palmvalleycommunity.org
SUMMARY:Palm Valley Farmers Market
DESCRIPTION:Join us each Tuesday from 10 AM – 1 PM (summer hours)\, rain or shine at the Palm Valley Community Center. We will have a variety of vendors to offer fresh produce\, baked goods\, sweet treats\, handcrafted jewelry\, skincare items\, starter plants/veggies and more! Make sure you follow the new Palm Valley Market for updated vendor listings. See you at the Market! \n 
URL:https://palmvalleycommunity.org/event/palm-valley-mini-farmers-market-2-2-2/2026-05-05/
LOCATION:Palm Valley Community Association Center\, 148 Canal Blvd.\, Ponte Vedra Beach\, FL\, 32082\, United States
ATTACH;FMTTYPE=image/jpeg:https://palmvalleycommunity.org/wp-content/uploads/2022/04/Palm-Valley-FM-Veggie-Banner_summer-scaled.jpg
ORGANIZER;CN="Events Committee":MAILTO:palmvalleycommunitycenter@gmail.com
END:VEVENT
BEGIN:VEVENT
DTSTART;TZID=America/New_York:20260505T164500
DTEND;TZID=America/New_York:20260505T181500
DTSTAMP:20260422T174733
CREATED:20250825T201026Z
LAST-MODIFIED:20250825T201026Z
UID:10003597-1777999500-1778004900@palmvalleycommunity.org
SUMMARY:Martial Arts Class
DESCRIPTION:
URL:https://palmvalleycommunity.org/event/martial-arts-class/2026-05-05/
LOCATION:Palm Valley Community Association Center\, 148 Canal Blvd.\, Ponte Vedra Beach\, FL\, 32082\, United States
END:VEVENT
BEGIN:VEVENT
DTSTART;TZID=America/New_York:20260506T173000
DTEND;TZID=America/New_York:20260506T203000
DTSTAMP:20260422T174733
CREATED:20260218T222016Z
LAST-MODIFIED:20260311T182913Z
UID:10003905-1778088600-1778099400@palmvalleycommunity.org
SUMMARY:Mumford Academy
DESCRIPTION:
URL:https://palmvalleycommunity.org/event/mumford-academy/2026-05-06/
LOCATION:Palm Valley Community Association Center\, 148 Canal Blvd.\, Ponte Vedra Beach\, FL\, 32082\, United States
END:VEVENT
BEGIN:VEVENT
DTSTART;TZID=America/New_York:20260507T110000
DTEND;TZID=America/New_York:20260507T140000
DTSTAMP:20260422T174733
CREATED:20260408T160136Z
LAST-MODIFIED:20260408T160136Z
UID:10003933-1778151600-1778162400@palmvalleycommunity.org
SUMMARY:Reid Mann Event
DESCRIPTION:
URL:https://palmvalleycommunity.org/event/reid-mann-event/2026-05-07/
LOCATION:Palm Valley Community Association Center\, 148 Canal Blvd.\, Ponte Vedra Beach\, FL\, 32082\, United States
END:VEVENT
BEGIN:VEVENT
DTSTART;TZID=America/New_York:20260507T164500
DTEND;TZID=America/New_York:20260507T181500
DTSTAMP:20260422T174733
CREATED:20250825T201026Z
LAST-MODIFIED:20250825T201026Z
UID:10003598-1778172300-1778177700@palmvalleycommunity.org
SUMMARY:Martial Arts Class
DESCRIPTION:
URL:https://palmvalleycommunity.org/event/martial-arts-class/2026-05-07/
LOCATION:Palm Valley Community Association Center\, 148 Canal Blvd.\, Ponte Vedra Beach\, FL\, 32082\, United States
END:VEVENT
BEGIN:VEVENT
DTSTART;TZID=America/New_York:20260508T110000
DTEND;TZID=America/New_York:20260508T130000
DTSTAMP:20260422T174733
CREATED:20240102T195150Z
LAST-MODIFIED:20240102T195150Z
UID:10002652-1778238000-1778245200@palmvalleycommunity.org
SUMMARY:AA Event
DESCRIPTION:
URL:https://palmvalleycommunity.org/event/aa-event/2026-05-08/
LOCATION:FL
END:VEVENT
BEGIN:VEVENT
DTSTART;TZID=America/New_York:20260508T180000
DTEND;TZID=America/New_York:20260508T210000
DTSTAMP:20260422T174733
CREATED:20260330T193358Z
LAST-MODIFIED:20260330T193358Z
UID:10003931-1778263200-1778274000@palmvalleycommunity.org
SUMMARY:North Roscoe Neighborhood Meeting
DESCRIPTION:
URL:https://palmvalleycommunity.org/event/north-roscoe-neighborhood-meeting-2/
LOCATION:Palm Valley Community Association Center\, 148 Canal Blvd.\, Ponte Vedra Beach\, FL\, 32082\, United States
END:VEVENT
BEGIN:VEVENT
DTSTART;TZID=America/New_York:20260509T100000
DTEND;TZID=America/New_York:20260509T130000
DTSTAMP:20260422T174733
CREATED:20260218T222603Z
LAST-MODIFIED:20260218T222603Z
UID:10003916-1778320800-1778331600@palmvalleycommunity.org
SUMMARY:Mumford Academy
DESCRIPTION:
URL:https://palmvalleycommunity.org/event/mumford-academy-2/2026-05-09/
LOCATION:Palm Valley Community Association Center\, 148 Canal Blvd.\, Ponte Vedra Beach\, FL\, 32082\, United States
END:VEVENT
BEGIN:VEVENT
DTSTART;TZID=America/New_York:20260509T140000
DTEND;TZID=America/New_York:20260509T170000
DTSTAMP:20260422T174733
CREATED:20251009T140339Z
LAST-MODIFIED:20251009T140339Z
UID:10003769-1778335200-1778346000@palmvalleycommunity.org
SUMMARY:Branches of Christ Church
DESCRIPTION:
URL:https://palmvalleycommunity.org/event/branches-of-christ-church-34/2026-05-09/
LOCATION:Palm Valley Community Association Center\, 148 Canal Blvd.\, Ponte Vedra Beach\, FL\, 32082\, United States
END:VEVENT
BEGIN:VEVENT
DTSTART;TZID=America/New_York:20260510T080000
DTEND;TZID=America/New_York:20260510T130000
DTSTAMP:20260422T174733
CREATED:20251208T142749Z
LAST-MODIFIED:20251208T142749Z
UID:10003830-1778400000-1778418000@palmvalleycommunity.org
SUMMARY:First Babtist Church of Ponte Vedra
DESCRIPTION:
URL:https://palmvalleycommunity.org/event/first-babtist-church-of-ponte-vedra/2026-05-10/
LOCATION:Palm Valley Community Association Center\, 148 Canal Blvd.\, Ponte Vedra Beach\, FL\, 32082\, United States
END:VEVENT
BEGIN:VEVENT
DTSTART;TZID=America/New_York:20260511T080000
DTEND;TZID=America/New_York:20260511T170000
DTSTAMP:20260422T174733
CREATED:20260116T210852Z
LAST-MODIFIED:20260116T210852Z
UID:10003895-1778486400-1778518800@palmvalleycommunity.org
SUMMARY:Life Line Screening Event
DESCRIPTION:
URL:https://palmvalleycommunity.org/event/life-line-screening-event/2026-05-11/
LOCATION:Palm Valley Community Association Center\, 148 Canal Blvd.\, Ponte Vedra Beach\, FL\, 32082\, United States
END:VEVENT
BEGIN:VEVENT
DTSTART;TZID=America/New_York:20260511T183000
DTEND;TZID=America/New_York:20260511T203000
DTSTAMP:20260422T174733
CREATED:20250215T170616Z
LAST-MODIFIED:20250413T205550Z
UID:10003337-1778524200-1778531400@palmvalleycommunity.org
SUMMARY:PVCA Board Meeting
DESCRIPTION:
URL:https://palmvalleycommunity.org/event/pvca-board-meeting-5/2026-05-11/
LOCATION:Palm Valley Community Association Center\, 148 Canal Blvd.\, Ponte Vedra Beach\, FL\, 32082\, United States
END:VEVENT
BEGIN:VEVENT
DTSTART;TZID=America/New_York:20260512T100000
DTEND;TZID=America/New_York:20260512T130000
DTSTAMP:20260422T174733
CREATED:20240517T224306Z
LAST-MODIFIED:20240517T224618Z
UID:10002914-1778580000-1778590800@palmvalleycommunity.org
SUMMARY:Palm Valley Farmers Market
DESCRIPTION:Join us each Tuesday from 10 AM – 1 PM (summer hours)\, rain or shine at the Palm Valley Community Center. We will have a variety of vendors to offer fresh produce\, baked goods\, sweet treats\, handcrafted jewelry\, skincare items\, starter plants/veggies and more! Make sure you follow the new Palm Valley Market for updated vendor listings. See you at the Market! \n 
URL:https://palmvalleycommunity.org/event/palm-valley-mini-farmers-market-2-2-2/2026-05-12/
LOCATION:Palm Valley Community Association Center\, 148 Canal Blvd.\, Ponte Vedra Beach\, FL\, 32082\, United States
ATTACH;FMTTYPE=image/jpeg:https://palmvalleycommunity.org/wp-content/uploads/2022/04/Palm-Valley-FM-Veggie-Banner_summer-scaled.jpg
ORGANIZER;CN="Events Committee":MAILTO:palmvalleycommunitycenter@gmail.com
END:VEVENT
BEGIN:VEVENT
DTSTART;TZID=America/New_York:20260512T164500
DTEND;TZID=America/New_York:20260512T181500
DTSTAMP:20260422T174733
CREATED:20250825T201026Z
LAST-MODIFIED:20250825T201026Z
UID:10003599-1778604300-1778609700@palmvalleycommunity.org
SUMMARY:Martial Arts Class
DESCRIPTION:
URL:https://palmvalleycommunity.org/event/martial-arts-class/2026-05-12/
LOCATION:Palm Valley Community Association Center\, 148 Canal Blvd.\, Ponte Vedra Beach\, FL\, 32082\, United States
END:VEVENT
BEGIN:VEVENT
DTSTART;TZID=America/New_York:20260513T173000
DTEND;TZID=America/New_York:20260513T203000
DTSTAMP:20260422T174733
CREATED:20260218T222016Z
LAST-MODIFIED:20260311T182913Z
UID:10003906-1778693400-1778704200@palmvalleycommunity.org
SUMMARY:Mumford Academy
DESCRIPTION:
URL:https://palmvalleycommunity.org/event/mumford-academy/2026-05-13/
LOCATION:Palm Valley Community Association Center\, 148 Canal Blvd.\, Ponte Vedra Beach\, FL\, 32082\, United States
END:VEVENT
BEGIN:VEVENT
DTSTART;TZID=America/New_York:20260514T164500
DTEND;TZID=America/New_York:20260514T181500
DTSTAMP:20260422T174733
CREATED:20250825T201026Z
LAST-MODIFIED:20250825T201026Z
UID:10003600-1778777100-1778782500@palmvalleycommunity.org
SUMMARY:Martial Arts Class
DESCRIPTION:
URL:https://palmvalleycommunity.org/event/martial-arts-class/2026-05-14/
LOCATION:Palm Valley Community Association Center\, 148 Canal Blvd.\, Ponte Vedra Beach\, FL\, 32082\, United States
END:VEVENT
BEGIN:VEVENT
DTSTART;TZID=America/New_York:20260515T110000
DTEND;TZID=America/New_York:20260515T130000
DTSTAMP:20260422T174733
CREATED:20240102T195150Z
LAST-MODIFIED:20240102T195150Z
UID:10002653-1778842800-1778850000@palmvalleycommunity.org
SUMMARY:AA Event
DESCRIPTION:
URL:https://palmvalleycommunity.org/event/aa-event/2026-05-15/
LOCATION:FL
END:VEVENT
BEGIN:VEVENT
DTSTART;TZID=America/New_York:20260516T100000
DTEND;TZID=America/New_York:20260516T130000
DTSTAMP:20260422T174733
CREATED:20260218T222603Z
LAST-MODIFIED:20260218T222603Z
UID:10003917-1778925600-1778936400@palmvalleycommunity.org
SUMMARY:Mumford Academy
DESCRIPTION:
URL:https://palmvalleycommunity.org/event/mumford-academy-2/2026-05-16/
LOCATION:Palm Valley Community Association Center\, 148 Canal Blvd.\, Ponte Vedra Beach\, FL\, 32082\, United States
END:VEVENT
BEGIN:VEVENT
DTSTART;TZID=America/New_York:20260516T140000
DTEND;TZID=America/New_York:20260516T170000
DTSTAMP:20260422T174733
CREATED:20251009T140339Z
LAST-MODIFIED:20251009T140339Z
UID:10003770-1778940000-1778950800@palmvalleycommunity.org
SUMMARY:Branches of Christ Church
DESCRIPTION:
URL:https://palmvalleycommunity.org/event/branches-of-christ-church-34/2026-05-16/
LOCATION:Palm Valley Community Association Center\, 148 Canal Blvd.\, Ponte Vedra Beach\, FL\, 32082\, United States
END:VEVENT
END:VCALENDAR