BEGIN:VCALENDAR
VERSION:2.0
PRODID:-//PalmValleyCommunityAssociation - ECPv6.15.20//NONSGML v1.0//EN
CALSCALE:GREGORIAN
METHOD:PUBLISH
X-ORIGINAL-URL:https://palmvalleycommunity.org
X-WR-CALDESC:Events for PalmValleyCommunityAssociation
REFRESH-INTERVAL;VALUE=DURATION:PT1H
X-Robots-Tag:noindex
X-PUBLISHED-TTL:PT1H
BEGIN:VTIMEZONE
TZID:America/New_York
BEGIN:DAYLIGHT
TZOFFSETFROM:-0500
TZOFFSETTO:-0400
TZNAME:EDT
DTSTART:20250309T070000
END:DAYLIGHT
BEGIN:STANDARD
TZOFFSETFROM:-0400
TZOFFSETTO:-0500
TZNAME:EST
DTSTART:20251102T060000
END:STANDARD
BEGIN:DAYLIGHT
TZOFFSETFROM:-0500
TZOFFSETTO:-0400
TZNAME:EDT
DTSTART:20260308T070000
END:DAYLIGHT
BEGIN:STANDARD
TZOFFSETFROM:-0400
TZOFFSETTO:-0500
TZNAME:EST
DTSTART:20261101T060000
END:STANDARD
BEGIN:DAYLIGHT
TZOFFSETFROM:-0500
TZOFFSETTO:-0400
TZNAME:EDT
DTSTART:20270314T070000
END:DAYLIGHT
BEGIN:STANDARD
TZOFFSETFROM:-0400
TZOFFSETTO:-0500
TZNAME:EST
DTSTART:20271107T060000
END:STANDARD
END:VTIMEZONE
BEGIN:VEVENT
DTSTART;TZID=America/New_York:20260326T093000
DTEND;TZID=America/New_York:20260326T113000
DTSTAMP:20260422T180827
CREATED:20251201T014310Z
LAST-MODIFIED:20251201T014310Z
UID:10003800-1774517400-1774524600@palmvalleycommunity.org
SUMMARY:Home School Music Classes by Studio L
DESCRIPTION:
URL:https://palmvalleycommunity.org/event/home-school-music-classes-by-studio-l-2/2026-03-26/
LOCATION:Palm Valley Community Association Center\, 148 Canal Blvd.\, Ponte Vedra Beach\, FL\, 32082\, United States
END:VEVENT
BEGIN:VEVENT
DTSTART;TZID=America/New_York:20260326T164500
DTEND;TZID=America/New_York:20260326T181500
DTSTAMP:20260422T180827
CREATED:20250825T201026Z
LAST-MODIFIED:20250825T201026Z
UID:10003586-1774543500-1774548900@palmvalleycommunity.org
SUMMARY:Martial Arts Class
DESCRIPTION:
URL:https://palmvalleycommunity.org/event/martial-arts-class/2026-03-26/
LOCATION:Palm Valley Community Association Center\, 148 Canal Blvd.\, Ponte Vedra Beach\, FL\, 32082\, United States
END:VEVENT
BEGIN:VEVENT
DTSTART;TZID=America/New_York:20260327T110000
DTEND;TZID=America/New_York:20260327T130000
DTSTAMP:20260422T180827
CREATED:20240102T195150Z
LAST-MODIFIED:20240102T195150Z
UID:10002646-1774609200-1774616400@palmvalleycommunity.org
SUMMARY:AA Event
DESCRIPTION:
URL:https://palmvalleycommunity.org/event/aa-event/2026-03-27/
LOCATION:FL
END:VEVENT
BEGIN:VEVENT
DTSTART;TZID=America/New_York:20260327T190000
DTEND;TZID=America/New_York:20260327T210000
DTSTAMP:20260422T180827
CREATED:20260319T134555Z
LAST-MODIFIED:20260319T134555Z
UID:10003930-1774638000-1774645200@palmvalleycommunity.org
SUMMARY:North Roscoe Neighborhood meeting
DESCRIPTION:
URL:https://palmvalleycommunity.org/event/north-roscoe-neighborhood-meeting/
LOCATION:Palm Valley Community Association Center\, 148 Canal Blvd.\, Ponte Vedra Beach\, FL\, 32082\, United States
END:VEVENT
BEGIN:VEVENT
DTSTART;TZID=America/New_York:20260328T073000
DTEND;TZID=America/New_York:20260328T130000
DTSTAMP:20260422T180827
CREATED:20260112T165356Z
LAST-MODIFIED:20260112T165356Z
UID:10003882-1774683000-1774702800@palmvalleycommunity.org
SUMMARY:Gracelynn Hope Foundation Easter Egg Hunt
DESCRIPTION:
URL:https://palmvalleycommunity.org/event/gracelynn-hope-foundation-easter-egg-hunt/2026-03-28/1/
LOCATION:Palm Valley Community Association Center\, 148 Canal Blvd.\, Ponte Vedra Beach\, FL\, 32082\, United States
END:VEVENT
BEGIN:VEVENT
DTSTART;TZID=America/New_York:20260328T080000
DTEND;TZID=America/New_York:20260328T170000
DTSTAMP:20260422T180827
CREATED:20260112T165356Z
LAST-MODIFIED:20260112T165356Z
UID:10003883-1774684800-1774717200@palmvalleycommunity.org
SUMMARY:Gracelynn Hope Foundation Easter Egg Hunt
DESCRIPTION:
URL:https://palmvalleycommunity.org/event/gracelynn-hope-foundation-easter-egg-hunt/2026-03-28/2/
LOCATION:Palm Valley Community Association Center\, 148 Canal Blvd.\, Ponte Vedra Beach\, FL\, 32082\, United States
END:VEVENT
BEGIN:VEVENT
DTSTART;TZID=America/New_York:20260328T140000
DTEND;TZID=America/New_York:20260328T170000
DTSTAMP:20260422T180827
CREATED:20240916T184434Z
LAST-MODIFIED:20240916T184434Z
UID:10003170-1774706400-1774717200@palmvalleycommunity.org
SUMMARY:Branches of Christ Church
DESCRIPTION:
URL:https://palmvalleycommunity.org/event/branches-of-christ-church-30/2026-03-28/
LOCATION:Palm Valley Community Association Center\, 148 Canal Blvd.\, Ponte Vedra Beach\, FL\, 32082\, United States
END:VEVENT
BEGIN:VEVENT
DTSTART;TZID=America/New_York:20260329T080000
DTEND;TZID=America/New_York:20260329T130000
DTSTAMP:20260422T180827
CREATED:20251208T142749Z
LAST-MODIFIED:20251208T142749Z
UID:10003824-1774771200-1774789200@palmvalleycommunity.org
SUMMARY:First Babtist Church of Ponte Vedra
DESCRIPTION:
URL:https://palmvalleycommunity.org/event/first-babtist-church-of-ponte-vedra/2026-03-29/
LOCATION:Palm Valley Community Association Center\, 148 Canal Blvd.\, Ponte Vedra Beach\, FL\, 32082\, United States
END:VEVENT
BEGIN:VEVENT
DTSTART;TZID=America/New_York:20260331T100000
DTEND;TZID=America/New_York:20260331T130000
DTSTAMP:20260422T180827
CREATED:20240517T224306Z
LAST-MODIFIED:20240517T224618Z
UID:10002908-1774951200-1774962000@palmvalleycommunity.org
SUMMARY:Palm Valley Farmers Market
DESCRIPTION:Join us each Tuesday from 10 AM – 1 PM (summer hours)\, rain or shine at the Palm Valley Community Center. We will have a variety of vendors to offer fresh produce\, baked goods\, sweet treats\, handcrafted jewelry\, skincare items\, starter plants/veggies and more! Make sure you follow the new Palm Valley Market for updated vendor listings. See you at the Market! \n 
URL:https://palmvalleycommunity.org/event/palm-valley-mini-farmers-market-2-2-2/2026-03-31/
LOCATION:Palm Valley Community Association Center\, 148 Canal Blvd.\, Ponte Vedra Beach\, FL\, 32082\, United States
ATTACH;FMTTYPE=image/jpeg:https://palmvalleycommunity.org/wp-content/uploads/2022/04/Palm-Valley-FM-Veggie-Banner_summer-scaled.jpg
ORGANIZER;CN="Events Committee":MAILTO:palmvalleycommunitycenter@gmail.com
END:VEVENT
BEGIN:VEVENT
DTSTART;TZID=America/New_York:20260331T164500
DTEND;TZID=America/New_York:20260331T181500
DTSTAMP:20260422T180827
CREATED:20250825T201026Z
LAST-MODIFIED:20250825T201026Z
UID:10003587-1774975500-1774980900@palmvalleycommunity.org
SUMMARY:Martial Arts Class
DESCRIPTION:
URL:https://palmvalleycommunity.org/event/martial-arts-class/2026-03-31/
LOCATION:Palm Valley Community Association Center\, 148 Canal Blvd.\, Ponte Vedra Beach\, FL\, 32082\, United States
END:VEVENT
BEGIN:VEVENT
DTSTART;TZID=America/New_York:20260401T193000
DTEND;TZID=America/New_York:20260401T223000
DTSTAMP:20260422T180827
CREATED:20251009T140957Z
LAST-MODIFIED:20251009T140957Z
UID:10003771-1775071800-1775082600@palmvalleycommunity.org
SUMMARY:Branches of Christ Church
DESCRIPTION:
URL:https://palmvalleycommunity.org/event/branches-of-christ-church-35/2026-04-01/
LOCATION:Palm Valley Community Association Center\, 148 Canal Blvd.\, Ponte Vedra Beach\, FL\, 32082\, United States
END:VEVENT
BEGIN:VEVENT
DTSTART;TZID=America/New_York:20260402T093000
DTEND;TZID=America/New_York:20260402T113000
DTSTAMP:20260422T180827
CREATED:20251201T014310Z
LAST-MODIFIED:20251201T014310Z
UID:10003801-1775122200-1775129400@palmvalleycommunity.org
SUMMARY:Home School Music Classes by Studio L
DESCRIPTION:
URL:https://palmvalleycommunity.org/event/home-school-music-classes-by-studio-l-2/2026-04-02/
LOCATION:Palm Valley Community Association Center\, 148 Canal Blvd.\, Ponte Vedra Beach\, FL\, 32082\, United States
END:VEVENT
BEGIN:VEVENT
DTSTART;TZID=America/New_York:20260402T164500
DTEND;TZID=America/New_York:20260402T181500
DTSTAMP:20260422T180827
CREATED:20250825T201026Z
LAST-MODIFIED:20250825T201026Z
UID:10003588-1775148300-1775153700@palmvalleycommunity.org
SUMMARY:Martial Arts Class
DESCRIPTION:
URL:https://palmvalleycommunity.org/event/martial-arts-class/2026-04-02/
LOCATION:Palm Valley Community Association Center\, 148 Canal Blvd.\, Ponte Vedra Beach\, FL\, 32082\, United States
END:VEVENT
BEGIN:VEVENT
DTSTART;TZID=America/New_York:20260403T110000
DTEND;TZID=America/New_York:20260403T130000
DTSTAMP:20260422T180827
CREATED:20240102T195150Z
LAST-MODIFIED:20240102T195150Z
UID:10002647-1775214000-1775221200@palmvalleycommunity.org
SUMMARY:AA Event
DESCRIPTION:
URL:https://palmvalleycommunity.org/event/aa-event/2026-04-03/
LOCATION:FL
END:VEVENT
BEGIN:VEVENT
DTSTART;TZID=America/New_York:20260404T100000
DTEND;TZID=America/New_York:20260404T130000
DTSTAMP:20260422T180827
CREATED:20260218T222603Z
LAST-MODIFIED:20260218T222603Z
UID:10003913-1775296800-1775307600@palmvalleycommunity.org
SUMMARY:Mumford Academy
DESCRIPTION:
URL:https://palmvalleycommunity.org/event/mumford-academy-2/2026-04-04/
LOCATION:Palm Valley Community Association Center\, 148 Canal Blvd.\, Ponte Vedra Beach\, FL\, 32082\, United States
END:VEVENT
BEGIN:VEVENT
DTSTART;TZID=America/New_York:20260404T140000
DTEND;TZID=America/New_York:20260404T170000
DTSTAMP:20260422T180827
CREATED:20240916T184434Z
LAST-MODIFIED:20240916T184434Z
UID:10003171-1775311200-1775322000@palmvalleycommunity.org
SUMMARY:Branches of Christ Church
DESCRIPTION:
URL:https://palmvalleycommunity.org/event/branches-of-christ-church-30/2026-04-04/
LOCATION:Palm Valley Community Association Center\, 148 Canal Blvd.\, Ponte Vedra Beach\, FL\, 32082\, United States
END:VEVENT
BEGIN:VEVENT
DTSTART;TZID=America/New_York:20260405T080000
DTEND;TZID=America/New_York:20260405T130000
DTSTAMP:20260422T180827
CREATED:20251208T142749Z
LAST-MODIFIED:20251208T142749Z
UID:10003825-1775376000-1775394000@palmvalleycommunity.org
SUMMARY:First Babtist Church of Ponte Vedra
DESCRIPTION:
URL:https://palmvalleycommunity.org/event/first-babtist-church-of-ponte-vedra/2026-04-05/
LOCATION:Palm Valley Community Association Center\, 148 Canal Blvd.\, Ponte Vedra Beach\, FL\, 32082\, United States
END:VEVENT
BEGIN:VEVENT
DTSTART;TZID=America/New_York:20260407T100000
DTEND;TZID=America/New_York:20260407T130000
DTSTAMP:20260422T180827
CREATED:20240517T224306Z
LAST-MODIFIED:20240517T224618Z
UID:10002909-1775556000-1775566800@palmvalleycommunity.org
SUMMARY:Palm Valley Farmers Market
DESCRIPTION:Join us each Tuesday from 10 AM – 1 PM (summer hours)\, rain or shine at the Palm Valley Community Center. We will have a variety of vendors to offer fresh produce\, baked goods\, sweet treats\, handcrafted jewelry\, skincare items\, starter plants/veggies and more! Make sure you follow the new Palm Valley Market for updated vendor listings. See you at the Market! \n 
URL:https://palmvalleycommunity.org/event/palm-valley-mini-farmers-market-2-2-2/2026-04-07/
LOCATION:Palm Valley Community Association Center\, 148 Canal Blvd.\, Ponte Vedra Beach\, FL\, 32082\, United States
ATTACH;FMTTYPE=image/jpeg:https://palmvalleycommunity.org/wp-content/uploads/2022/04/Palm-Valley-FM-Veggie-Banner_summer-scaled.jpg
ORGANIZER;CN="Events Committee":MAILTO:palmvalleycommunitycenter@gmail.com
END:VEVENT
BEGIN:VEVENT
DTSTART;TZID=America/New_York:20260407T164500
DTEND;TZID=America/New_York:20260407T181500
DTSTAMP:20260422T180827
CREATED:20250825T201026Z
LAST-MODIFIED:20250825T201026Z
UID:10003589-1775580300-1775585700@palmvalleycommunity.org
SUMMARY:Martial Arts Class
DESCRIPTION:
URL:https://palmvalleycommunity.org/event/martial-arts-class/2026-04-07/
LOCATION:Palm Valley Community Association Center\, 148 Canal Blvd.\, Ponte Vedra Beach\, FL\, 32082\, United States
END:VEVENT
BEGIN:VEVENT
DTSTART;TZID=America/New_York:20260407T193000
DTEND;TZID=America/New_York:20260407T223000
DTSTAMP:20260422T180827
CREATED:20251101T160816Z
LAST-MODIFIED:20251101T160816Z
UID:10003790-1775590200-1775601000@palmvalleycommunity.org
SUMMARY:Branches of Christ Church
DESCRIPTION:
URL:https://palmvalleycommunity.org/event/branches-of-christ-church-36/
LOCATION:Palm Valley Community Association Center\, 148 Canal Blvd.\, Ponte Vedra Beach\, FL\, 32082\, United States
END:VEVENT
BEGIN:VEVENT
DTSTART;TZID=America/New_York:20260408T193000
DTEND;TZID=America/New_York:20260408T223000
DTSTAMP:20260422T180827
CREATED:20251009T140957Z
LAST-MODIFIED:20251009T140957Z
UID:10003772-1775676600-1775687400@palmvalleycommunity.org
SUMMARY:Branches of Christ Church
DESCRIPTION:
URL:https://palmvalleycommunity.org/event/branches-of-christ-church-35/2026-04-08/
LOCATION:Palm Valley Community Association Center\, 148 Canal Blvd.\, Ponte Vedra Beach\, FL\, 32082\, United States
END:VEVENT
BEGIN:VEVENT
DTSTART;TZID=America/New_York:20260409T093000
DTEND;TZID=America/New_York:20260409T113000
DTSTAMP:20260422T180827
CREATED:20251201T014310Z
LAST-MODIFIED:20251201T014310Z
UID:10003802-1775727000-1775734200@palmvalleycommunity.org
SUMMARY:Home School Music Classes by Studio L
DESCRIPTION:
URL:https://palmvalleycommunity.org/event/home-school-music-classes-by-studio-l-2/2026-04-09/
LOCATION:Palm Valley Community Association Center\, 148 Canal Blvd.\, Ponte Vedra Beach\, FL\, 32082\, United States
END:VEVENT
BEGIN:VEVENT
DTSTART;TZID=America/New_York:20260409T164500
DTEND;TZID=America/New_York:20260409T181500
DTSTAMP:20260422T180827
CREATED:20250825T201026Z
LAST-MODIFIED:20250825T201026Z
UID:10003590-1775753100-1775758500@palmvalleycommunity.org
SUMMARY:Martial Arts Class
DESCRIPTION:
URL:https://palmvalleycommunity.org/event/martial-arts-class/2026-04-09/
LOCATION:Palm Valley Community Association Center\, 148 Canal Blvd.\, Ponte Vedra Beach\, FL\, 32082\, United States
END:VEVENT
BEGIN:VEVENT
DTSTART;TZID=America/New_York:20260410T110000
DTEND;TZID=America/New_York:20260410T130000
DTSTAMP:20260422T180827
CREATED:20240102T195150Z
LAST-MODIFIED:20240102T195150Z
UID:10002648-1775818800-1775826000@palmvalleycommunity.org
SUMMARY:AA Event
DESCRIPTION:
URL:https://palmvalleycommunity.org/event/aa-event/2026-04-10/
LOCATION:FL
END:VEVENT
BEGIN:VEVENT
DTSTART;TZID=America/New_York:20260411T140000
DTEND;TZID=America/New_York:20260411T170000
DTSTAMP:20260422T180827
CREATED:20240916T184434Z
LAST-MODIFIED:20240916T184434Z
UID:10003172-1775916000-1775926800@palmvalleycommunity.org
SUMMARY:Branches of Christ Church
DESCRIPTION:
URL:https://palmvalleycommunity.org/event/branches-of-christ-church-30/2026-04-11/
LOCATION:Palm Valley Community Association Center\, 148 Canal Blvd.\, Ponte Vedra Beach\, FL\, 32082\, United States
END:VEVENT
BEGIN:VEVENT
DTSTART;TZID=America/New_York:20260412T080000
DTEND;TZID=America/New_York:20260412T130000
DTSTAMP:20260422T180827
CREATED:20251208T142749Z
LAST-MODIFIED:20251208T142749Z
UID:10003826-1775980800-1775998800@palmvalleycommunity.org
SUMMARY:First Babtist Church of Ponte Vedra
DESCRIPTION:
URL:https://palmvalleycommunity.org/event/first-babtist-church-of-ponte-vedra/2026-04-12/
LOCATION:Palm Valley Community Association Center\, 148 Canal Blvd.\, Ponte Vedra Beach\, FL\, 32082\, United States
END:VEVENT
BEGIN:VEVENT
DTSTART;TZID=America/New_York:20260413T180000
DTEND;TZID=America/New_York:20260413T203000
DTSTAMP:20260422T180827
CREATED:20260310T145444Z
LAST-MODIFIED:20260310T145444Z
UID:10003927-1776103200-1776112200@palmvalleycommunity.org
SUMMARY:PVCA public meeting
DESCRIPTION:
URL:https://palmvalleycommunity.org/event/pvca-public-meeting/
LOCATION:Palm Valley Community Association Center\, 148 Canal Blvd.\, Ponte Vedra Beach\, FL\, 32082\, United States
END:VEVENT
BEGIN:VEVENT
DTSTART;TZID=America/New_York:20260413T183000
DTEND;TZID=America/New_York:20260413T203000
DTSTAMP:20260422T180827
CREATED:20250215T170616Z
LAST-MODIFIED:20250413T205550Z
UID:10003336-1776105000-1776112200@palmvalleycommunity.org
SUMMARY:PVCA Board Meeting
DESCRIPTION:
URL:https://palmvalleycommunity.org/event/pvca-board-meeting-5/2026-04-13/
LOCATION:Palm Valley Community Association Center\, 148 Canal Blvd.\, Ponte Vedra Beach\, FL\, 32082\, United States
END:VEVENT
BEGIN:VEVENT
DTSTART;TZID=America/New_York:20260414T100000
DTEND;TZID=America/New_York:20260414T130000
DTSTAMP:20260422T180827
CREATED:20240517T224306Z
LAST-MODIFIED:20240517T224618Z
UID:10002910-1776160800-1776171600@palmvalleycommunity.org
SUMMARY:Palm Valley Farmers Market
DESCRIPTION:Join us each Tuesday from 10 AM – 1 PM (summer hours)\, rain or shine at the Palm Valley Community Center. We will have a variety of vendors to offer fresh produce\, baked goods\, sweet treats\, handcrafted jewelry\, skincare items\, starter plants/veggies and more! Make sure you follow the new Palm Valley Market for updated vendor listings. See you at the Market! \n 
URL:https://palmvalleycommunity.org/event/palm-valley-mini-farmers-market-2-2-2/2026-04-14/
LOCATION:Palm Valley Community Association Center\, 148 Canal Blvd.\, Ponte Vedra Beach\, FL\, 32082\, United States
ATTACH;FMTTYPE=image/jpeg:https://palmvalleycommunity.org/wp-content/uploads/2022/04/Palm-Valley-FM-Veggie-Banner_summer-scaled.jpg
ORGANIZER;CN="Events Committee":MAILTO:palmvalleycommunitycenter@gmail.com
END:VEVENT
BEGIN:VEVENT
DTSTART;TZID=America/New_York:20260414T164500
DTEND;TZID=America/New_York:20260414T181500
DTSTAMP:20260422T180827
CREATED:20250825T201026Z
LAST-MODIFIED:20250825T201026Z
UID:10003591-1776185100-1776190500@palmvalleycommunity.org
SUMMARY:Martial Arts Class
DESCRIPTION:
URL:https://palmvalleycommunity.org/event/martial-arts-class/2026-04-14/
LOCATION:Palm Valley Community Association Center\, 148 Canal Blvd.\, Ponte Vedra Beach\, FL\, 32082\, United States
END:VEVENT
END:VCALENDAR