BEGIN:VCALENDAR
VERSION:2.0
PRODID:-//PalmValleyCommunityAssociation - ECPv6.15.20//NONSGML v1.0//EN
CALSCALE:GREGORIAN
METHOD:PUBLISH
X-WR-CALNAME:PalmValleyCommunityAssociation
X-ORIGINAL-URL:https://palmvalleycommunity.org
X-WR-CALDESC:Events for PalmValleyCommunityAssociation
REFRESH-INTERVAL;VALUE=DURATION:PT1H
X-Robots-Tag:noindex
X-PUBLISHED-TTL:PT1H
BEGIN:VTIMEZONE
TZID:America/New_York
BEGIN:DAYLIGHT
TZOFFSETFROM:-0500
TZOFFSETTO:-0400
TZNAME:EDT
DTSTART:20250309T070000
END:DAYLIGHT
BEGIN:STANDARD
TZOFFSETFROM:-0400
TZOFFSETTO:-0500
TZNAME:EST
DTSTART:20251102T060000
END:STANDARD
BEGIN:DAYLIGHT
TZOFFSETFROM:-0500
TZOFFSETTO:-0400
TZNAME:EDT
DTSTART:20260308T070000
END:DAYLIGHT
BEGIN:STANDARD
TZOFFSETFROM:-0400
TZOFFSETTO:-0500
TZNAME:EST
DTSTART:20261101T060000
END:STANDARD
BEGIN:DAYLIGHT
TZOFFSETFROM:-0500
TZOFFSETTO:-0400
TZNAME:EDT
DTSTART:20270314T070000
END:DAYLIGHT
BEGIN:STANDARD
TZOFFSETFROM:-0400
TZOFFSETTO:-0500
TZNAME:EST
DTSTART:20271107T060000
END:STANDARD
END:VTIMEZONE
BEGIN:VEVENT
DTSTART;TZID=America/New_York:20260519T164500
DTEND;TZID=America/New_York:20260519T181500
DTSTAMP:20260422T174850
CREATED:20250825T201026Z
LAST-MODIFIED:20250825T201026Z
UID:10003601-1779209100-1779214500@palmvalleycommunity.org
SUMMARY:Martial Arts Class
DESCRIPTION:
URL:https://palmvalleycommunity.org/event/martial-arts-class/2026-05-19/
LOCATION:Palm Valley Community Association Center\, 148 Canal Blvd.\, Ponte Vedra Beach\, FL\, 32082\, United States
END:VEVENT
BEGIN:VEVENT
DTSTART;TZID=America/New_York:20260520T173000
DTEND;TZID=America/New_York:20260520T203000
DTSTAMP:20260422T174850
CREATED:20260218T222016Z
LAST-MODIFIED:20260311T182913Z
UID:10003907-1779298200-1779309000@palmvalleycommunity.org
SUMMARY:Mumford Academy
DESCRIPTION:
URL:https://palmvalleycommunity.org/event/mumford-academy/2026-05-20/
LOCATION:Palm Valley Community Association Center\, 148 Canal Blvd.\, Ponte Vedra Beach\, FL\, 32082\, United States
END:VEVENT
BEGIN:VEVENT
DTSTART;TZID=America/New_York:20260521T164500
DTEND;TZID=America/New_York:20260521T181500
DTSTAMP:20260422T174850
CREATED:20250825T201026Z
LAST-MODIFIED:20250825T201026Z
UID:10003602-1779381900-1779387300@palmvalleycommunity.org
SUMMARY:Martial Arts Class
DESCRIPTION:
URL:https://palmvalleycommunity.org/event/martial-arts-class/2026-05-21/
LOCATION:Palm Valley Community Association Center\, 148 Canal Blvd.\, Ponte Vedra Beach\, FL\, 32082\, United States
END:VEVENT
BEGIN:VEVENT
DTSTART;TZID=America/New_York:20260521T181500
DTEND;TZID=America/New_York:20260521T201500
DTSTAMP:20260422T174850
CREATED:20251216T135642Z
LAST-MODIFIED:20251216T135642Z
UID:10003873-1779387300-1779394500@palmvalleycommunity.org
SUMMARY:Diane Dew District 4 Event
DESCRIPTION:
URL:https://palmvalleycommunity.org/event/diane-dew-district-4-event/2026-05-21/
LOCATION:Palm Valley Community Association Center\, 148 Canal Blvd.\, Ponte Vedra Beach\, FL\, 32082\, United States
END:VEVENT
BEGIN:VEVENT
DTSTART;TZID=America/New_York:20260522T110000
DTEND;TZID=America/New_York:20260522T130000
DTSTAMP:20260422T174850
CREATED:20240102T195150Z
LAST-MODIFIED:20240102T195150Z
UID:10002654-1779447600-1779454800@palmvalleycommunity.org
SUMMARY:AA Event
DESCRIPTION:
URL:https://palmvalleycommunity.org/event/aa-event/2026-05-22/
LOCATION:FL
END:VEVENT
BEGIN:VEVENT
DTSTART;TZID=America/New_York:20260523T100000
DTEND;TZID=America/New_York:20260523T130000
DTSTAMP:20260422T174850
CREATED:20260218T222603Z
LAST-MODIFIED:20260218T222603Z
UID:10003918-1779530400-1779541200@palmvalleycommunity.org
SUMMARY:Mumford Academy
DESCRIPTION:
URL:https://palmvalleycommunity.org/event/mumford-academy-2/2026-05-23/
LOCATION:Palm Valley Community Association Center\, 148 Canal Blvd.\, Ponte Vedra Beach\, FL\, 32082\, United States
END:VEVENT
BEGIN:VEVENT
DTSTART;TZID=America/New_York:20260524T080000
DTEND;TZID=America/New_York:20260524T130000
DTSTAMP:20260422T174850
CREATED:20251208T142749Z
LAST-MODIFIED:20251208T142749Z
UID:10003832-1779609600-1779627600@palmvalleycommunity.org
SUMMARY:First Babtist Church of Ponte Vedra
DESCRIPTION:
URL:https://palmvalleycommunity.org/event/first-babtist-church-of-ponte-vedra/2026-05-24/
LOCATION:Palm Valley Community Association Center\, 148 Canal Blvd.\, Ponte Vedra Beach\, FL\, 32082\, United States
END:VEVENT
BEGIN:VEVENT
DTSTART;TZID=America/New_York:20260526T100000
DTEND;TZID=America/New_York:20260526T130000
DTSTAMP:20260422T174850
CREATED:20240517T224306Z
LAST-MODIFIED:20240517T224618Z
UID:10002916-1779789600-1779800400@palmvalleycommunity.org
SUMMARY:Palm Valley Farmers Market
DESCRIPTION:Join us each Tuesday from 10 AM – 1 PM (summer hours)\, rain or shine at the Palm Valley Community Center. We will have a variety of vendors to offer fresh produce\, baked goods\, sweet treats\, handcrafted jewelry\, skincare items\, starter plants/veggies and more! Make sure you follow the new Palm Valley Market for updated vendor listings. See you at the Market! \n 
URL:https://palmvalleycommunity.org/event/palm-valley-mini-farmers-market-2-2-2/2026-05-26/
LOCATION:Palm Valley Community Association Center\, 148 Canal Blvd.\, Ponte Vedra Beach\, FL\, 32082\, United States
ATTACH;FMTTYPE=image/jpeg:https://palmvalleycommunity.org/wp-content/uploads/2022/04/Palm-Valley-FM-Veggie-Banner_summer-scaled.jpg
ORGANIZER;CN="Events Committee":MAILTO:palmvalleycommunitycenter@gmail.com
END:VEVENT
BEGIN:VEVENT
DTSTART;TZID=America/New_York:20260526T164500
DTEND;TZID=America/New_York:20260526T181500
DTSTAMP:20260422T174850
CREATED:20250825T201026Z
LAST-MODIFIED:20250825T201026Z
UID:10003603-1779813900-1779819300@palmvalleycommunity.org
SUMMARY:Martial Arts Class
DESCRIPTION:
URL:https://palmvalleycommunity.org/event/martial-arts-class/2026-05-26/
LOCATION:Palm Valley Community Association Center\, 148 Canal Blvd.\, Ponte Vedra Beach\, FL\, 32082\, United States
END:VEVENT
BEGIN:VEVENT
DTSTART;TZID=America/New_York:20260527T173000
DTEND;TZID=America/New_York:20260527T203000
DTSTAMP:20260422T174850
CREATED:20260218T222016Z
LAST-MODIFIED:20260311T182913Z
UID:10003908-1779903000-1779913800@palmvalleycommunity.org
SUMMARY:Mumford Academy
DESCRIPTION:
URL:https://palmvalleycommunity.org/event/mumford-academy/2026-05-27/
LOCATION:Palm Valley Community Association Center\, 148 Canal Blvd.\, Ponte Vedra Beach\, FL\, 32082\, United States
END:VEVENT
BEGIN:VEVENT
DTSTART;TZID=America/New_York:20260528T164500
DTEND;TZID=America/New_York:20260528T181500
DTSTAMP:20260422T174850
CREATED:20250825T201026Z
LAST-MODIFIED:20250825T201026Z
UID:10003604-1779986700-1779992100@palmvalleycommunity.org
SUMMARY:Martial Arts Class
DESCRIPTION:
URL:https://palmvalleycommunity.org/event/martial-arts-class/2026-05-28/
LOCATION:Palm Valley Community Association Center\, 148 Canal Blvd.\, Ponte Vedra Beach\, FL\, 32082\, United States
END:VEVENT
BEGIN:VEVENT
DTSTART;TZID=America/New_York:20260529T110000
DTEND;TZID=America/New_York:20260529T130000
DTSTAMP:20260422T174850
CREATED:20240102T195150Z
LAST-MODIFIED:20240102T195150Z
UID:10002655-1780052400-1780059600@palmvalleycommunity.org
SUMMARY:AA Event
DESCRIPTION:
URL:https://palmvalleycommunity.org/event/aa-event/2026-05-29/
LOCATION:FL
END:VEVENT
BEGIN:VEVENT
DTSTART;TZID=America/New_York:20260530T100000
DTEND;TZID=America/New_York:20260530T130000
DTSTAMP:20260422T174850
CREATED:20260218T222603Z
LAST-MODIFIED:20260218T222603Z
UID:10003919-1780135200-1780146000@palmvalleycommunity.org
SUMMARY:Mumford Academy
DESCRIPTION:
URL:https://palmvalleycommunity.org/event/mumford-academy-2/2026-05-30/
LOCATION:Palm Valley Community Association Center\, 148 Canal Blvd.\, Ponte Vedra Beach\, FL\, 32082\, United States
END:VEVENT
BEGIN:VEVENT
DTSTART;TZID=America/New_York:20260531T080000
DTEND;TZID=America/New_York:20260531T130000
DTSTAMP:20260422T174850
CREATED:20251208T142749Z
LAST-MODIFIED:20251208T142749Z
UID:10003833-1780214400-1780232400@palmvalleycommunity.org
SUMMARY:First Babtist Church of Ponte Vedra
DESCRIPTION:
URL:https://palmvalleycommunity.org/event/first-babtist-church-of-ponte-vedra/2026-05-31/
LOCATION:Palm Valley Community Association Center\, 148 Canal Blvd.\, Ponte Vedra Beach\, FL\, 32082\, United States
END:VEVENT
BEGIN:VEVENT
DTSTART;TZID=America/New_York:20260602T100000
DTEND;TZID=America/New_York:20260602T130000
DTSTAMP:20260422T174850
CREATED:20240517T224306Z
LAST-MODIFIED:20240517T224618Z
UID:10002917-1780394400-1780405200@palmvalleycommunity.org
SUMMARY:Palm Valley Farmers Market
DESCRIPTION:Join us each Tuesday from 10 AM – 1 PM (summer hours)\, rain or shine at the Palm Valley Community Center. We will have a variety of vendors to offer fresh produce\, baked goods\, sweet treats\, handcrafted jewelry\, skincare items\, starter plants/veggies and more! Make sure you follow the new Palm Valley Market for updated vendor listings. See you at the Market! \n 
URL:https://palmvalleycommunity.org/event/palm-valley-mini-farmers-market-2-2-2/2026-06-02/
LOCATION:Palm Valley Community Association Center\, 148 Canal Blvd.\, Ponte Vedra Beach\, FL\, 32082\, United States
ATTACH;FMTTYPE=image/jpeg:https://palmvalleycommunity.org/wp-content/uploads/2022/04/Palm-Valley-FM-Veggie-Banner_summer-scaled.jpg
ORGANIZER;CN="Events Committee":MAILTO:palmvalleycommunitycenter@gmail.com
END:VEVENT
BEGIN:VEVENT
DTSTART;TZID=America/New_York:20260602T164500
DTEND;TZID=America/New_York:20260602T181500
DTSTAMP:20260422T174850
CREATED:20250825T201026Z
LAST-MODIFIED:20250825T201026Z
UID:10003605-1780418700-1780424100@palmvalleycommunity.org
SUMMARY:Martial Arts Class
DESCRIPTION:
URL:https://palmvalleycommunity.org/event/martial-arts-class/2026-06-02/
LOCATION:Palm Valley Community Association Center\, 148 Canal Blvd.\, Ponte Vedra Beach\, FL\, 32082\, United States
END:VEVENT
BEGIN:VEVENT
DTSTART;TZID=America/New_York:20260603T173000
DTEND;TZID=America/New_York:20260603T203000
DTSTAMP:20260422T174850
CREATED:20260218T222016Z
LAST-MODIFIED:20260311T182913Z
UID:10003909-1780507800-1780518600@palmvalleycommunity.org
SUMMARY:Mumford Academy
DESCRIPTION:
URL:https://palmvalleycommunity.org/event/mumford-academy/2026-06-03/
LOCATION:Palm Valley Community Association Center\, 148 Canal Blvd.\, Ponte Vedra Beach\, FL\, 32082\, United States
END:VEVENT
BEGIN:VEVENT
DTSTART;TZID=America/New_York:20260604T164500
DTEND;TZID=America/New_York:20260604T181500
DTSTAMP:20260422T174850
CREATED:20250825T201026Z
LAST-MODIFIED:20250825T201026Z
UID:10003606-1780591500-1780596900@palmvalleycommunity.org
SUMMARY:Martial Arts Class
DESCRIPTION:
URL:https://palmvalleycommunity.org/event/martial-arts-class/2026-06-04/
LOCATION:Palm Valley Community Association Center\, 148 Canal Blvd.\, Ponte Vedra Beach\, FL\, 32082\, United States
END:VEVENT
BEGIN:VEVENT
DTSTART;TZID=America/New_York:20260605T110000
DTEND;TZID=America/New_York:20260605T130000
DTSTAMP:20260422T174850
CREATED:20240102T195150Z
LAST-MODIFIED:20240102T195150Z
UID:10002656-1780657200-1780664400@palmvalleycommunity.org
SUMMARY:AA Event
DESCRIPTION:
URL:https://palmvalleycommunity.org/event/aa-event/2026-06-05/
LOCATION:FL
END:VEVENT
BEGIN:VEVENT
DTSTART;TZID=America/New_York:20260607T080000
DTEND;TZID=America/New_York:20260607T130000
DTSTAMP:20260422T174850
CREATED:20251208T142749Z
LAST-MODIFIED:20251208T142749Z
UID:10003834-1780819200-1780837200@palmvalleycommunity.org
SUMMARY:First Babtist Church of Ponte Vedra
DESCRIPTION:
URL:https://palmvalleycommunity.org/event/first-babtist-church-of-ponte-vedra/2026-06-07/
LOCATION:Palm Valley Community Association Center\, 148 Canal Blvd.\, Ponte Vedra Beach\, FL\, 32082\, United States
END:VEVENT
BEGIN:VEVENT
DTSTART;TZID=America/New_York:20260608T183000
DTEND;TZID=America/New_York:20260608T203000
DTSTAMP:20260422T174850
CREATED:20250215T170616Z
LAST-MODIFIED:20250413T205550Z
UID:10003338-1780943400-1780950600@palmvalleycommunity.org
SUMMARY:PVCA Board Meeting
DESCRIPTION:
URL:https://palmvalleycommunity.org/event/pvca-board-meeting-5/2026-06-08/
LOCATION:Palm Valley Community Association Center\, 148 Canal Blvd.\, Ponte Vedra Beach\, FL\, 32082\, United States
END:VEVENT
BEGIN:VEVENT
DTSTART;TZID=America/New_York:20260609T100000
DTEND;TZID=America/New_York:20260609T130000
DTSTAMP:20260422T174850
CREATED:20240517T224306Z
LAST-MODIFIED:20240517T224618Z
UID:10002918-1780999200-1781010000@palmvalleycommunity.org
SUMMARY:Palm Valley Farmers Market
DESCRIPTION:Join us each Tuesday from 10 AM – 1 PM (summer hours)\, rain or shine at the Palm Valley Community Center. We will have a variety of vendors to offer fresh produce\, baked goods\, sweet treats\, handcrafted jewelry\, skincare items\, starter plants/veggies and more! Make sure you follow the new Palm Valley Market for updated vendor listings. See you at the Market! \n 
URL:https://palmvalleycommunity.org/event/palm-valley-mini-farmers-market-2-2-2/2026-06-09/
LOCATION:Palm Valley Community Association Center\, 148 Canal Blvd.\, Ponte Vedra Beach\, FL\, 32082\, United States
ATTACH;FMTTYPE=image/jpeg:https://palmvalleycommunity.org/wp-content/uploads/2022/04/Palm-Valley-FM-Veggie-Banner_summer-scaled.jpg
ORGANIZER;CN="Events Committee":MAILTO:palmvalleycommunitycenter@gmail.com
END:VEVENT
BEGIN:VEVENT
DTSTART;TZID=America/New_York:20260609T164500
DTEND;TZID=America/New_York:20260609T181500
DTSTAMP:20260422T174850
CREATED:20250825T201026Z
LAST-MODIFIED:20250825T201026Z
UID:10003607-1781023500-1781028900@palmvalleycommunity.org
SUMMARY:Martial Arts Class
DESCRIPTION:
URL:https://palmvalleycommunity.org/event/martial-arts-class/2026-06-09/
LOCATION:Palm Valley Community Association Center\, 148 Canal Blvd.\, Ponte Vedra Beach\, FL\, 32082\, United States
END:VEVENT
BEGIN:VEVENT
DTSTART;TZID=America/New_York:20260610T173000
DTEND;TZID=America/New_York:20260610T203000
DTSTAMP:20260422T174850
CREATED:20260218T222016Z
LAST-MODIFIED:20260311T182913Z
UID:10003910-1781112600-1781123400@palmvalleycommunity.org
SUMMARY:Mumford Academy
DESCRIPTION:
URL:https://palmvalleycommunity.org/event/mumford-academy/2026-06-10/
LOCATION:Palm Valley Community Association Center\, 148 Canal Blvd.\, Ponte Vedra Beach\, FL\, 32082\, United States
END:VEVENT
BEGIN:VEVENT
DTSTART;TZID=America/New_York:20260611T164500
DTEND;TZID=America/New_York:20260611T181500
DTSTAMP:20260422T174850
CREATED:20250825T201026Z
LAST-MODIFIED:20250825T201026Z
UID:10003608-1781196300-1781201700@palmvalleycommunity.org
SUMMARY:Martial Arts Class
DESCRIPTION:
URL:https://palmvalleycommunity.org/event/martial-arts-class/2026-06-11/
LOCATION:Palm Valley Community Association Center\, 148 Canal Blvd.\, Ponte Vedra Beach\, FL\, 32082\, United States
END:VEVENT
BEGIN:VEVENT
DTSTART;TZID=America/New_York:20260612T110000
DTEND;TZID=America/New_York:20260612T130000
DTSTAMP:20260422T174850
CREATED:20240102T195150Z
LAST-MODIFIED:20240102T195150Z
UID:10002657-1781262000-1781269200@palmvalleycommunity.org
SUMMARY:AA Event
DESCRIPTION:
URL:https://palmvalleycommunity.org/event/aa-event/2026-06-12/
LOCATION:FL
END:VEVENT
BEGIN:VEVENT
DTSTART;TZID=America/New_York:20260614T080000
DTEND;TZID=America/New_York:20260614T130000
DTSTAMP:20260422T174850
CREATED:20251208T142749Z
LAST-MODIFIED:20251208T142749Z
UID:10003835-1781424000-1781442000@palmvalleycommunity.org
SUMMARY:First Babtist Church of Ponte Vedra
DESCRIPTION:
URL:https://palmvalleycommunity.org/event/first-babtist-church-of-ponte-vedra/2026-06-14/
LOCATION:Palm Valley Community Association Center\, 148 Canal Blvd.\, Ponte Vedra Beach\, FL\, 32082\, United States
END:VEVENT
BEGIN:VEVENT
DTSTART;TZID=America/New_York:20260616T100000
DTEND;TZID=America/New_York:20260616T130000
DTSTAMP:20260422T174850
CREATED:20240517T224306Z
LAST-MODIFIED:20240517T224618Z
UID:10002919-1781604000-1781614800@palmvalleycommunity.org
SUMMARY:Palm Valley Farmers Market
DESCRIPTION:Join us each Tuesday from 10 AM – 1 PM (summer hours)\, rain or shine at the Palm Valley Community Center. We will have a variety of vendors to offer fresh produce\, baked goods\, sweet treats\, handcrafted jewelry\, skincare items\, starter plants/veggies and more! Make sure you follow the new Palm Valley Market for updated vendor listings. See you at the Market! \n 
URL:https://palmvalleycommunity.org/event/palm-valley-mini-farmers-market-2-2-2/2026-06-16/
LOCATION:Palm Valley Community Association Center\, 148 Canal Blvd.\, Ponte Vedra Beach\, FL\, 32082\, United States
ATTACH;FMTTYPE=image/jpeg:https://palmvalleycommunity.org/wp-content/uploads/2022/04/Palm-Valley-FM-Veggie-Banner_summer-scaled.jpg
ORGANIZER;CN="Events Committee":MAILTO:palmvalleycommunitycenter@gmail.com
END:VEVENT
BEGIN:VEVENT
DTSTART;TZID=America/New_York:20260616T164500
DTEND;TZID=America/New_York:20260616T181500
DTSTAMP:20260422T174850
CREATED:20250825T201026Z
LAST-MODIFIED:20250825T201026Z
UID:10003609-1781628300-1781633700@palmvalleycommunity.org
SUMMARY:Martial Arts Class
DESCRIPTION:
URL:https://palmvalleycommunity.org/event/martial-arts-class/2026-06-16/
LOCATION:Palm Valley Community Association Center\, 148 Canal Blvd.\, Ponte Vedra Beach\, FL\, 32082\, United States
END:VEVENT
BEGIN:VEVENT
DTSTART;TZID=America/New_York:20260617T173000
DTEND;TZID=America/New_York:20260617T203000
DTSTAMP:20260422T174850
CREATED:20260218T222016Z
LAST-MODIFIED:20260311T182913Z
UID:10003911-1781717400-1781728200@palmvalleycommunity.org
SUMMARY:Mumford Academy
DESCRIPTION:
URL:https://palmvalleycommunity.org/event/mumford-academy/2026-06-17/
LOCATION:Palm Valley Community Association Center\, 148 Canal Blvd.\, Ponte Vedra Beach\, FL\, 32082\, United States
END:VEVENT
END:VCALENDAR