BEGIN:VCALENDAR
VERSION:2.0
PRODID:-//PalmValleyCommunityAssociation - ECPv6.15.20//NONSGML v1.0//EN
CALSCALE:GREGORIAN
METHOD:PUBLISH
X-WR-CALNAME:PalmValleyCommunityAssociation
X-ORIGINAL-URL:https://palmvalleycommunity.org
X-WR-CALDESC:Events for PalmValleyCommunityAssociation
REFRESH-INTERVAL;VALUE=DURATION:PT1H
X-Robots-Tag:noindex
X-PUBLISHED-TTL:PT1H
BEGIN:VTIMEZONE
TZID:America/New_York
BEGIN:DAYLIGHT
TZOFFSETFROM:-0500
TZOFFSETTO:-0400
TZNAME:EDT
DTSTART:20250309T070000
END:DAYLIGHT
BEGIN:STANDARD
TZOFFSETFROM:-0400
TZOFFSETTO:-0500
TZNAME:EST
DTSTART:20251102T060000
END:STANDARD
BEGIN:DAYLIGHT
TZOFFSETFROM:-0500
TZOFFSETTO:-0400
TZNAME:EDT
DTSTART:20260308T070000
END:DAYLIGHT
BEGIN:STANDARD
TZOFFSETFROM:-0400
TZOFFSETTO:-0500
TZNAME:EST
DTSTART:20261101T060000
END:STANDARD
BEGIN:DAYLIGHT
TZOFFSETFROM:-0500
TZOFFSETTO:-0400
TZNAME:EDT
DTSTART:20270314T070000
END:DAYLIGHT
BEGIN:STANDARD
TZOFFSETFROM:-0400
TZOFFSETTO:-0500
TZNAME:EST
DTSTART:20271107T060000
END:STANDARD
END:VTIMEZONE
BEGIN:VEVENT
DTSTART;TZID=America/New_York:20260630T100000
DTEND;TZID=America/New_York:20260630T130000
DTSTAMP:20260422T185628
CREATED:20240517T224306Z
LAST-MODIFIED:20240517T224618Z
UID:10002921-1782813600-1782824400@palmvalleycommunity.org
SUMMARY:Palm Valley Farmers Market
DESCRIPTION:Join us each Tuesday from 10 AM – 1 PM (summer hours)\, rain or shine at the Palm Valley Community Center. We will have a variety of vendors to offer fresh produce\, baked goods\, sweet treats\, handcrafted jewelry\, skincare items\, starter plants/veggies and more! Make sure you follow the new Palm Valley Market for updated vendor listings. See you at the Market! \n 
URL:https://palmvalleycommunity.org/event/palm-valley-mini-farmers-market-2-2-2/2026-06-30/
LOCATION:Palm Valley Community Association Center\, 148 Canal Blvd.\, Ponte Vedra Beach\, FL\, 32082\, United States
ATTACH;FMTTYPE=image/jpeg:https://palmvalleycommunity.org/wp-content/uploads/2022/04/Palm-Valley-FM-Veggie-Banner_summer-scaled.jpg
ORGANIZER;CN="Events Committee":MAILTO:palmvalleycommunitycenter@gmail.com
END:VEVENT
BEGIN:VEVENT
DTSTART;TZID=America/New_York:20260630T164500
DTEND;TZID=America/New_York:20260630T181500
DTSTAMP:20260422T185628
CREATED:20250825T201026Z
LAST-MODIFIED:20250825T201026Z
UID:10003613-1782837900-1782843300@palmvalleycommunity.org
SUMMARY:Martial Arts Class
DESCRIPTION:
URL:https://palmvalleycommunity.org/event/martial-arts-class/2026-06-30/
LOCATION:Palm Valley Community Association Center\, 148 Canal Blvd.\, Ponte Vedra Beach\, FL\, 32082\, United States
END:VEVENT
BEGIN:VEVENT
DTSTART;TZID=America/New_York:20260702T164500
DTEND;TZID=America/New_York:20260702T181500
DTSTAMP:20260422T185628
CREATED:20250825T201026Z
LAST-MODIFIED:20250825T201026Z
UID:10003614-1783010700-1783016100@palmvalleycommunity.org
SUMMARY:Martial Arts Class
DESCRIPTION:
URL:https://palmvalleycommunity.org/event/martial-arts-class/2026-07-02/
LOCATION:Palm Valley Community Association Center\, 148 Canal Blvd.\, Ponte Vedra Beach\, FL\, 32082\, United States
END:VEVENT
BEGIN:VEVENT
DTSTART;TZID=America/New_York:20260703T110000
DTEND;TZID=America/New_York:20260703T130000
DTSTAMP:20260422T185628
CREATED:20240102T195150Z
LAST-MODIFIED:20240102T195150Z
UID:10002660-1783076400-1783083600@palmvalleycommunity.org
SUMMARY:AA Event
DESCRIPTION:
URL:https://palmvalleycommunity.org/event/aa-event/2026-07-03/
LOCATION:FL
END:VEVENT
BEGIN:VEVENT
DTSTART;TZID=America/New_York:20260705T080000
DTEND;TZID=America/New_York:20260705T130000
DTSTAMP:20260422T185628
CREATED:20251208T142749Z
LAST-MODIFIED:20251208T142749Z
UID:10003838-1783238400-1783256400@palmvalleycommunity.org
SUMMARY:First Babtist Church of Ponte Vedra
DESCRIPTION:
URL:https://palmvalleycommunity.org/event/first-babtist-church-of-ponte-vedra/2026-07-05/
LOCATION:Palm Valley Community Association Center\, 148 Canal Blvd.\, Ponte Vedra Beach\, FL\, 32082\, United States
END:VEVENT
BEGIN:VEVENT
DTSTART;TZID=America/New_York:20260707T100000
DTEND;TZID=America/New_York:20260707T130000
DTSTAMP:20260422T185628
CREATED:20240517T224306Z
LAST-MODIFIED:20240517T224618Z
UID:10002922-1783418400-1783429200@palmvalleycommunity.org
SUMMARY:Palm Valley Farmers Market
DESCRIPTION:Join us each Tuesday from 10 AM – 1 PM (summer hours)\, rain or shine at the Palm Valley Community Center. We will have a variety of vendors to offer fresh produce\, baked goods\, sweet treats\, handcrafted jewelry\, skincare items\, starter plants/veggies and more! Make sure you follow the new Palm Valley Market for updated vendor listings. See you at the Market! \n 
URL:https://palmvalleycommunity.org/event/palm-valley-mini-farmers-market-2-2-2/2026-07-07/
LOCATION:Palm Valley Community Association Center\, 148 Canal Blvd.\, Ponte Vedra Beach\, FL\, 32082\, United States
ATTACH;FMTTYPE=image/jpeg:https://palmvalleycommunity.org/wp-content/uploads/2022/04/Palm-Valley-FM-Veggie-Banner_summer-scaled.jpg
ORGANIZER;CN="Events Committee":MAILTO:palmvalleycommunitycenter@gmail.com
END:VEVENT
BEGIN:VEVENT
DTSTART;TZID=America/New_York:20260707T164500
DTEND;TZID=America/New_York:20260707T181500
DTSTAMP:20260422T185628
CREATED:20250825T201026Z
LAST-MODIFIED:20250825T201026Z
UID:10003615-1783442700-1783448100@palmvalleycommunity.org
SUMMARY:Martial Arts Class
DESCRIPTION:
URL:https://palmvalleycommunity.org/event/martial-arts-class/2026-07-07/
LOCATION:Palm Valley Community Association Center\, 148 Canal Blvd.\, Ponte Vedra Beach\, FL\, 32082\, United States
END:VEVENT
BEGIN:VEVENT
DTSTART;TZID=America/New_York:20260709T164500
DTEND;TZID=America/New_York:20260709T181500
DTSTAMP:20260422T185628
CREATED:20250825T201026Z
LAST-MODIFIED:20250825T201026Z
UID:10003616-1783615500-1783620900@palmvalleycommunity.org
SUMMARY:Martial Arts Class
DESCRIPTION:
URL:https://palmvalleycommunity.org/event/martial-arts-class/2026-07-09/
LOCATION:Palm Valley Community Association Center\, 148 Canal Blvd.\, Ponte Vedra Beach\, FL\, 32082\, United States
END:VEVENT
BEGIN:VEVENT
DTSTART;TZID=America/New_York:20260710T110000
DTEND;TZID=America/New_York:20260710T130000
DTSTAMP:20260422T185628
CREATED:20240102T195150Z
LAST-MODIFIED:20240102T195150Z
UID:10002661-1783681200-1783688400@palmvalleycommunity.org
SUMMARY:AA Event
DESCRIPTION:
URL:https://palmvalleycommunity.org/event/aa-event/2026-07-10/
LOCATION:FL
END:VEVENT
BEGIN:VEVENT
DTSTART;TZID=America/New_York:20260712T080000
DTEND;TZID=America/New_York:20260712T130000
DTSTAMP:20260422T185628
CREATED:20251208T142749Z
LAST-MODIFIED:20251208T142749Z
UID:10003839-1783843200-1783861200@palmvalleycommunity.org
SUMMARY:First Babtist Church of Ponte Vedra
DESCRIPTION:
URL:https://palmvalleycommunity.org/event/first-babtist-church-of-ponte-vedra/2026-07-12/
LOCATION:Palm Valley Community Association Center\, 148 Canal Blvd.\, Ponte Vedra Beach\, FL\, 32082\, United States
END:VEVENT
BEGIN:VEVENT
DTSTART;TZID=America/New_York:20260713T183000
DTEND;TZID=America/New_York:20260713T203000
DTSTAMP:20260422T185628
CREATED:20250215T170616Z
LAST-MODIFIED:20250413T205550Z
UID:10003339-1783967400-1783974600@palmvalleycommunity.org
SUMMARY:PVCA Board Meeting
DESCRIPTION:
URL:https://palmvalleycommunity.org/event/pvca-board-meeting-5/2026-07-13/
LOCATION:Palm Valley Community Association Center\, 148 Canal Blvd.\, Ponte Vedra Beach\, FL\, 32082\, United States
END:VEVENT
BEGIN:VEVENT
DTSTART;TZID=America/New_York:20260714T100000
DTEND;TZID=America/New_York:20260714T130000
DTSTAMP:20260422T185628
CREATED:20240517T224306Z
LAST-MODIFIED:20240517T224618Z
UID:10002923-1784023200-1784034000@palmvalleycommunity.org
SUMMARY:Palm Valley Farmers Market
DESCRIPTION:Join us each Tuesday from 10 AM – 1 PM (summer hours)\, rain or shine at the Palm Valley Community Center. We will have a variety of vendors to offer fresh produce\, baked goods\, sweet treats\, handcrafted jewelry\, skincare items\, starter plants/veggies and more! Make sure you follow the new Palm Valley Market for updated vendor listings. See you at the Market! \n 
URL:https://palmvalleycommunity.org/event/palm-valley-mini-farmers-market-2-2-2/2026-07-14/
LOCATION:Palm Valley Community Association Center\, 148 Canal Blvd.\, Ponte Vedra Beach\, FL\, 32082\, United States
ATTACH;FMTTYPE=image/jpeg:https://palmvalleycommunity.org/wp-content/uploads/2022/04/Palm-Valley-FM-Veggie-Banner_summer-scaled.jpg
ORGANIZER;CN="Events Committee":MAILTO:palmvalleycommunitycenter@gmail.com
END:VEVENT
BEGIN:VEVENT
DTSTART;TZID=America/New_York:20260714T164500
DTEND;TZID=America/New_York:20260714T181500
DTSTAMP:20260422T185628
CREATED:20250825T201026Z
LAST-MODIFIED:20250825T201026Z
UID:10003617-1784047500-1784052900@palmvalleycommunity.org
SUMMARY:Martial Arts Class
DESCRIPTION:
URL:https://palmvalleycommunity.org/event/martial-arts-class/2026-07-14/
LOCATION:Palm Valley Community Association Center\, 148 Canal Blvd.\, Ponte Vedra Beach\, FL\, 32082\, United States
END:VEVENT
BEGIN:VEVENT
DTSTART;TZID=America/New_York:20260716T164500
DTEND;TZID=America/New_York:20260716T181500
DTSTAMP:20260422T185628
CREATED:20250825T201026Z
LAST-MODIFIED:20250825T201026Z
UID:10003618-1784220300-1784225700@palmvalleycommunity.org
SUMMARY:Martial Arts Class
DESCRIPTION:
URL:https://palmvalleycommunity.org/event/martial-arts-class/2026-07-16/
LOCATION:Palm Valley Community Association Center\, 148 Canal Blvd.\, Ponte Vedra Beach\, FL\, 32082\, United States
END:VEVENT
BEGIN:VEVENT
DTSTART;TZID=America/New_York:20260716T181500
DTEND;TZID=America/New_York:20260716T201500
DTSTAMP:20260422T185628
CREATED:20251216T135642Z
LAST-MODIFIED:20251216T135642Z
UID:10003875-1784225700-1784232900@palmvalleycommunity.org
SUMMARY:Diane Dew District 4 Event
DESCRIPTION:
URL:https://palmvalleycommunity.org/event/diane-dew-district-4-event/2026-07-16/
LOCATION:Palm Valley Community Association Center\, 148 Canal Blvd.\, Ponte Vedra Beach\, FL\, 32082\, United States
END:VEVENT
BEGIN:VEVENT
DTSTART;TZID=America/New_York:20260717T110000
DTEND;TZID=America/New_York:20260717T130000
DTSTAMP:20260422T185628
CREATED:20240102T195150Z
LAST-MODIFIED:20240102T195150Z
UID:10002662-1784286000-1784293200@palmvalleycommunity.org
SUMMARY:AA Event
DESCRIPTION:
URL:https://palmvalleycommunity.org/event/aa-event/2026-07-17/
LOCATION:FL
END:VEVENT
BEGIN:VEVENT
DTSTART;TZID=America/New_York:20260719T080000
DTEND;TZID=America/New_York:20260719T130000
DTSTAMP:20260422T185628
CREATED:20251208T142749Z
LAST-MODIFIED:20251208T142749Z
UID:10003840-1784448000-1784466000@palmvalleycommunity.org
SUMMARY:First Babtist Church of Ponte Vedra
DESCRIPTION:
URL:https://palmvalleycommunity.org/event/first-babtist-church-of-ponte-vedra/2026-07-19/
LOCATION:Palm Valley Community Association Center\, 148 Canal Blvd.\, Ponte Vedra Beach\, FL\, 32082\, United States
END:VEVENT
BEGIN:VEVENT
DTSTART;TZID=America/New_York:20260721T100000
DTEND;TZID=America/New_York:20260721T130000
DTSTAMP:20260422T185628
CREATED:20240517T224306Z
LAST-MODIFIED:20240517T224618Z
UID:10002924-1784628000-1784638800@palmvalleycommunity.org
SUMMARY:Palm Valley Farmers Market
DESCRIPTION:Join us each Tuesday from 10 AM – 1 PM (summer hours)\, rain or shine at the Palm Valley Community Center. We will have a variety of vendors to offer fresh produce\, baked goods\, sweet treats\, handcrafted jewelry\, skincare items\, starter plants/veggies and more! Make sure you follow the new Palm Valley Market for updated vendor listings. See you at the Market! \n 
URL:https://palmvalleycommunity.org/event/palm-valley-mini-farmers-market-2-2-2/2026-07-21/
LOCATION:Palm Valley Community Association Center\, 148 Canal Blvd.\, Ponte Vedra Beach\, FL\, 32082\, United States
ATTACH;FMTTYPE=image/jpeg:https://palmvalleycommunity.org/wp-content/uploads/2022/04/Palm-Valley-FM-Veggie-Banner_summer-scaled.jpg
ORGANIZER;CN="Events Committee":MAILTO:palmvalleycommunitycenter@gmail.com
END:VEVENT
BEGIN:VEVENT
DTSTART;TZID=America/New_York:20260721T164500
DTEND;TZID=America/New_York:20260721T181500
DTSTAMP:20260422T185628
CREATED:20250825T201026Z
LAST-MODIFIED:20250825T201026Z
UID:10003619-1784652300-1784657700@palmvalleycommunity.org
SUMMARY:Martial Arts Class
DESCRIPTION:
URL:https://palmvalleycommunity.org/event/martial-arts-class/2026-07-21/
LOCATION:Palm Valley Community Association Center\, 148 Canal Blvd.\, Ponte Vedra Beach\, FL\, 32082\, United States
END:VEVENT
BEGIN:VEVENT
DTSTART;TZID=America/New_York:20260723T164500
DTEND;TZID=America/New_York:20260723T181500
DTSTAMP:20260422T185628
CREATED:20250825T201026Z
LAST-MODIFIED:20250825T201026Z
UID:10003620-1784825100-1784830500@palmvalleycommunity.org
SUMMARY:Martial Arts Class
DESCRIPTION:
URL:https://palmvalleycommunity.org/event/martial-arts-class/2026-07-23/
LOCATION:Palm Valley Community Association Center\, 148 Canal Blvd.\, Ponte Vedra Beach\, FL\, 32082\, United States
END:VEVENT
BEGIN:VEVENT
DTSTART;TZID=America/New_York:20260724T110000
DTEND;TZID=America/New_York:20260724T130000
DTSTAMP:20260422T185628
CREATED:20240102T195150Z
LAST-MODIFIED:20240102T195150Z
UID:10002663-1784890800-1784898000@palmvalleycommunity.org
SUMMARY:AA Event
DESCRIPTION:
URL:https://palmvalleycommunity.org/event/aa-event/2026-07-24/
LOCATION:FL
END:VEVENT
BEGIN:VEVENT
DTSTART;TZID=America/New_York:20260726T080000
DTEND;TZID=America/New_York:20260726T130000
DTSTAMP:20260422T185628
CREATED:20251208T142749Z
LAST-MODIFIED:20251208T142749Z
UID:10003841-1785052800-1785070800@palmvalleycommunity.org
SUMMARY:First Babtist Church of Ponte Vedra
DESCRIPTION:
URL:https://palmvalleycommunity.org/event/first-babtist-church-of-ponte-vedra/2026-07-26/
LOCATION:Palm Valley Community Association Center\, 148 Canal Blvd.\, Ponte Vedra Beach\, FL\, 32082\, United States
END:VEVENT
BEGIN:VEVENT
DTSTART;TZID=America/New_York:20260728T100000
DTEND;TZID=America/New_York:20260728T130000
DTSTAMP:20260422T185628
CREATED:20240517T224306Z
LAST-MODIFIED:20240517T224618Z
UID:10002925-1785232800-1785243600@palmvalleycommunity.org
SUMMARY:Palm Valley Farmers Market
DESCRIPTION:Join us each Tuesday from 10 AM – 1 PM (summer hours)\, rain or shine at the Palm Valley Community Center. We will have a variety of vendors to offer fresh produce\, baked goods\, sweet treats\, handcrafted jewelry\, skincare items\, starter plants/veggies and more! Make sure you follow the new Palm Valley Market for updated vendor listings. See you at the Market! \n 
URL:https://palmvalleycommunity.org/event/palm-valley-mini-farmers-market-2-2-2/2026-07-28/
LOCATION:Palm Valley Community Association Center\, 148 Canal Blvd.\, Ponte Vedra Beach\, FL\, 32082\, United States
ATTACH;FMTTYPE=image/jpeg:https://palmvalleycommunity.org/wp-content/uploads/2022/04/Palm-Valley-FM-Veggie-Banner_summer-scaled.jpg
ORGANIZER;CN="Events Committee":MAILTO:palmvalleycommunitycenter@gmail.com
END:VEVENT
BEGIN:VEVENT
DTSTART;TZID=America/New_York:20260728T164500
DTEND;TZID=America/New_York:20260728T181500
DTSTAMP:20260422T185628
CREATED:20250825T201026Z
LAST-MODIFIED:20250825T201026Z
UID:10003621-1785257100-1785262500@palmvalleycommunity.org
SUMMARY:Martial Arts Class
DESCRIPTION:
URL:https://palmvalleycommunity.org/event/martial-arts-class/2026-07-28/
LOCATION:Palm Valley Community Association Center\, 148 Canal Blvd.\, Ponte Vedra Beach\, FL\, 32082\, United States
END:VEVENT
BEGIN:VEVENT
DTSTART;TZID=America/New_York:20260730T164500
DTEND;TZID=America/New_York:20260730T181500
DTSTAMP:20260422T185628
CREATED:20250825T201026Z
LAST-MODIFIED:20250825T201026Z
UID:10003622-1785429900-1785435300@palmvalleycommunity.org
SUMMARY:Martial Arts Class
DESCRIPTION:
URL:https://palmvalleycommunity.org/event/martial-arts-class/2026-07-30/
LOCATION:Palm Valley Community Association Center\, 148 Canal Blvd.\, Ponte Vedra Beach\, FL\, 32082\, United States
END:VEVENT
BEGIN:VEVENT
DTSTART;TZID=America/New_York:20260731T110000
DTEND;TZID=America/New_York:20260731T130000
DTSTAMP:20260422T185628
CREATED:20240102T195150Z
LAST-MODIFIED:20240102T195150Z
UID:10002664-1785495600-1785502800@palmvalleycommunity.org
SUMMARY:AA Event
DESCRIPTION:
URL:https://palmvalleycommunity.org/event/aa-event/2026-07-31/
LOCATION:FL
END:VEVENT
BEGIN:VEVENT
DTSTART;TZID=America/New_York:20260802T080000
DTEND;TZID=America/New_York:20260802T130000
DTSTAMP:20260422T185628
CREATED:20251208T142749Z
LAST-MODIFIED:20251208T142749Z
UID:10003842-1785657600-1785675600@palmvalleycommunity.org
SUMMARY:First Babtist Church of Ponte Vedra
DESCRIPTION:
URL:https://palmvalleycommunity.org/event/first-babtist-church-of-ponte-vedra/2026-08-02/
LOCATION:Palm Valley Community Association Center\, 148 Canal Blvd.\, Ponte Vedra Beach\, FL\, 32082\, United States
END:VEVENT
BEGIN:VEVENT
DTSTART;TZID=America/New_York:20260804T100000
DTEND;TZID=America/New_York:20260804T130000
DTSTAMP:20260422T185628
CREATED:20240517T224306Z
LAST-MODIFIED:20240517T224618Z
UID:10002926-1785837600-1785848400@palmvalleycommunity.org
SUMMARY:Palm Valley Farmers Market
DESCRIPTION:Join us each Tuesday from 10 AM – 1 PM (summer hours)\, rain or shine at the Palm Valley Community Center. We will have a variety of vendors to offer fresh produce\, baked goods\, sweet treats\, handcrafted jewelry\, skincare items\, starter plants/veggies and more! Make sure you follow the new Palm Valley Market for updated vendor listings. See you at the Market! \n 
URL:https://palmvalleycommunity.org/event/palm-valley-mini-farmers-market-2-2-2/2026-08-04/
LOCATION:Palm Valley Community Association Center\, 148 Canal Blvd.\, Ponte Vedra Beach\, FL\, 32082\, United States
ATTACH;FMTTYPE=image/jpeg:https://palmvalleycommunity.org/wp-content/uploads/2022/04/Palm-Valley-FM-Veggie-Banner_summer-scaled.jpg
ORGANIZER;CN="Events Committee":MAILTO:palmvalleycommunitycenter@gmail.com
END:VEVENT
BEGIN:VEVENT
DTSTART;TZID=America/New_York:20260804T164500
DTEND;TZID=America/New_York:20260804T181500
DTSTAMP:20260422T185628
CREATED:20250825T201026Z
LAST-MODIFIED:20250825T201026Z
UID:10003623-1785861900-1785867300@palmvalleycommunity.org
SUMMARY:Martial Arts Class
DESCRIPTION:
URL:https://palmvalleycommunity.org/event/martial-arts-class/2026-08-04/
LOCATION:Palm Valley Community Association Center\, 148 Canal Blvd.\, Ponte Vedra Beach\, FL\, 32082\, United States
END:VEVENT
BEGIN:VEVENT
DTSTART;TZID=America/New_York:20260806T164500
DTEND;TZID=America/New_York:20260806T181500
DTSTAMP:20260422T185628
CREATED:20250825T201026Z
LAST-MODIFIED:20250825T201026Z
UID:10003624-1786034700-1786040100@palmvalleycommunity.org
SUMMARY:Martial Arts Class
DESCRIPTION:
URL:https://palmvalleycommunity.org/event/martial-arts-class/2026-08-06/
LOCATION:Palm Valley Community Association Center\, 148 Canal Blvd.\, Ponte Vedra Beach\, FL\, 32082\, United States
END:VEVENT
END:VCALENDAR