BEGIN:VCALENDAR
VERSION:2.0
PRODID:-//PalmValleyCommunityAssociation - ECPv6.15.20//NONSGML v1.0//EN
CALSCALE:GREGORIAN
METHOD:PUBLISH
X-WR-CALNAME:PalmValleyCommunityAssociation
X-ORIGINAL-URL:https://palmvalleycommunity.org
X-WR-CALDESC:Events for PalmValleyCommunityAssociation
REFRESH-INTERVAL;VALUE=DURATION:PT1H
X-Robots-Tag:noindex
X-PUBLISHED-TTL:PT1H
BEGIN:VTIMEZONE
TZID:America/New_York
BEGIN:DAYLIGHT
TZOFFSETFROM:-0500
TZOFFSETTO:-0400
TZNAME:EDT
DTSTART:20250309T070000
END:DAYLIGHT
BEGIN:STANDARD
TZOFFSETFROM:-0400
TZOFFSETTO:-0500
TZNAME:EST
DTSTART:20251102T060000
END:STANDARD
BEGIN:DAYLIGHT
TZOFFSETFROM:-0500
TZOFFSETTO:-0400
TZNAME:EDT
DTSTART:20260308T070000
END:DAYLIGHT
BEGIN:STANDARD
TZOFFSETFROM:-0400
TZOFFSETTO:-0500
TZNAME:EST
DTSTART:20261101T060000
END:STANDARD
BEGIN:DAYLIGHT
TZOFFSETFROM:-0500
TZOFFSETTO:-0400
TZNAME:EDT
DTSTART:20270314T070000
END:DAYLIGHT
BEGIN:STANDARD
TZOFFSETFROM:-0400
TZOFFSETTO:-0500
TZNAME:EST
DTSTART:20271107T060000
END:STANDARD
END:VTIMEZONE
BEGIN:VEVENT
DTSTART;TZID=America/New_York:20260502T140000
DTEND;TZID=America/New_York:20260502T170000
DTSTAMP:20260422T180721
CREATED:20251009T140339Z
LAST-MODIFIED:20251009T140339Z
UID:10003768-1777730400-1777741200@palmvalleycommunity.org
SUMMARY:Branches of Christ Church
DESCRIPTION:
URL:https://palmvalleycommunity.org/event/branches-of-christ-church-34/2026-05-02/
LOCATION:Palm Valley Community Association Center\, 148 Canal Blvd.\, Ponte Vedra Beach\, FL\, 32082\, United States
END:VEVENT
BEGIN:VEVENT
DTSTART;TZID=America/New_York:20260502T090000
DTEND;TZID=America/New_York:20260502T120000
DTSTAMP:20260422T180721
CREATED:20250719T220747Z
LAST-MODIFIED:20250719T220747Z
UID:10003515-1777712400-1777723200@palmvalleycommunity.org
SUMMARY:Gracelynn Hope Foundation Mothers Day Brunch
DESCRIPTION:
URL:https://palmvalleycommunity.org/event/gracelynn-hope-foundation-mothers-day-brunch/
LOCATION:Palm Valley Community Association Center\, 148 Canal Blvd.\, Ponte Vedra Beach\, FL\, 32082\, United States
END:VEVENT
BEGIN:VEVENT
DTSTART;TZID=America/New_York:20260501T110000
DTEND;TZID=America/New_York:20260501T130000
DTSTAMP:20260422T180721
CREATED:20240102T195150Z
LAST-MODIFIED:20240102T195150Z
UID:10002651-1777633200-1777640400@palmvalleycommunity.org
SUMMARY:AA Event
DESCRIPTION:
URL:https://palmvalleycommunity.org/event/aa-event/2026-05-01/
LOCATION:FL
END:VEVENT
BEGIN:VEVENT
DTSTART;TZID=America/New_York:20260430T164500
DTEND;TZID=America/New_York:20260430T181500
DTSTAMP:20260422T180721
CREATED:20250825T201026Z
LAST-MODIFIED:20250825T201026Z
UID:10003596-1777567500-1777572900@palmvalleycommunity.org
SUMMARY:Martial Arts Class
DESCRIPTION:
URL:https://palmvalleycommunity.org/event/martial-arts-class/2026-04-30/
LOCATION:Palm Valley Community Association Center\, 148 Canal Blvd.\, Ponte Vedra Beach\, FL\, 32082\, United States
END:VEVENT
BEGIN:VEVENT
DTSTART;TZID=America/New_York:20260429T173000
DTEND;TZID=America/New_York:20260429T203000
DTSTAMP:20260422T180721
CREATED:20260218T222016Z
LAST-MODIFIED:20260311T182913Z
UID:10003904-1777483800-1777494600@palmvalleycommunity.org
SUMMARY:Mumford Academy
DESCRIPTION:
URL:https://palmvalleycommunity.org/event/mumford-academy/2026-04-29/
LOCATION:Palm Valley Community Association Center\, 148 Canal Blvd.\, Ponte Vedra Beach\, FL\, 32082\, United States
END:VEVENT
BEGIN:VEVENT
DTSTART;TZID=America/New_York:20260428T164500
DTEND;TZID=America/New_York:20260428T181500
DTSTAMP:20260422T180721
CREATED:20250825T201026Z
LAST-MODIFIED:20250825T201026Z
UID:10003595-1777394700-1777400100@palmvalleycommunity.org
SUMMARY:Martial Arts Class
DESCRIPTION:
URL:https://palmvalleycommunity.org/event/martial-arts-class/2026-04-28/
LOCATION:Palm Valley Community Association Center\, 148 Canal Blvd.\, Ponte Vedra Beach\, FL\, 32082\, United States
END:VEVENT
BEGIN:VEVENT
DTSTART;TZID=America/New_York:20260428T100000
DTEND;TZID=America/New_York:20260428T130000
DTSTAMP:20260422T180721
CREATED:20240517T224306Z
LAST-MODIFIED:20240517T224618Z
UID:10002912-1777370400-1777381200@palmvalleycommunity.org
SUMMARY:Palm Valley Farmers Market
DESCRIPTION:Join us each Tuesday from 10 AM – 1 PM (summer hours)\, rain or shine at the Palm Valley Community Center. We will have a variety of vendors to offer fresh produce\, baked goods\, sweet treats\, handcrafted jewelry\, skincare items\, starter plants/veggies and more! Make sure you follow the new Palm Valley Market for updated vendor listings. See you at the Market! \n 
URL:https://palmvalleycommunity.org/event/palm-valley-mini-farmers-market-2-2-2/2026-04-28/
LOCATION:Palm Valley Community Association Center\, 148 Canal Blvd.\, Ponte Vedra Beach\, FL\, 32082\, United States
ATTACH;FMTTYPE=image/jpeg:https://palmvalleycommunity.org/wp-content/uploads/2022/04/Palm-Valley-FM-Veggie-Banner_summer-scaled.jpg
ORGANIZER;CN="Events Committee":MAILTO:palmvalleycommunitycenter@gmail.com
END:VEVENT
BEGIN:VEVENT
DTSTART;TZID=America/New_York:20260426T160000
DTEND;TZID=America/New_York:20260426T180000
DTSTAMP:20260422T180721
CREATED:20260202T174148Z
LAST-MODIFIED:20260202T174148Z
UID:10003899-1777219200-1777226400@palmvalleycommunity.org
SUMMARY:Jeremy Prince Event
DESCRIPTION:
URL:https://palmvalleycommunity.org/event/jeremy-prince-event/
LOCATION:Palm Valley Community Association Center\, 148 Canal Blvd.\, Ponte Vedra Beach\, FL\, 32082\, United States
END:VEVENT
BEGIN:VEVENT
DTSTART;TZID=America/New_York:20260426T080000
DTEND;TZID=America/New_York:20260426T130000
DTSTAMP:20260422T180721
CREATED:20251208T142749Z
LAST-MODIFIED:20251208T142749Z
UID:10003828-1777190400-1777208400@palmvalleycommunity.org
SUMMARY:First Babtist Church of Ponte Vedra
DESCRIPTION:
URL:https://palmvalleycommunity.org/event/first-babtist-church-of-ponte-vedra/2026-04-26/
LOCATION:Palm Valley Community Association Center\, 148 Canal Blvd.\, Ponte Vedra Beach\, FL\, 32082\, United States
END:VEVENT
BEGIN:VEVENT
DTSTART;TZID=America/New_York:20260425T140000
DTEND;TZID=America/New_York:20260425T170000
DTSTAMP:20260422T180721
CREATED:20251009T140339Z
LAST-MODIFIED:20251009T140339Z
UID:10003767-1777125600-1777136400@palmvalleycommunity.org
SUMMARY:Branches of Christ Church
DESCRIPTION:
URL:https://palmvalleycommunity.org/event/branches-of-christ-church-34/2026-04-25/
LOCATION:Palm Valley Community Association Center\, 148 Canal Blvd.\, Ponte Vedra Beach\, FL\, 32082\, United States
END:VEVENT
BEGIN:VEVENT
DTSTART;TZID=America/New_York:20260425T100000
DTEND;TZID=America/New_York:20260425T130000
DTSTAMP:20260422T180721
CREATED:20260218T222603Z
LAST-MODIFIED:20260218T222603Z
UID:10003915-1777111200-1777122000@palmvalleycommunity.org
SUMMARY:Mumford Academy
DESCRIPTION:
URL:https://palmvalleycommunity.org/event/mumford-academy-2/2026-04-25/
LOCATION:Palm Valley Community Association Center\, 148 Canal Blvd.\, Ponte Vedra Beach\, FL\, 32082\, United States
END:VEVENT
BEGIN:VEVENT
DTSTART;TZID=America/New_York:20260424T110000
DTEND;TZID=America/New_York:20260424T130000
DTSTAMP:20260422T180721
CREATED:20240102T195150Z
LAST-MODIFIED:20240102T195150Z
UID:10002650-1777028400-1777035600@palmvalleycommunity.org
SUMMARY:AA Event
DESCRIPTION:
URL:https://palmvalleycommunity.org/event/aa-event/2026-04-24/
LOCATION:FL
END:VEVENT
BEGIN:VEVENT
DTSTART;TZID=America/New_York:20260423T164500
DTEND;TZID=America/New_York:20260423T181500
DTSTAMP:20260422T180721
CREATED:20250825T201026Z
LAST-MODIFIED:20250825T201026Z
UID:10003594-1776962700-1776968100@palmvalleycommunity.org
SUMMARY:Martial Arts Class
DESCRIPTION:
URL:https://palmvalleycommunity.org/event/martial-arts-class/2026-04-23/
LOCATION:Palm Valley Community Association Center\, 148 Canal Blvd.\, Ponte Vedra Beach\, FL\, 32082\, United States
END:VEVENT
BEGIN:VEVENT
DTSTART;TZID=America/New_York:20260423T110000
DTEND;TZID=America/New_York:20260423T140000
DTSTAMP:20260422T180721
CREATED:20260408T160136Z
LAST-MODIFIED:20260408T160136Z
UID:10003932-1776942000-1776952800@palmvalleycommunity.org
SUMMARY:Reid Mann Event
DESCRIPTION:
URL:https://palmvalleycommunity.org/event/reid-mann-event/2026-04-23/
LOCATION:Palm Valley Community Association Center\, 148 Canal Blvd.\, Ponte Vedra Beach\, FL\, 32082\, United States
END:VEVENT
BEGIN:VEVENT
DTSTART;TZID=America/New_York:20260422T173000
DTEND;TZID=America/New_York:20260422T203000
DTSTAMP:20260422T180721
CREATED:20260218T222016Z
LAST-MODIFIED:20260311T182913Z
UID:10003903-1776879000-1776889800@palmvalleycommunity.org
SUMMARY:Mumford Academy
DESCRIPTION:
URL:https://palmvalleycommunity.org/event/mumford-academy/2026-04-22/
LOCATION:Palm Valley Community Association Center\, 148 Canal Blvd.\, Ponte Vedra Beach\, FL\, 32082\, United States
END:VEVENT
BEGIN:VEVENT
DTSTART;TZID=America/New_York:20260421T164500
DTEND;TZID=America/New_York:20260421T181500
DTSTAMP:20260422T180721
CREATED:20250825T201026Z
LAST-MODIFIED:20250825T201026Z
UID:10003593-1776789900-1776795300@palmvalleycommunity.org
SUMMARY:Martial Arts Class
DESCRIPTION:
URL:https://palmvalleycommunity.org/event/martial-arts-class/2026-04-21/
LOCATION:Palm Valley Community Association Center\, 148 Canal Blvd.\, Ponte Vedra Beach\, FL\, 32082\, United States
END:VEVENT
BEGIN:VEVENT
DTSTART;TZID=America/New_York:20260421T100000
DTEND;TZID=America/New_York:20260421T130000
DTSTAMP:20260422T180721
CREATED:20240517T224306Z
LAST-MODIFIED:20240517T224618Z
UID:10002911-1776765600-1776776400@palmvalleycommunity.org
SUMMARY:Palm Valley Farmers Market
DESCRIPTION:Join us each Tuesday from 10 AM – 1 PM (summer hours)\, rain or shine at the Palm Valley Community Center. We will have a variety of vendors to offer fresh produce\, baked goods\, sweet treats\, handcrafted jewelry\, skincare items\, starter plants/veggies and more! Make sure you follow the new Palm Valley Market for updated vendor listings. See you at the Market! \n 
URL:https://palmvalleycommunity.org/event/palm-valley-mini-farmers-market-2-2-2/2026-04-21/
LOCATION:Palm Valley Community Association Center\, 148 Canal Blvd.\, Ponte Vedra Beach\, FL\, 32082\, United States
ATTACH;FMTTYPE=image/jpeg:https://palmvalleycommunity.org/wp-content/uploads/2022/04/Palm-Valley-FM-Veggie-Banner_summer-scaled.jpg
ORGANIZER;CN="Events Committee":MAILTO:palmvalleycommunitycenter@gmail.com
END:VEVENT
BEGIN:VEVENT
DTSTART;TZID=America/New_York:20260420T183000
DTEND;TZID=America/New_York:20260420T203000
DTSTAMP:20260422T180721
CREATED:20260310T145531Z
LAST-MODIFIED:20260310T145531Z
UID:10003928-1776709800-1776717000@palmvalleycommunity.org
SUMMARY:PVCA Board
DESCRIPTION:
URL:https://palmvalleycommunity.org/event/pvca-board/
LOCATION:Palm Valley Community Association Center\, 148 Canal Blvd.\, Ponte Vedra Beach\, FL\, 32082\, United States
END:VEVENT
BEGIN:VEVENT
DTSTART;TZID=America/New_York:20260419T080000
DTEND;TZID=America/New_York:20260419T130000
DTSTAMP:20260422T180721
CREATED:20251208T142749Z
LAST-MODIFIED:20251208T142749Z
UID:10003827-1776585600-1776603600@palmvalleycommunity.org
SUMMARY:First Babtist Church of Ponte Vedra
DESCRIPTION:
URL:https://palmvalleycommunity.org/event/first-babtist-church-of-ponte-vedra/2026-04-19/
LOCATION:Palm Valley Community Association Center\, 148 Canal Blvd.\, Ponte Vedra Beach\, FL\, 32082\, United States
END:VEVENT
BEGIN:VEVENT
DTSTART;TZID=America/New_York:20260418T140000
DTEND;TZID=America/New_York:20260418T170000
DTSTAMP:20260422T180721
CREATED:20251009T140339Z
LAST-MODIFIED:20251009T140339Z
UID:10003766-1776520800-1776531600@palmvalleycommunity.org
SUMMARY:Branches of Christ Church
DESCRIPTION:
URL:https://palmvalleycommunity.org/event/branches-of-christ-church-34/2026-04-18/
LOCATION:Palm Valley Community Association Center\, 148 Canal Blvd.\, Ponte Vedra Beach\, FL\, 32082\, United States
END:VEVENT
BEGIN:VEVENT
DTSTART;TZID=America/New_York:20260418T100000
DTEND;TZID=America/New_York:20260418T130000
DTSTAMP:20260422T180721
CREATED:20260218T222603Z
LAST-MODIFIED:20260218T222603Z
UID:10003914-1776506400-1776517200@palmvalleycommunity.org
SUMMARY:Mumford Academy
DESCRIPTION:
URL:https://palmvalleycommunity.org/event/mumford-academy-2/2026-04-18/
LOCATION:Palm Valley Community Association Center\, 148 Canal Blvd.\, Ponte Vedra Beach\, FL\, 32082\, United States
END:VEVENT
BEGIN:VEVENT
DTSTART;TZID=America/New_York:20260417T110000
DTEND;TZID=America/New_York:20260417T130000
DTSTAMP:20260422T180721
CREATED:20240102T195150Z
LAST-MODIFIED:20240102T195150Z
UID:10002649-1776423600-1776430800@palmvalleycommunity.org
SUMMARY:AA Event
DESCRIPTION:
URL:https://palmvalleycommunity.org/event/aa-event/2026-04-17/
LOCATION:FL
END:VEVENT
BEGIN:VEVENT
DTSTART;TZID=America/New_York:20260416T193000
DTEND;TZID=America/New_York:20260416T223000
DTSTAMP:20260422T180721
CREATED:20251009T140339Z
LAST-MODIFIED:20251009T140339Z
UID:10003765-1776367800-1776378600@palmvalleycommunity.org
SUMMARY:Branches of Christ Church
DESCRIPTION:
URL:https://palmvalleycommunity.org/event/branches-of-christ-church-34/2026-04-16/
LOCATION:Palm Valley Community Association Center\, 148 Canal Blvd.\, Ponte Vedra Beach\, FL\, 32082\, United States
END:VEVENT
BEGIN:VEVENT
DTSTART;TZID=America/New_York:20260416T181500
DTEND;TZID=America/New_York:20260416T201500
DTSTAMP:20260422T180721
CREATED:20251216T135642Z
LAST-MODIFIED:20251216T135642Z
UID:10003872-1776363300-1776370500@palmvalleycommunity.org
SUMMARY:Diane Dew District 4 Event
DESCRIPTION:
URL:https://palmvalleycommunity.org/event/diane-dew-district-4-event/2026-04-16/
LOCATION:Palm Valley Community Association Center\, 148 Canal Blvd.\, Ponte Vedra Beach\, FL\, 32082\, United States
END:VEVENT
BEGIN:VEVENT
DTSTART;TZID=America/New_York:20260416T164500
DTEND;TZID=America/New_York:20260416T181500
DTSTAMP:20260422T180721
CREATED:20250825T201026Z
LAST-MODIFIED:20250825T201026Z
UID:10003592-1776357900-1776363300@palmvalleycommunity.org
SUMMARY:Martial Arts Class
DESCRIPTION:
URL:https://palmvalleycommunity.org/event/martial-arts-class/2026-04-16/
LOCATION:Palm Valley Community Association Center\, 148 Canal Blvd.\, Ponte Vedra Beach\, FL\, 32082\, United States
END:VEVENT
BEGIN:VEVENT
DTSTART;TZID=America/New_York:20260415T173000
DTEND;TZID=America/New_York:20260415T203000
DTSTAMP:20260422T180721
CREATED:20260218T222016Z
LAST-MODIFIED:20260311T182913Z
UID:10003902-1776274200-1776285000@palmvalleycommunity.org
SUMMARY:Mumford Academy
DESCRIPTION:
URL:https://palmvalleycommunity.org/event/mumford-academy/2026-04-15/
LOCATION:Palm Valley Community Association Center\, 148 Canal Blvd.\, Ponte Vedra Beach\, FL\, 32082\, United States
END:VEVENT
BEGIN:VEVENT
DTSTART;TZID=America/New_York:20260414T164500
DTEND;TZID=America/New_York:20260414T181500
DTSTAMP:20260422T180721
CREATED:20250825T201026Z
LAST-MODIFIED:20250825T201026Z
UID:10003591-1776185100-1776190500@palmvalleycommunity.org
SUMMARY:Martial Arts Class
DESCRIPTION:
URL:https://palmvalleycommunity.org/event/martial-arts-class/2026-04-14/
LOCATION:Palm Valley Community Association Center\, 148 Canal Blvd.\, Ponte Vedra Beach\, FL\, 32082\, United States
END:VEVENT
BEGIN:VEVENT
DTSTART;TZID=America/New_York:20260414T100000
DTEND;TZID=America/New_York:20260414T130000
DTSTAMP:20260422T180721
CREATED:20240517T224306Z
LAST-MODIFIED:20240517T224618Z
UID:10002910-1776160800-1776171600@palmvalleycommunity.org
SUMMARY:Palm Valley Farmers Market
DESCRIPTION:Join us each Tuesday from 10 AM – 1 PM (summer hours)\, rain or shine at the Palm Valley Community Center. We will have a variety of vendors to offer fresh produce\, baked goods\, sweet treats\, handcrafted jewelry\, skincare items\, starter plants/veggies and more! Make sure you follow the new Palm Valley Market for updated vendor listings. See you at the Market! \n 
URL:https://palmvalleycommunity.org/event/palm-valley-mini-farmers-market-2-2-2/2026-04-14/
LOCATION:Palm Valley Community Association Center\, 148 Canal Blvd.\, Ponte Vedra Beach\, FL\, 32082\, United States
ATTACH;FMTTYPE=image/jpeg:https://palmvalleycommunity.org/wp-content/uploads/2022/04/Palm-Valley-FM-Veggie-Banner_summer-scaled.jpg
ORGANIZER;CN="Events Committee":MAILTO:palmvalleycommunitycenter@gmail.com
END:VEVENT
BEGIN:VEVENT
DTSTART;TZID=America/New_York:20260413T183000
DTEND;TZID=America/New_York:20260413T203000
DTSTAMP:20260422T180721
CREATED:20250215T170616Z
LAST-MODIFIED:20250413T205550Z
UID:10003336-1776105000-1776112200@palmvalleycommunity.org
SUMMARY:PVCA Board Meeting
DESCRIPTION:
URL:https://palmvalleycommunity.org/event/pvca-board-meeting-5/2026-04-13/
LOCATION:Palm Valley Community Association Center\, 148 Canal Blvd.\, Ponte Vedra Beach\, FL\, 32082\, United States
END:VEVENT
BEGIN:VEVENT
DTSTART;TZID=America/New_York:20260413T180000
DTEND;TZID=America/New_York:20260413T203000
DTSTAMP:20260422T180721
CREATED:20260310T145444Z
LAST-MODIFIED:20260310T145444Z
UID:10003927-1776103200-1776112200@palmvalleycommunity.org
SUMMARY:PVCA public meeting
DESCRIPTION:
URL:https://palmvalleycommunity.org/event/pvca-public-meeting/
LOCATION:Palm Valley Community Association Center\, 148 Canal Blvd.\, Ponte Vedra Beach\, FL\, 32082\, United States
END:VEVENT
END:VCALENDAR