BEGIN:VCALENDAR
VERSION:2.0
PRODID:-//PalmValleyCommunityAssociation - ECPv6.15.20//NONSGML v1.0//EN
CALSCALE:GREGORIAN
METHOD:PUBLISH
X-WR-CALNAME:PalmValleyCommunityAssociation
X-ORIGINAL-URL:https://palmvalleycommunity.org
X-WR-CALDESC:Events for PalmValleyCommunityAssociation
REFRESH-INTERVAL;VALUE=DURATION:PT1H
X-Robots-Tag:noindex
X-PUBLISHED-TTL:PT1H
BEGIN:VTIMEZONE
TZID:America/New_York
BEGIN:DAYLIGHT
TZOFFSETFROM:-0500
TZOFFSETTO:-0400
TZNAME:EDT
DTSTART:20240310T070000
END:DAYLIGHT
BEGIN:STANDARD
TZOFFSETFROM:-0400
TZOFFSETTO:-0500
TZNAME:EST
DTSTART:20241103T060000
END:STANDARD
BEGIN:DAYLIGHT
TZOFFSETFROM:-0500
TZOFFSETTO:-0400
TZNAME:EDT
DTSTART:20250309T070000
END:DAYLIGHT
BEGIN:STANDARD
TZOFFSETFROM:-0400
TZOFFSETTO:-0500
TZNAME:EST
DTSTART:20251102T060000
END:STANDARD
BEGIN:DAYLIGHT
TZOFFSETFROM:-0500
TZOFFSETTO:-0400
TZNAME:EDT
DTSTART:20260308T070000
END:DAYLIGHT
BEGIN:STANDARD
TZOFFSETFROM:-0400
TZOFFSETTO:-0500
TZNAME:EST
DTSTART:20261101T060000
END:STANDARD
END:VTIMEZONE
BEGIN:VEVENT
DTSTART;TZID=America/New_York:20251205T110000
DTEND;TZID=America/New_York:20251205T130000
DTSTAMP:20260423T014613
CREATED:20240102T195150Z
LAST-MODIFIED:20240102T195150Z
UID:10002630-1764932400-1764939600@palmvalleycommunity.org
SUMMARY:AA Event
DESCRIPTION:
URL:https://palmvalleycommunity.org/event/aa-event/2025-12-05/
LOCATION:FL
END:VEVENT
BEGIN:VEVENT
DTSTART;TZID=America/New_York:20251204T183000
DTEND;TZID=America/New_York:20251204T203000
DTSTAMP:20260423T014613
CREATED:20250916T130819Z
LAST-MODIFIED:20250916T130819Z
UID:10003675-1764873000-1764880200@palmvalleycommunity.org
SUMMARY:Ponte Vedra Retreat 2 meeting
DESCRIPTION:
URL:https://palmvalleycommunity.org/event/ponte-vedra-retreat-2-meeting/
LOCATION:Palm Valley Community Association Center\, 148 Canal Blvd.\, Ponte Vedra Beach\, FL\, 32082\, United States
END:VEVENT
BEGIN:VEVENT
DTSTART;TZID=America/New_York:20251204T164500
DTEND;TZID=America/New_York:20251204T181500
DTSTAMP:20260423T014613
CREATED:20250825T201026Z
LAST-MODIFIED:20250825T201026Z
UID:10003554-1764866700-1764872100@palmvalleycommunity.org
SUMMARY:Martial Arts Class
DESCRIPTION:
URL:https://palmvalleycommunity.org/event/martial-arts-class/2025-12-04/
LOCATION:Palm Valley Community Association Center\, 148 Canal Blvd.\, Ponte Vedra Beach\, FL\, 32082\, United States
END:VEVENT
BEGIN:VEVENT
DTSTART;TZID=America/New_York:20251203T180000
DTEND;TZID=America/New_York:20251203T200000
DTSTAMP:20260423T014613
CREATED:20251022T235014Z
LAST-MODIFIED:20251022T235014Z
UID:10003785-1764784800-1764792000@palmvalleycommunity.org
SUMMARY:MUMFORD Academy of Irish Dance
DESCRIPTION:
URL:https://palmvalleycommunity.org/event/mumford-academy-of-irish-dance-5/2025-12-03/
LOCATION:Palm Valley Community Association Center\, 148 Canal Blvd.\, Ponte Vedra Beach\, FL\, 32082\, United States
END:VEVENT
BEGIN:VEVENT
DTSTART;TZID=America/New_York:20251202T181500
DTEND;TZID=America/New_York:20251202T201500
DTSTAMP:20260423T014613
CREATED:20251026T210118Z
LAST-MODIFIED:20251026T210118Z
UID:10003789-1764699300-1764706500@palmvalleycommunity.org
SUMMARY:Tammy McGee Seagrass class
DESCRIPTION:
URL:https://palmvalleycommunity.org/event/tammy-mcgee-seagrass-class/
LOCATION:Palm Valley Community Association Center\, 148 Canal Blvd.\, Ponte Vedra Beach\, FL\, 32082\, United States
END:VEVENT
BEGIN:VEVENT
DTSTART;TZID=America/New_York:20251202T164500
DTEND;TZID=America/New_York:20251202T181500
DTSTAMP:20260423T014613
CREATED:20250825T201026Z
LAST-MODIFIED:20250825T201026Z
UID:10003553-1764693900-1764699300@palmvalleycommunity.org
SUMMARY:Martial Arts Class
DESCRIPTION:
URL:https://palmvalleycommunity.org/event/martial-arts-class/2025-12-02/
LOCATION:Palm Valley Community Association Center\, 148 Canal Blvd.\, Ponte Vedra Beach\, FL\, 32082\, United States
END:VEVENT
BEGIN:VEVENT
DTSTART;TZID=America/New_York:20251202T100000
DTEND;TZID=America/New_York:20251202T130000
DTSTAMP:20260423T014613
CREATED:20240517T224306Z
LAST-MODIFIED:20240517T224618Z
UID:10002891-1764669600-1764680400@palmvalleycommunity.org
SUMMARY:Palm Valley Farmers Market
DESCRIPTION:Join us each Tuesday from 10 AM – 1 PM (summer hours)\, rain or shine at the Palm Valley Community Center. We will have a variety of vendors to offer fresh produce\, baked goods\, sweet treats\, handcrafted jewelry\, skincare items\, starter plants/veggies and more! Make sure you follow the new Palm Valley Market for updated vendor listings. See you at the Market! \n 
URL:https://palmvalleycommunity.org/event/palm-valley-mini-farmers-market-2-2-2/2025-12-02/
LOCATION:Palm Valley Community Association Center\, 148 Canal Blvd.\, Ponte Vedra Beach\, FL\, 32082\, United States
ATTACH;FMTTYPE=image/jpeg:https://palmvalleycommunity.org/wp-content/uploads/2022/04/Palm-Valley-FM-Veggie-Banner_summer-scaled.jpg
ORGANIZER;CN="Events Committee":MAILTO:palmvalleycommunitycenter@gmail.com
END:VEVENT
BEGIN:VEVENT
DTSTART;TZID=America/New_York:20251130T080000
DTEND;TZID=America/New_York:20251130T130000
DTSTAMP:20260423T014613
CREATED:20250122T210443Z
LAST-MODIFIED:20250122T210443Z
UID:10003251-1764489600-1764507600@palmvalleycommunity.org
SUMMARY:First Baptist Church of Ponte Vedra
DESCRIPTION:
URL:https://palmvalleycommunity.org/event/first-baptist-church-of-ponte-vedra-4/2025-11-30/
LOCATION:Palm Valley Community Association Center\, 148 Canal Blvd.\, Ponte Vedra Beach\, FL\, 32082\, United States
END:VEVENT
BEGIN:VEVENT
DTSTART;TZID=America/New_York:20251129T140000
DTEND;TZID=America/New_York:20251129T170000
DTSTAMP:20260423T014613
CREATED:20240916T184434Z
LAST-MODIFIED:20240916T184434Z
UID:10003153-1764424800-1764435600@palmvalleycommunity.org
SUMMARY:Branches of Christ Church
DESCRIPTION:
URL:https://palmvalleycommunity.org/event/branches-of-christ-church-30/2025-11-29/
LOCATION:Palm Valley Community Association Center\, 148 Canal Blvd.\, Ponte Vedra Beach\, FL\, 32082\, United States
END:VEVENT
BEGIN:VEVENT
DTSTART;TZID=America/New_York:20251128T110000
DTEND;TZID=America/New_York:20251128T130000
DTSTAMP:20260423T014613
CREATED:20240102T195150Z
LAST-MODIFIED:20240102T195150Z
UID:10002629-1764327600-1764334800@palmvalleycommunity.org
SUMMARY:AA Event
DESCRIPTION:
URL:https://palmvalleycommunity.org/event/aa-event/2025-11-28/
LOCATION:FL
END:VEVENT
BEGIN:VEVENT
DTSTART;TZID=America/New_York:20251127T164500
DTEND;TZID=America/New_York:20251127T181500
DTSTAMP:20260423T014613
CREATED:20250825T201026Z
LAST-MODIFIED:20250825T201026Z
UID:10003552-1764261900-1764267300@palmvalleycommunity.org
SUMMARY:Martial Arts Class
DESCRIPTION:
URL:https://palmvalleycommunity.org/event/martial-arts-class/2025-11-27/
LOCATION:Palm Valley Community Association Center\, 148 Canal Blvd.\, Ponte Vedra Beach\, FL\, 32082\, United States
END:VEVENT
BEGIN:VEVENT
DTSTART;TZID=America/New_York:20251125T164500
DTEND;TZID=America/New_York:20251125T181500
DTSTAMP:20260423T014613
CREATED:20250825T201026Z
LAST-MODIFIED:20250825T201026Z
UID:10003551-1764089100-1764094500@palmvalleycommunity.org
SUMMARY:Martial Arts Class
DESCRIPTION:
URL:https://palmvalleycommunity.org/event/martial-arts-class/2025-11-25/
LOCATION:Palm Valley Community Association Center\, 148 Canal Blvd.\, Ponte Vedra Beach\, FL\, 32082\, United States
END:VEVENT
BEGIN:VEVENT
DTSTART;TZID=America/New_York:20251125T100000
DTEND;TZID=America/New_York:20251125T130000
DTSTAMP:20260423T014613
CREATED:20240517T224306Z
LAST-MODIFIED:20240517T224618Z
UID:10002890-1764064800-1764075600@palmvalleycommunity.org
SUMMARY:Palm Valley Farmers Market
DESCRIPTION:Join us each Tuesday from 10 AM – 1 PM (summer hours)\, rain or shine at the Palm Valley Community Center. We will have a variety of vendors to offer fresh produce\, baked goods\, sweet treats\, handcrafted jewelry\, skincare items\, starter plants/veggies and more! Make sure you follow the new Palm Valley Market for updated vendor listings. See you at the Market! \n 
URL:https://palmvalleycommunity.org/event/palm-valley-mini-farmers-market-2-2-2/2025-11-25/
LOCATION:Palm Valley Community Association Center\, 148 Canal Blvd.\, Ponte Vedra Beach\, FL\, 32082\, United States
ATTACH;FMTTYPE=image/jpeg:https://palmvalleycommunity.org/wp-content/uploads/2022/04/Palm-Valley-FM-Veggie-Banner_summer-scaled.jpg
ORGANIZER;CN="Events Committee":MAILTO:palmvalleycommunitycenter@gmail.com
END:VEVENT
BEGIN:VEVENT
DTSTART;TZID=America/New_York:20251123T080000
DTEND;TZID=America/New_York:20251123T130000
DTSTAMP:20260423T014613
CREATED:20250122T210443Z
LAST-MODIFIED:20250122T210443Z
UID:10003250-1763884800-1763902800@palmvalleycommunity.org
SUMMARY:First Baptist Church of Ponte Vedra
DESCRIPTION:
URL:https://palmvalleycommunity.org/event/first-baptist-church-of-ponte-vedra-4/2025-11-23/
LOCATION:Palm Valley Community Association Center\, 148 Canal Blvd.\, Ponte Vedra Beach\, FL\, 32082\, United States
END:VEVENT
BEGIN:VEVENT
DTSTART;TZID=America/New_York:20251122T140000
DTEND;TZID=America/New_York:20251122T170000
DTSTAMP:20260423T014613
CREATED:20240916T184434Z
LAST-MODIFIED:20240916T184434Z
UID:10003152-1763820000-1763830800@palmvalleycommunity.org
SUMMARY:Branches of Christ Church
DESCRIPTION:
URL:https://palmvalleycommunity.org/event/branches-of-christ-church-30/2025-11-22/
LOCATION:Palm Valley Community Association Center\, 148 Canal Blvd.\, Ponte Vedra Beach\, FL\, 32082\, United States
END:VEVENT
BEGIN:VEVENT
DTSTART;TZID=America/New_York:20251121T150000
DTEND;TZID=America/New_York:20251121T190000
DTSTAMP:20260423T014613
CREATED:20250911T174222Z
LAST-MODIFIED:20250911T174222Z
UID:10003673-1763737200-1763751600@palmvalleycommunity.org
SUMMARY:PVCA Artisan Market
DESCRIPTION:
URL:https://palmvalleycommunity.org/event/pvca-artisan-market/2025-11-21/
LOCATION:Palm Valley Community Association Center\, 148 Canal Blvd.\, Ponte Vedra Beach\, FL\, 32082\, United States
END:VEVENT
BEGIN:VEVENT
DTSTART;TZID=America/New_York:20251121T110000
DTEND;TZID=America/New_York:20251121T130000
DTSTAMP:20260423T014613
CREATED:20240102T195150Z
LAST-MODIFIED:20240102T195150Z
UID:10002628-1763722800-1763730000@palmvalleycommunity.org
SUMMARY:AA Event
DESCRIPTION:
URL:https://palmvalleycommunity.org/event/aa-event/2025-11-21/
LOCATION:FL
END:VEVENT
BEGIN:VEVENT
DTSTART;TZID=America/New_York:20251120T181500
DTEND;TZID=America/New_York:20251120T201500
DTSTAMP:20260423T014613
CREATED:20241119T023214Z
LAST-MODIFIED:20241119T023214Z
UID:10003182-1763662500-1763669700@palmvalleycommunity.org
SUMMARY:Diane Dew event
DESCRIPTION:vent
URL:https://palmvalleycommunity.org/event/diane-dew-event-2/2025-11-20/
LOCATION:Palm Valley Community Association Center\, 148 Canal Blvd.\, Ponte Vedra Beach\, FL\, 32082\, United States
END:VEVENT
BEGIN:VEVENT
DTSTART;TZID=America/New_York:20251120T164500
DTEND;TZID=America/New_York:20251120T181500
DTSTAMP:20260423T014613
CREATED:20250825T201026Z
LAST-MODIFIED:20250825T201026Z
UID:10003550-1763657100-1763662500@palmvalleycommunity.org
SUMMARY:Martial Arts Class
DESCRIPTION:
URL:https://palmvalleycommunity.org/event/martial-arts-class/2025-11-20/
LOCATION:Palm Valley Community Association Center\, 148 Canal Blvd.\, Ponte Vedra Beach\, FL\, 32082\, United States
END:VEVENT
BEGIN:VEVENT
DTSTART;TZID=America/New_York:20251120T093000
DTEND;TZID=America/New_York:20251120T113000
DTSTAMP:20260423T014613
CREATED:20250530T171451Z
LAST-MODIFIED:20250530T171451Z
UID:10003498-1763631000-1763638200@palmvalleycommunity.org
SUMMARY:Home School Music Classes by Studio L
DESCRIPTION:
URL:https://palmvalleycommunity.org/event/home-school-music-classes-by-studio-l/2025-11-20/
LOCATION:Palm Valley Community Association Center\, 148 Canal Blvd.\, Ponte Vedra Beach\, FL\, 32082\, United States
END:VEVENT
BEGIN:VEVENT
DTSTART;TZID=America/New_York:20251119T180000
DTEND;TZID=America/New_York:20251119T200000
DTSTAMP:20260423T014613
CREATED:20251022T234835Z
LAST-MODIFIED:20251022T234835Z
UID:10003784-1763575200-1763582400@palmvalleycommunity.org
SUMMARY:MUMFORD Academy of Irish Dance
DESCRIPTION:
URL:https://palmvalleycommunity.org/event/mumford-academy-of-irish-dance-4/2025-11-19/
LOCATION:Palm Valley Community Association Center\, 148 Canal Blvd.\, Ponte Vedra Beach\, FL\, 32082\, United States
END:VEVENT
BEGIN:VEVENT
DTSTART;TZID=America/New_York:20251118T183000
DTEND;TZID=America/New_York:20251118T203000
DTSTAMP:20260423T014613
CREATED:20250908T173915Z
LAST-MODIFIED:20250908T173915Z
UID:10003668-1763490600-1763497800@palmvalleycommunity.org
SUMMARY:Tammy McGee event
DESCRIPTION:
URL:https://palmvalleycommunity.org/event/tammy-mcgee-event/
LOCATION:Palm Valley Community Association Center\, 148 Canal Blvd.\, Ponte Vedra Beach\, FL\, 32082\, United States
END:VEVENT
BEGIN:VEVENT
DTSTART;TZID=America/New_York:20251118T181500
DTEND;TZID=America/New_York:20251118T203000
DTSTAMP:20260423T014613
CREATED:20250902T123829Z
LAST-MODIFIED:20250902T123829Z
UID:10003667-1763489700-1763497800@palmvalleycommunity.org
SUMMARY:McGee Craft Class
DESCRIPTION:
URL:https://palmvalleycommunity.org/event/mcgee-craft-class/
LOCATION:Palm Valley Community Association Center\, 148 Canal Blvd.\, Ponte Vedra Beach\, FL\, 32082\, United States
END:VEVENT
BEGIN:VEVENT
DTSTART;TZID=America/New_York:20251118T164500
DTEND;TZID=America/New_York:20251118T181500
DTSTAMP:20260423T014613
CREATED:20250825T201026Z
LAST-MODIFIED:20250825T201026Z
UID:10003549-1763484300-1763489700@palmvalleycommunity.org
SUMMARY:Martial Arts Class
DESCRIPTION:
URL:https://palmvalleycommunity.org/event/martial-arts-class/2025-11-18/
LOCATION:Palm Valley Community Association Center\, 148 Canal Blvd.\, Ponte Vedra Beach\, FL\, 32082\, United States
END:VEVENT
BEGIN:VEVENT
DTSTART;TZID=America/New_York:20251118T100000
DTEND;TZID=America/New_York:20251118T130000
DTSTAMP:20260423T014613
CREATED:20240517T224306Z
LAST-MODIFIED:20240517T224618Z
UID:10002889-1763460000-1763470800@palmvalleycommunity.org
SUMMARY:Palm Valley Farmers Market
DESCRIPTION:Join us each Tuesday from 10 AM – 1 PM (summer hours)\, rain or shine at the Palm Valley Community Center. We will have a variety of vendors to offer fresh produce\, baked goods\, sweet treats\, handcrafted jewelry\, skincare items\, starter plants/veggies and more! Make sure you follow the new Palm Valley Market for updated vendor listings. See you at the Market! \n 
URL:https://palmvalleycommunity.org/event/palm-valley-mini-farmers-market-2-2-2/2025-11-18/
LOCATION:Palm Valley Community Association Center\, 148 Canal Blvd.\, Ponte Vedra Beach\, FL\, 32082\, United States
ATTACH;FMTTYPE=image/jpeg:https://palmvalleycommunity.org/wp-content/uploads/2022/04/Palm-Valley-FM-Veggie-Banner_summer-scaled.jpg
ORGANIZER;CN="Events Committee":MAILTO:palmvalleycommunitycenter@gmail.com
END:VEVENT
BEGIN:VEVENT
DTSTART;TZID=America/New_York:20251117T183000
DTEND;TZID=America/New_York:20251117T203000
DTSTAMP:20260423T014613
CREATED:20250911T133752Z
LAST-MODIFIED:20250911T133752Z
UID:10003669-1763404200-1763411400@palmvalleycommunity.org
SUMMARY:Oceans Edge HOA meeting
DESCRIPTION:
URL:https://palmvalleycommunity.org/event/oceans-edge-hoa-meeting-7/
LOCATION:Palm Valley Community Association Center\, 148 Canal Blvd.\, Ponte Vedra Beach\, FL\, 32082\, United States
END:VEVENT
BEGIN:VEVENT
DTSTART;TZID=America/New_York:20251117T150000
DTEND;TZID=America/New_York:20251117T170000
DTSTAMP:20260423T014613
CREATED:20251016T205345Z
LAST-MODIFIED:20251016T205345Z
UID:10003774-1763391600-1763398800@palmvalleycommunity.org
SUMMARY:Flynn Event
DESCRIPTION:
URL:https://palmvalleycommunity.org/event/flynn-event-5/2025-11-17/
LOCATION:Palm Valley Community Association Center\, 148 Canal Blvd.\, Ponte Vedra Beach\, FL\, 32082\, United States
END:VEVENT
BEGIN:VEVENT
DTSTART;TZID=America/New_York:20251116T123000
DTEND;TZID=America/New_York:20251116T153000
DTSTAMP:20260423T014613
CREATED:20250121T223254Z
LAST-MODIFIED:20250121T223254Z
UID:10003190-1763296200-1763307000@palmvalleycommunity.org
SUMMARY:Family Bible luncheon events
DESCRIPTION:
URL:https://palmvalleycommunity.org/event/family-bible-luncheon-events/2025-11-16/
LOCATION:Palm Valley Community Association Center\, 148 Canal Blvd.\, Ponte Vedra Beach\, FL\, 32082\, United States
END:VEVENT
BEGIN:VEVENT
DTSTART;TZID=America/New_York:20251116T080000
DTEND;TZID=America/New_York:20251116T130000
DTSTAMP:20260423T014613
CREATED:20250122T210443Z
LAST-MODIFIED:20250122T210443Z
UID:10003249-1763280000-1763298000@palmvalleycommunity.org
SUMMARY:First Baptist Church of Ponte Vedra
DESCRIPTION:
URL:https://palmvalleycommunity.org/event/first-baptist-church-of-ponte-vedra-4/2025-11-16/
LOCATION:Palm Valley Community Association Center\, 148 Canal Blvd.\, Ponte Vedra Beach\, FL\, 32082\, United States
END:VEVENT
BEGIN:VEVENT
DTSTART;TZID=America/New_York:20251115T140000
DTEND;TZID=America/New_York:20251115T170000
DTSTAMP:20260423T014613
CREATED:20240916T184434Z
LAST-MODIFIED:20240916T184434Z
UID:10003151-1763215200-1763226000@palmvalleycommunity.org
SUMMARY:Branches of Christ Church
DESCRIPTION:
URL:https://palmvalleycommunity.org/event/branches-of-christ-church-30/2025-11-15/
LOCATION:Palm Valley Community Association Center\, 148 Canal Blvd.\, Ponte Vedra Beach\, FL\, 32082\, United States
END:VEVENT
END:VCALENDAR