BEGIN:VCALENDAR
VERSION:2.0
PRODID:-//PalmValleyCommunityAssociation - ECPv6.15.20//NONSGML v1.0//EN
CALSCALE:GREGORIAN
METHOD:PUBLISH
X-ORIGINAL-URL:https://palmvalleycommunity.org
X-WR-CALDESC:Events for PalmValleyCommunityAssociation
REFRESH-INTERVAL;VALUE=DURATION:PT1H
X-Robots-Tag:noindex
X-PUBLISHED-TTL:PT1H
BEGIN:VTIMEZONE
TZID:America/New_York
BEGIN:DAYLIGHT
TZOFFSETFROM:-0500
TZOFFSETTO:-0400
TZNAME:EDT
DTSTART:20250309T070000
END:DAYLIGHT
BEGIN:STANDARD
TZOFFSETFROM:-0400
TZOFFSETTO:-0500
TZNAME:EST
DTSTART:20251102T060000
END:STANDARD
BEGIN:DAYLIGHT
TZOFFSETFROM:-0500
TZOFFSETTO:-0400
TZNAME:EDT
DTSTART:20260308T070000
END:DAYLIGHT
BEGIN:STANDARD
TZOFFSETFROM:-0400
TZOFFSETTO:-0500
TZNAME:EST
DTSTART:20261101T060000
END:STANDARD
BEGIN:DAYLIGHT
TZOFFSETFROM:-0500
TZOFFSETTO:-0400
TZNAME:EDT
DTSTART:20270314T070000
END:DAYLIGHT
BEGIN:STANDARD
TZOFFSETFROM:-0400
TZOFFSETTO:-0500
TZNAME:EST
DTSTART:20271107T060000
END:STANDARD
END:VTIMEZONE
BEGIN:VEVENT
DTSTART;TZID=America/New_York:20260210T100000
DTEND;TZID=America/New_York:20260210T130000
DTSTAMP:20260422T175640
CREATED:20240517T224306Z
LAST-MODIFIED:20240517T224618Z
UID:10002901-1770717600-1770728400@palmvalleycommunity.org
SUMMARY:Palm Valley Farmers Market
DESCRIPTION:Join us each Tuesday from 10 AM – 1 PM (summer hours)\, rain or shine at the Palm Valley Community Center. We will have a variety of vendors to offer fresh produce\, baked goods\, sweet treats\, handcrafted jewelry\, skincare items\, starter plants/veggies and more! Make sure you follow the new Palm Valley Market for updated vendor listings. See you at the Market! \n 
URL:https://palmvalleycommunity.org/event/palm-valley-mini-farmers-market-2-2-2/2026-02-10/
LOCATION:Palm Valley Community Association Center\, 148 Canal Blvd.\, Ponte Vedra Beach\, FL\, 32082\, United States
ATTACH;FMTTYPE=image/jpeg:https://palmvalleycommunity.org/wp-content/uploads/2022/04/Palm-Valley-FM-Veggie-Banner_summer-scaled.jpg
ORGANIZER;CN="Events Committee":MAILTO:palmvalleycommunitycenter@gmail.com
END:VEVENT
BEGIN:VEVENT
DTSTART;TZID=America/New_York:20260210T164500
DTEND;TZID=America/New_York:20260210T181500
DTSTAMP:20260422T175640
CREATED:20250825T201026Z
LAST-MODIFIED:20250825T201026Z
UID:10003573-1770741900-1770747300@palmvalleycommunity.org
SUMMARY:Martial Arts Class
DESCRIPTION:
URL:https://palmvalleycommunity.org/event/martial-arts-class/2026-02-10/
LOCATION:Palm Valley Community Association Center\, 148 Canal Blvd.\, Ponte Vedra Beach\, FL\, 32082\, United States
END:VEVENT
END:VCALENDAR